BEGIN:VCALENDAR
VERSION:2.0
PRODID:-//Church Street Family - ECPv6.15.12.2//NONSGML v1.0//EN
CALSCALE:GREGORIAN
METHOD:PUBLISH
X-WR-CALNAME:Church Street Family
X-ORIGINAL-URL:https://churchstreetfamily.com
X-WR-CALDESC:Events for Church Street Family
REFRESH-INTERVAL;VALUE=DURATION:PT1H
X-Robots-Tag:noindex
X-PUBLISHED-TTL:PT1H
BEGIN:VTIMEZONE
TZID:America/Chicago
BEGIN:DAYLIGHT
TZOFFSETFROM:-0600
TZOFFSETTO:-0500
TZNAME:CDT
DTSTART:20230312T080000
END:DAYLIGHT
BEGIN:STANDARD
TZOFFSETFROM:-0500
TZOFFSETTO:-0600
TZNAME:CST
DTSTART:20231105T070000
END:STANDARD
BEGIN:DAYLIGHT
TZOFFSETFROM:-0600
TZOFFSETTO:-0500
TZNAME:CDT
DTSTART:20240310T080000
END:DAYLIGHT
BEGIN:STANDARD
TZOFFSETFROM:-0500
TZOFFSETTO:-0600
TZNAME:CST
DTSTART:20241103T070000
END:STANDARD
BEGIN:DAYLIGHT
TZOFFSETFROM:-0600
TZOFFSETTO:-0500
TZNAME:CDT
DTSTART:20250309T080000
END:DAYLIGHT
BEGIN:STANDARD
TZOFFSETFROM:-0500
TZOFFSETTO:-0600
TZNAME:CST
DTSTART:20251102T070000
END:STANDARD
END:VTIMEZONE
BEGIN:VEVENT
DTSTART;TZID=America/Chicago:20240511T180000
DTEND;TZID=America/Chicago:20240511T210000
DTSTAMP:20260425T100107
CREATED:20240428T165445Z
LAST-MODIFIED:20240428T165445Z
UID:10001063-1715450400-1715461200@churchstreetfamily.com
SUMMARY:Saturday at the Shoppe - PROVIDENCE
DESCRIPTION:Your one-stop shoppe with LIVE MUSIC and FINE WINES.  \nSpend your Saturday evening socializing with fellow wine lovers while enjoying live music by local talent.
URL:https://churchstreetfamily.com/event/saturday-at-the-shoppe-providence-3/
LOCATION:ChurchStreet Wine Shoppe Providence\, 485 Providence Main Street Suite 101\, Huntsville\, 35806\, United States
ATTACH;FMTTYPE=image/png:https://churchstreetfamily.com/wp-content/uploads/2024/04/PR-May-11-24.png
ORGANIZER;CN="ChurchStreet Family":MAILTO:hello@churchstreetfamily.com
END:VEVENT
BEGIN:VEVENT
DTSTART;TZID=America/Chicago:20240511T173000
DTEND;TZID=America/Chicago:20240511T203000
DTSTAMP:20260425T100107
CREATED:20240428T164743Z
LAST-MODIFIED:20240428T164743Z
UID:10001059-1715448600-1715459400@churchstreetfamily.com
SUMMARY:Saturday at the Shoppe - DOWNTOWN
DESCRIPTION:Your one-stop shoppe with LIVE MUSIC and FINE WINES.  \nSpend your Saturday evening socializing with fellow wine lovers while enjoying live music by local talent.
URL:https://churchstreetfamily.com/event/saturday-at-the-shoppe-downtown-2/
LOCATION:ChurchStreet Wine Shoppe Downtown\, 501 Church Street NW\, Huntsville\, 35801\, United States
ATTACH;FMTTYPE=image/png:https://churchstreetfamily.com/wp-content/uploads/2024/04/DT-May-11-24.png
ORGANIZER;CN="ChurchStreet Family":MAILTO:hello@churchstreetfamily.com
END:VEVENT
BEGIN:VEVENT
DTSTART;TZID=America/Chicago:20240510T170000
DTEND;TZID=America/Chicago:20240510T190000
DTSTAMP:20260425T100107
CREATED:20240508T185028Z
LAST-MODIFIED:20240508T185028Z
UID:10001096-1715360400-1715367600@churchstreetfamily.com
SUMMARY:Sip and Shop
DESCRIPTION:Join us for a 𝘚𝘪𝘱 𝘢𝘯𝘥 𝘚𝘩𝘰𝘱 this Friday! We’ll have the newest summer launch by Edge of Eade\, permanent jewelry by Linked by Madilyn\, and some complimentary wine tastings while you shop. 𝘛𝘦𝘹𝘵 𝘴𝘰𝘮𝘦 𝘧𝘳𝘪𝘦𝘯𝘥𝘴 𝘢𝘯𝘥 𝘸𝘦’𝘭𝘭 𝘴𝘦𝘦 𝘺𝘰𝘶 𝘵𝘩𝘦𝘳𝘦!⁣⁣\n⁣⁣ \n⁣⁣\n⁣⁣\n⁣⁣\n#Sip&Shop #Huntsville #DowntownHsv
URL:https://churchstreetfamily.com/event/sip-and-shop/
LOCATION:ChurchStreet Wine Shoppe Downtown\, 501 Church Street NW\, Huntsville\, 35801\, United States
ATTACH;FMTTYPE=image/png:https://churchstreetfamily.com/wp-content/uploads/2024/05/Sip-and-shop-2-2.png
ORGANIZER;CN="ChurchStreet Family":MAILTO:hello@churchstreetfamily.com
END:VEVENT
BEGIN:VEVENT
DTSTART;TZID=America/Chicago:20240509T180000
DTEND;TZID=America/Chicago:20240509T210000
DTSTAMP:20260425T100107
CREATED:20240428T170215Z
LAST-MODIFIED:20240428T170215Z
UID:10001067-1715277600-1715288400@churchstreetfamily.com
SUMMARY:Live Music at the Shoppe - PROVIDENCE
DESCRIPTION:Start your weekend off right with live music at the Shoppe beginning at 6 pm.  \nShowcasing local artists\, fine wines and a fabulous seasonal menu.  \n#Uncork and #Unwine with us!
URL:https://churchstreetfamily.com/event/live-music-at-the-shoppe-providence-46/
LOCATION:ChurchStreet Wine Shoppe Providence\, 485 Providence Main Street Suite 101\, Huntsville\, 35806\, United States
ATTACH;FMTTYPE=image/png:https://churchstreetfamily.com/wp-content/uploads/2024/04/PR-May-9-24.png
ORGANIZER;CN="ChurchStreet Family":MAILTO:hello@churchstreetfamily.com
END:VEVENT
BEGIN:VEVENT
DTSTART;TZID=America/Chicago:20240509T173000
DTEND;TZID=America/Chicago:20240509T203000
DTSTAMP:20260425T100107
CREATED:20240428T172358Z
LAST-MODIFIED:20240428T172358Z
UID:10001076-1715275800-1715286600@churchstreetfamily.com
SUMMARY:Live Music at Mazzaras - DOWNTOWN
DESCRIPTION:Start your weekend off right with wine and live music at Mazzaras beginning at 5:30 pm every Thursday. \n Showcasing local talent\, fine wines\, and made-from-scratch Italian favorites!  \n#UNCORK and #UNWINE with us!
URL:https://churchstreetfamily.com/event/live-music-at-mazzaras-downtown-9/
LOCATION:Mazzara’s\, 102 Gates Ave SW\, Huntsville\, AL\, 35801\, United States
ATTACH;FMTTYPE=image/png:https://churchstreetfamily.com/wp-content/uploads/2024/04/MZ-May-9-24.png
ORGANIZER;CN="ChurchStreet Family":MAILTO:hello@churchstreetfamily.com
END:VEVENT
BEGIN:VEVENT
DTSTART;TZID=America/Chicago:20240508T170000
DTEND;TZID=America/Chicago:20240508T200000
DTSTAMP:20260425T100107
CREATED:20240428T173203Z
LAST-MODIFIED:20240428T173203Z
UID:10001081-1715187600-1715198400@churchstreetfamily.com
SUMMARY:Patio Series at Purveyor
DESCRIPTION:Need a midweek pick-me-up?  \nHow about some live music with our #PurveyorPatioSeries? 𝘛𝘦𝘹𝘵 𝘴𝘰𝘮𝘦 𝘧𝘳𝘪𝘦𝘯𝘥𝘴 𝘵𝘰 𝘫𝘰𝘪𝘯 𝘺𝘰𝘶 𝘢𝘯𝘥 𝘸𝘦’𝘭𝘭 𝘴𝘦𝘦 𝘺𝘰𝘶 𝘵𝘩𝘦𝘳𝘦!⁣⁣\n⁣⁣\n𝐏𝐮𝐫𝐯𝐞𝐲𝐨𝐫 𝐏𝐚𝐭𝐢𝐨 | 𝟐𝟎𝟏 𝐉𝐞𝐟𝐟𝐞𝐫𝐬𝐨𝐧 𝐒𝐭𝐫𝐞𝐞𝐭⁣⁣\n⁣\n⁣⁣\n#livemusic #huntsvilleAL #downtown⁣\n⁣⁣⁣
URL:https://churchstreetfamily.com/event/patio-series-at-purveyor-5/
LOCATION:Purveyor\, 201 Jefferson Street N\, Huntsville\, AL\, 35801\, United States
ATTACH;FMTTYPE=image/png:https://churchstreetfamily.com/wp-content/uploads/2024/04/PV-may-8-24.png
ORGANIZER;CN="ChurchStreet Family":MAILTO:hello@churchstreetfamily.com
END:VEVENT
BEGIN:VEVENT
DTSTART;TZID=America/Chicago:20240505T130000
DTEND;TZID=America/Chicago:20240505T160000
DTSTAMP:20260425T100107
CREATED:20240428T171359Z
LAST-MODIFIED:20240428T171442Z
UID:10001071-1714914000-1714924800@churchstreetfamily.com
SUMMARY:Sidewalk Series at Sea Salt
DESCRIPTION:We’d love to see you for some seafood and live music!  \nJoin us for the Sunday Sidewalk Series with live music by local musicians from 1-4 p.m.!⁣ ⁣
URL:https://churchstreetfamily.com/event/sidewalk-series-at-seasalt/
LOCATION:Sea Salt\, 114 Clinton Ave E\, Huntsville\, AL\, 35801\, United States
ATTACH;FMTTYPE=image/png:https://churchstreetfamily.com/wp-content/uploads/2024/04/SS-may-5-24.png
ORGANIZER;CN="ChurchStreet Family":MAILTO:hello@churchstreetfamily.com
END:VEVENT
BEGIN:VEVENT
DTSTART;TZID=America/Chicago:20240504T180000
DTEND;TZID=America/Chicago:20240504T210000
DTSTAMP:20260425T100107
CREATED:20240428T165328Z
LAST-MODIFIED:20240428T165328Z
UID:10001062-1714845600-1714856400@churchstreetfamily.com
SUMMARY:Saturday at the Shoppe - PROVIDENCE
DESCRIPTION:Your one-stop shoppe with LIVE MUSIC and FINE WINES.  \nSpend your Saturday evening socializing with fellow wine lovers while enjoying live music by local talent.
URL:https://churchstreetfamily.com/event/saturday-at-the-shoppe-providence-2/
LOCATION:ChurchStreet Wine Shoppe Providence\, 485 Providence Main Street Suite 101\, Huntsville\, 35806\, United States
ATTACH;FMTTYPE=image/png:https://churchstreetfamily.com/wp-content/uploads/2024/04/PR-May-4-24.png
ORGANIZER;CN="ChurchStreet Family":MAILTO:hello@churchstreetfamily.com
END:VEVENT
BEGIN:VEVENT
DTSTART;TZID=America/Chicago:20240504T173000
DTEND;TZID=America/Chicago:20240504T203000
DTSTAMP:20260425T100107
CREATED:20240428T164629Z
LAST-MODIFIED:20240428T164807Z
UID:10001058-1714843800-1714854600@churchstreetfamily.com
SUMMARY:Saturday at the Shoppe - DOWNTOWN
DESCRIPTION:Your one-stop shoppe with LIVE MUSIC and FINE WINES.  \nSpend your Saturday evening socializing with fellow wine lovers while enjoying live music by local talent.
URL:https://churchstreetfamily.com/event/saturdays-at-the-shoppe-downtown/
LOCATION:ChurchStreet Wine Shoppe Downtown\, 501 Church Street NW\, Huntsville\, 35801\, United States
ATTACH;FMTTYPE=image/png:https://churchstreetfamily.com/wp-content/uploads/2024/04/DT-May-4-24-20.png
ORGANIZER;CN="ChurchStreet Family":MAILTO:hello@churchstreetfamily.com
END:VEVENT
BEGIN:VEVENT
DTSTART;TZID=America/Chicago:20240504T140000
DTEND;TZID=America/Chicago:20240504T170000
DTSTAMP:20260425T100107
CREATED:20240428T180341Z
LAST-MODIFIED:20240428T180341Z
UID:10001094-1714831200-1714842000@churchstreetfamily.com
SUMMARY:The Art Of Wine at the Shoppe - PROVIDENCE
DESCRIPTION:Paintings and Art by local artists along with special wine tastings – it’s the perfect place to spend your Saturday!
URL:https://churchstreetfamily.com/event/the-art-of-wine-at-the-shoppe-providence/
LOCATION:ChurchStreet Wine Shoppe Providence\, 485 Providence Main Street Suite 101\, Huntsville\, 35806\, United States
ATTACH;FMTTYPE=image/jpeg:https://churchstreetfamily.com/wp-content/uploads/2024/04/5.4.24.jpg
ORGANIZER;CN="ChurchStreet Family":MAILTO:hello@churchstreetfamily.com
END:VEVENT
BEGIN:VEVENT
DTSTART;TZID=America/Chicago:20240502T180000
DTEND;TZID=America/Chicago:20240502T210000
DTSTAMP:20260425T100107
CREATED:20240428T170054Z
LAST-MODIFIED:20240428T170054Z
UID:10001066-1714672800-1714683600@churchstreetfamily.com
SUMMARY:Live Music at the Shoppe - PROVIDENCE
DESCRIPTION:Start your weekend off right with live music at the Shoppe beginning at 6 pm.  \nShowcasing local artists\, fine wines and a fabulous seasonal menu.  \n#Uncork and #Unwine with us!
URL:https://churchstreetfamily.com/event/live-music-at-the-shoppe-providence-45/
LOCATION:ChurchStreet Wine Shoppe Providence\, 485 Providence Main Street Suite 101\, Huntsville\, 35806\, United States
ATTACH;FMTTYPE=image/png:https://churchstreetfamily.com/wp-content/uploads/2024/04/PR-May-2-24.png
ORGANIZER;CN="ChurchStreet Family":MAILTO:hello@churchstreetfamily.com
END:VEVENT
BEGIN:VEVENT
DTSTART;TZID=America/Chicago:20240502T173000
DTEND;TZID=America/Chicago:20240502T203000
DTSTAMP:20260425T100107
CREATED:20240428T172249Z
LAST-MODIFIED:20240428T172249Z
UID:10001075-1714671000-1714681800@churchstreetfamily.com
SUMMARY:Live Music at Mazzaras - DOWNTOWN
DESCRIPTION:Start your weekend off right with wine and live music at Mazzaras beginning at 5:30 pm every Thursday. \n Showcasing local talent\, fine wines\, and made-from-scratch Italian favorites!  \n#UNCORK and #UNWINE with us!
URL:https://churchstreetfamily.com/event/live-music-at-mazzaras-downtown-8/
LOCATION:Mazzara’s\, 102 Gates Ave SW\, Huntsville\, AL\, 35801\, United States
ATTACH;FMTTYPE=image/png:https://churchstreetfamily.com/wp-content/uploads/2024/04/MZ-May-2-24.png
ORGANIZER;CN="ChurchStreet Family":MAILTO:hello@churchstreetfamily.com
END:VEVENT
BEGIN:VEVENT
DTSTART;TZID=America/Chicago:20240501T180000
DTEND;TZID=America/Chicago:20240501T180000
DTSTAMP:20260425T100107
CREATED:20240408T010244Z
LAST-MODIFIED:20240411T144948Z
UID:10000976-1714586400-1714586400@churchstreetfamily.com
SUMMARY:Brim Bar at ChurchStreet Wine Shoppe - DOWNTOWN
DESCRIPTION:THE BRIM BAR © –  A Curated Hat Experience \nAlabama’s original curated hat experience is popping up at ChurchStreet Wine Shoppe for a fun Derby inspired event! \nHOW IT WORKS: Founded in 2021\, The Brim Bar is a curated hat experience where you have the opportunity to design your own one-of-a-kind hat! \nWith our collection of vintage scarves and brooches\, dried florals\, feathers\, cording\, and more\, the possibilities are endless. We pride ourselves on curating the MOST unique selection of bar items to style your hat with. \nWhether you are wanting something bold and over the top\, or if you prefer something a little more understated\, The Brim Bar holds all the accessories you will need to design a unique hat! \nDuring the experience\, you’ll have the opportunity to select from several hat styles – fedora and wide brim. Each hat comes in a variety of colors to choose from and are size adjustable. \nYour ticket includes a high quality synthetic felt brim\, but our 100% wool felt Signature Brims can be purchased for an additional $30 at the event. \nOnce you’ve selected your base brim\, our experienced Bartenders will walk you through the process of curating your items from the bar\, and then put your hat together for you. \nTICKET LINK : https://tickets.bestofhuntsville.com//events/152947
URL:https://churchstreetfamily.com/event/brim-bar-at-churchstreet-wine-shoppe-downtown/
LOCATION:ChurchStreet Wine Shoppe Downtown\, 501 Church Street NW\, Huntsville\, 35801\, United States
ATTACH;FMTTYPE=image/png:https://churchstreetfamily.com/wp-content/uploads/2024/04/brim-bar-1.png
ORGANIZER;CN="ChurchStreet Family":MAILTO:hello@churchstreetfamily.com
END:VEVENT
BEGIN:VEVENT
DTSTART;TZID=America/Chicago:20240501T170000
DTEND;TZID=America/Chicago:20240501T200000
DTSTAMP:20260425T100107
CREATED:20240428T173056Z
LAST-MODIFIED:20240428T173057Z
UID:10001080-1714582800-1714593600@churchstreetfamily.com
SUMMARY:Patio Series at Purveyor
DESCRIPTION:Need a midweek pick-me-up?  \nHow about some live music with our #PurveyorPatioSeries? 𝘛𝘦𝘹𝘵 𝘴𝘰𝘮𝘦 𝘧𝘳𝘪𝘦𝘯𝘥𝘴 𝘵𝘰 𝘫𝘰𝘪𝘯 𝘺𝘰𝘶 𝘢𝘯𝘥 𝘸𝘦’𝘭𝘭 𝘴𝘦𝘦 𝘺𝘰𝘶 𝘵𝘩𝘦𝘳𝘦!⁣⁣\n⁣⁣\n𝐏𝐮𝐫𝐯𝐞𝐲𝐨𝐫 𝐏𝐚𝐭𝐢𝐨 | 𝟐𝟎𝟏 𝐉𝐞𝐟𝐟𝐞𝐫𝐬𝐨𝐧 𝐒𝐭𝐫𝐞𝐞𝐭⁣⁣\n⁣\n⁣⁣\n#livemusic #huntsvilleAL #downtown⁣\n⁣⁣⁣
URL:https://churchstreetfamily.com/event/patio-series-at-purveyor-4/
LOCATION:Purveyor\, 201 Jefferson Street N\, Huntsville\, AL\, 35801\, United States
ATTACH;FMTTYPE=image/png:https://churchstreetfamily.com/wp-content/uploads/2024/04/PV-may-1-24.png
ORGANIZER;CN="ChurchStreet Family":MAILTO:hello@churchstreetfamily.com
END:VEVENT
BEGIN:VEVENT
DTSTART;TZID=America/Chicago:20240430T180000
DTEND;TZID=America/Chicago:20240430T200000
DTSTAMP:20260425T100107
CREATED:20240408T031324Z
LAST-MODIFIED:20240408T031324Z
UID:10001053-1714500000-1714507200@churchstreetfamily.com
SUMMARY:Tuesday Trivia at Pourhouse
DESCRIPTION:Come join us for a fun-filled night of weekly trivia and drinks on the lawn!  \nIt’s something new every week so come test your knowledge while socializing with friends.
URL:https://churchstreetfamily.com/event/tuesday-trivia-at-pourhouse-10/
LOCATION:Pourhouse\, 3414 Governors Drive\, Huntsville\, AL\, 35805\, United States
ATTACH;FMTTYPE=image/jpeg:https://churchstreetfamily.com/wp-content/uploads/2024/04/04.30-1.jpg
ORGANIZER;CN="ChurchStreet Family":MAILTO:hello@churchstreetfamily.com
END:VEVENT
BEGIN:VEVENT
DTSTART;TZID=America/Chicago:20240429T180000
DTEND;TZID=America/Chicago:20240429T200000
DTSTAMP:20260425T100107
CREATED:20240408T033202Z
LAST-MODIFIED:20240419T200616Z
UID:10001057-1714413600-1714420800@churchstreetfamily.com
SUMMARY:Purveyor Supper Club
DESCRIPTION:MEET THE WINEMAKER – Supper Club in downtown Huntsville offers an enchanting culinary journey through the vibrant flavors of Oregon Wines\, by a Huntsville favorite; Rob Stuart\, of R.Stuart Winery – nestled in the heart of the McMinnville OR. This exclusive supper club invites guests to indulge in a meticulously curated four-course dinner experience expertly paired with Oregon Wines – narrated by Rob Stuart\, the winemaker himself! \nSave your seat: https://tickets.bestofhuntsville.com//events/april-supper-club-4-28-2024/tickets \n  \n 
URL:https://churchstreetfamily.com/event/purveyor-supper-club/
LOCATION:Purveyor\, 201 Jefferson Street N\, Huntsville\, AL\, 35801\, United States
ATTACH;FMTTYPE=image/jpeg:https://churchstreetfamily.com/wp-content/uploads/2024/04/Apr-24-SC-Calendar-6.jpg
ORGANIZER;CN="ChurchStreet Family":MAILTO:hello@churchstreetfamily.com
END:VEVENT
BEGIN:VEVENT
DTSTART;TZID=America/Chicago:20240428T130000
DTEND;TZID=America/Chicago:20240428T160000
DTSTAMP:20260425T100107
CREATED:20240408T030845Z
LAST-MODIFIED:20240408T030845Z
UID:10001050-1714309200-1714320000@churchstreetfamily.com
SUMMARY:Sunday Sidewalk Series at Sea Salt
DESCRIPTION:We’d love to see you for some seafood and live music!  \nJoin us for the Sunday Sidewalk Series with live music by local musicians from 1-4 p.m.!⁣ ⁣
URL:https://churchstreetfamily.com/event/sunday-sidewalk-series-at-sea-salt-3/
LOCATION:Sea Salt\, 114 Clinton Ave E\, Huntsville\, AL\, 35801\, United States
ATTACH;FMTTYPE=image/png:https://churchstreetfamily.com/wp-content/uploads/2024/04/04.28-SS.png
ORGANIZER;CN="ChurchStreet Family":MAILTO:hello@churchstreetfamily.com
END:VEVENT
BEGIN:VEVENT
DTSTART;TZID=America/Chicago:20240427T180000
DTEND;TZID=America/Chicago:20240427T210000
DTSTAMP:20260425T100107
CREATED:20240408T024729Z
LAST-MODIFIED:20240408T024729Z
UID:10001044-1714240800-1714251600@churchstreetfamily.com
SUMMARY:Live Music at the Shoppe - PROVIDENCE
DESCRIPTION:Your one-stop shoppe with LIVE MUSIC and FINE WINES. \n Spend your Saturday evening socializing with fellow wine lovers while enjoying live music by local talent.
URL:https://churchstreetfamily.com/event/live-music-at-the-shoppe-providence-44/
LOCATION:ChurchStreet Wine Shoppe Providence\, 485 Providence Main Street Suite 101\, Huntsville\, 35806\, United States
ATTACH;FMTTYPE=image/png:https://churchstreetfamily.com/wp-content/uploads/2024/04/PR-APRIL-27.png
ORGANIZER;CN="ChurchStreet Family":MAILTO:hello@churchstreetfamily.com
END:VEVENT
BEGIN:VEVENT
DTSTART;TZID=America/Chicago:20240425T180000
DTEND;TZID=America/Chicago:20240425T210000
DTSTAMP:20260425T100107
CREATED:20240408T023104Z
LAST-MODIFIED:20240408T023104Z
UID:10001039-1714068000-1714078800@churchstreetfamily.com
SUMMARY:Live Music at the Shoppe - PROVIDENCE
DESCRIPTION:Start your weekend off right with live music at the Shoppe beginning at 6 pm. \nShowcasing local artists\, fine wines\, and a fabulous seasonal menu. \n#Uncork and #Unwine with us!
URL:https://churchstreetfamily.com/event/live-music-at-the-shoppe-providence-41/
LOCATION:ChurchStreet Wine Shoppe Providence\, 485 Providence Main Street Suite 101\, Huntsville\, 35806\, United States
ATTACH;FMTTYPE=image/png:https://churchstreetfamily.com/wp-content/uploads/2024/04/PR-4.25.png
ORGANIZER;CN="ChurchStreet Family":MAILTO:hello@churchstreetfamily.com
END:VEVENT
BEGIN:VEVENT
DTSTART;TZID=America/Chicago:20240425T173000
DTEND;TZID=America/Chicago:20240425T203000
DTSTAMP:20260425T100107
CREATED:20240408T025809Z
LAST-MODIFIED:20240408T025809Z
UID:10001047-1714066200-1714077000@churchstreetfamily.com
SUMMARY:Live Music at Mazzaras - DOWNTOWN
DESCRIPTION:Start your weekend off right with wine and live music at Mazzaras beginning at 5:30 pm every Thursday.  \nShowcasing local talent\, fine wines\, and made-from-scratch Italian favorites!  \n#UNCORK and #UNWINE with us!
URL:https://churchstreetfamily.com/event/live-music-at-mazzaras-downtown-7/
LOCATION:Mazzara’s\, 102 Gates Ave SW\, Huntsville\, AL\, 35801\, United States
ATTACH;FMTTYPE=image/png:https://churchstreetfamily.com/wp-content/uploads/2024/04/4.25.24.png
ORGANIZER;CN="ChurchStreet Family":MAILTO:hello@churchstreetfamily.com
END:VEVENT
BEGIN:VEVENT
DTSTART;TZID=America/Chicago:20240424T170000
DTEND;TZID=America/Chicago:20240424T200000
DTSTAMP:20260425T100107
CREATED:20240408T032554Z
LAST-MODIFIED:20240408T032554Z
UID:10001056-1713978000-1713988800@churchstreetfamily.com
SUMMARY:Patio Series at Purveyor
DESCRIPTION:Live music on the patio just hits differently\, right?  \nJoin us for live music on the patio and #WineDown on Wednesdays!\n⁣
URL:https://churchstreetfamily.com/event/patio-series-at-purveyor-3/
LOCATION:Purveyor\, 201 Jefferson Street N\, Huntsville\, AL\, 35801\, United States
ATTACH;FMTTYPE=image/png:https://churchstreetfamily.com/wp-content/uploads/2024/04/4.24PV.png
ORGANIZER;CN="ChurchStreet Family":MAILTO:hello@churchstreetfamily.com
END:VEVENT
BEGIN:VEVENT
DTSTART;TZID=America/Chicago:20240423T180000
DTEND;TZID=America/Chicago:20240423T200000
DTSTAMP:20260425T100107
CREATED:20240408T031217Z
LAST-MODIFIED:20240408T031217Z
UID:10001052-1713895200-1713902400@churchstreetfamily.com
SUMMARY:Tuesday Trivia at Pourhouse
DESCRIPTION:Come join us for a fun-filled night of weekly trivia and drinks on the lawn!  \nIt’s something new every week so come test your knowledge while socializing with friends.
URL:https://churchstreetfamily.com/event/tuesday-trivia-at-pourhouse-9/
LOCATION:Pourhouse\, 3414 Governors Drive\, Huntsville\, AL\, 35805\, United States
ATTACH;FMTTYPE=image/jpeg:https://churchstreetfamily.com/wp-content/uploads/2024/04/04.23-1.jpg
ORGANIZER;CN="ChurchStreet Family":MAILTO:hello@churchstreetfamily.com
END:VEVENT
BEGIN:VEVENT
DTSTART;TZID=America/Chicago:20240421T130000
DTEND;TZID=America/Chicago:20240421T160000
DTSTAMP:20260425T100107
CREATED:20240408T030710Z
LAST-MODIFIED:20240408T030710Z
UID:10001049-1713704400-1713715200@churchstreetfamily.com
SUMMARY:Sunday Sidewalk Series at Sea Salt
DESCRIPTION:We’d love to see you for some seafood and live music! \n Join us for the Sunday Sidewalk Series with live music by local musicians from 1-4 p.m.!⁣ ⁣
URL:https://churchstreetfamily.com/event/sunday-sidewalk-series-at-sea-salt-2/
LOCATION:Sea Salt\, 114 Clinton Ave E\, Huntsville\, AL\, 35801\, United States
ATTACH;FMTTYPE=image/png:https://churchstreetfamily.com/wp-content/uploads/2024/04/04.21-SS.png
ORGANIZER;CN="ChurchStreet Family":MAILTO:hello@churchstreetfamily.com
END:VEVENT
BEGIN:VEVENT
DTSTART;TZID=America/Chicago:20240420T180000
DTEND;TZID=America/Chicago:20240420T210000
DTSTAMP:20260425T100107
CREATED:20240408T024619Z
LAST-MODIFIED:20240408T024619Z
UID:10001043-1713636000-1713646800@churchstreetfamily.com
SUMMARY:Live Music at the Shoppe - PROVIDENCE
DESCRIPTION:Your one-stop shoppe with LIVE MUSIC and FINE WINES.  \nSpend your Saturday evening socializing with fellow wine lovers while enjoying live music by local talent.
URL:https://churchstreetfamily.com/event/live-music-at-the-shoppe-providence-43/
LOCATION:ChurchStreet Wine Shoppe Providence\, 485 Providence Main Street Suite 101\, Huntsville\, 35806\, United States
ATTACH;FMTTYPE=image/png:https://churchstreetfamily.com/wp-content/uploads/2024/04/PR-APRIL-20.png
ORGANIZER;CN="ChurchStreet Family":MAILTO:hello@churchstreetfamily.com
END:VEVENT
BEGIN:VEVENT
DTSTART;TZID=America/Chicago:20240420T173000
DTEND;TZID=America/Chicago:20240420T203000
DTSTAMP:20260425T100107
CREATED:20240408T024333Z
LAST-MODIFIED:20240408T024333Z
UID:10001042-1713634200-1713645000@churchstreetfamily.com
SUMMARY:Live Music at the Shoppe - DOWNTOWN
DESCRIPTION:Your one-stop shoppe with LIVE MUSIC and FINE WINES. \n Spend your Saturday evening socializing with fellow wine lovers while enjoying live music by local talent.
URL:https://churchstreetfamily.com/event/live-music-at-the-shoppe-downtown-42/
LOCATION:AL
ATTACH;FMTTYPE=image/png:https://churchstreetfamily.com/wp-content/uploads/2024/04/DT-APRIL-20.png
ORGANIZER;CN="ChurchStreet Family":MAILTO:hello@churchstreetfamily.com
END:VEVENT
BEGIN:VEVENT
DTSTART;TZID=America/Chicago:20240418T180000
DTEND;TZID=America/Chicago:20240418T210000
DTSTAMP:20260425T100107
CREATED:20240408T022942Z
LAST-MODIFIED:20240408T022942Z
UID:10001038-1713463200-1713474000@churchstreetfamily.com
SUMMARY:Live Music at the Shoppe - PROVIDENCE
DESCRIPTION:Start your weekend off right with live music at the Shoppe beginning at 6 pm. \nShowcasing local artists\, fine wines\, and a fabulous seasonal menu. \n#Uncork and #Unwine with us!
URL:https://churchstreetfamily.com/event/live-music-at-the-shoppe-providence-40/
LOCATION:ChurchStreet Wine Shoppe Providence\, 485 Providence Main Street Suite 101\, Huntsville\, 35806\, United States
ATTACH;FMTTYPE=image/png:https://churchstreetfamily.com/wp-content/uploads/2024/04/PR-4.18.png
ORGANIZER;CN="ChurchStreet Family":MAILTO:hello@churchstreetfamily.com
END:VEVENT
BEGIN:VEVENT
DTSTART;TZID=America/Chicago:20240418T173000
DTEND;TZID=America/Chicago:20240418T203000
DTSTAMP:20260425T100107
CREATED:20240408T025637Z
LAST-MODIFIED:20240408T025637Z
UID:10001046-1713461400-1713472200@churchstreetfamily.com
SUMMARY:Live Music at Mazzaras - DOWNTOWN
DESCRIPTION:Start your weekend off right with wine and live music at Mazzaras beginning at 5:30 pm every Thursday.  \nShowcasing local talent\, fine wines\, and made-from-scratch Italian favorites!  \n#UNCORK and #UNWINE with us!
URL:https://churchstreetfamily.com/event/live-music-at-mazzaras-downtown-6/
LOCATION:Mazzara’s\, 102 Gates Ave SW\, Huntsville\, AL\, 35801\, United States
ATTACH;FMTTYPE=image/png:https://churchstreetfamily.com/wp-content/uploads/2024/04/4.18.24.png
ORGANIZER;CN="ChurchStreet Family":MAILTO:hello@churchstreetfamily.com
END:VEVENT
BEGIN:VEVENT
DTSTART;TZID=America/Chicago:20240417T170000
DTEND;TZID=America/Chicago:20240417T200000
DTSTAMP:20260425T100107
CREATED:20240408T032443Z
LAST-MODIFIED:20240408T032443Z
UID:10001055-1713373200-1713384000@churchstreetfamily.com
SUMMARY:Patio Series at Purveyor
DESCRIPTION:Live music on the patio just hits differently\, right?  \nJoin us for live music on the patio and #WineDown on Wednesdays!\n⁣
URL:https://churchstreetfamily.com/event/patio-series-at-purveyor-2/
LOCATION:Purveyor\, 201 Jefferson Street N\, Huntsville\, AL\, 35801\, United States
ATTACH;FMTTYPE=image/png:https://churchstreetfamily.com/wp-content/uploads/2024/04/4.17PV.png
ORGANIZER;CN="ChurchStreet Family":MAILTO:hello@churchstreetfamily.com
END:VEVENT
BEGIN:VEVENT
DTSTART;TZID=America/Chicago:20240416T180000
DTEND;TZID=America/Chicago:20240416T200000
DTSTAMP:20260425T100107
CREATED:20240408T031107Z
LAST-MODIFIED:20240408T031107Z
UID:10001051-1713290400-1713297600@churchstreetfamily.com
SUMMARY:Tuesday Trivia at Pourhouse
DESCRIPTION:Come join us for a fun-filled night of weekly trivia and drinks on the lawn!  \nIt’s something new every week so come test your knowledge while socializing with friends.
URL:https://churchstreetfamily.com/event/tuesday-trivia-at-pourhouse-8/
LOCATION:Pourhouse\, 3414 Governors Drive\, Huntsville\, AL\, 35805\, United States
ATTACH;FMTTYPE=image/jpeg:https://churchstreetfamily.com/wp-content/uploads/2024/04/04.16-1.jpg
END:VEVENT
BEGIN:VEVENT
DTSTART;TZID=America/Chicago:20240414T130000
DTEND;TZID=America/Chicago:20240414T160000
DTSTAMP:20260425T100107
CREATED:20240408T030539Z
LAST-MODIFIED:20240408T030539Z
UID:10001048-1713099600-1713110400@churchstreetfamily.com
SUMMARY:Sunday Sidewalk Series at Sea Salt
DESCRIPTION:We’d love to see you for some seafood and live music!  \nJoin us for the Sunday Sidewalk Series with live music by local musicians from 1-4 p.m.!⁣ ⁣
URL:https://churchstreetfamily.com/event/sunday-sidewalk-series-at-sea-salt/
LOCATION:Sea Salt\, 114 Clinton Ave E\, Huntsville\, AL\, 35801\, United States
ATTACH;FMTTYPE=image/png:https://churchstreetfamily.com/wp-content/uploads/2024/04/04.14-SS.png
ORGANIZER;CN="ChurchStreet Family":MAILTO:hello@churchstreetfamily.com
END:VEVENT
END:VCALENDAR