BEGIN:VCALENDAR
VERSION:2.0
PRODID:-//Church Street Family - ECPv6.15.12.2//NONSGML v1.0//EN
CALSCALE:GREGORIAN
METHOD:PUBLISH
X-WR-CALNAME:Church Street Family
X-ORIGINAL-URL:https://churchstreetfamily.com
X-WR-CALDESC:Events for Church Street Family
REFRESH-INTERVAL;VALUE=DURATION:PT1H
X-Robots-Tag:noindex
X-PUBLISHED-TTL:PT1H
BEGIN:VTIMEZONE
TZID:America/Chicago
BEGIN:DAYLIGHT
TZOFFSETFROM:-0600
TZOFFSETTO:-0500
TZNAME:CDT
DTSTART:20230312T080000
END:DAYLIGHT
BEGIN:STANDARD
TZOFFSETFROM:-0500
TZOFFSETTO:-0600
TZNAME:CST
DTSTART:20231105T070000
END:STANDARD
BEGIN:DAYLIGHT
TZOFFSETFROM:-0600
TZOFFSETTO:-0500
TZNAME:CDT
DTSTART:20240310T080000
END:DAYLIGHT
BEGIN:STANDARD
TZOFFSETFROM:-0500
TZOFFSETTO:-0600
TZNAME:CST
DTSTART:20241103T070000
END:STANDARD
BEGIN:DAYLIGHT
TZOFFSETFROM:-0600
TZOFFSETTO:-0500
TZNAME:CDT
DTSTART:20250309T080000
END:DAYLIGHT
BEGIN:STANDARD
TZOFFSETFROM:-0500
TZOFFSETTO:-0600
TZNAME:CST
DTSTART:20251102T070000
END:STANDARD
END:VTIMEZONE
BEGIN:VEVENT
DTSTART;TZID=America/Chicago:20240618T180000
DTEND;TZID=America/Chicago:20240618T200000
DTSTAMP:20260424T105222
CREATED:20240603T030510Z
LAST-MODIFIED:20240603T030510Z
UID:10001129-1718733600-1718740800@churchstreetfamily.com
SUMMARY:Tuesday Trivia at Pourhouse
DESCRIPTION:Come join us for a fun-filled night of weekly trivia and drinks on the lawn!  \nIt’s something new every week so come test your knowledge while socializing with friends.
URL:https://churchstreetfamily.com/event/tuesday-trivia-at-pourhouse-16/
LOCATION:Pourhouse\, 3414 Governors Drive\, Huntsville\, AL\, 35805\, United States
ATTACH;FMTTYPE=image/jpeg:https://churchstreetfamily.com/wp-content/uploads/2024/06/6.18.24.jpg
ORGANIZER;CN="ChurchStreet Family":MAILTO:hello@churchstreetfamily.com
END:VEVENT
BEGIN:VEVENT
DTSTART;TZID=America/Chicago:20240616T130000
DTEND;TZID=America/Chicago:20240616T160000
DTSTAMP:20260424T105222
CREATED:20240604T211238Z
LAST-MODIFIED:20240604T211238Z
UID:10001136-1718542800-1718553600@churchstreetfamily.com
SUMMARY:Sunday Sidewalk Series - Sea Salt Downtown
DESCRIPTION:Live music\, fresh seafood and a long afternoon sounds like the perfect way to end the weekend\, right?  \nMake plans to come join us!⁣\n⁣\n⁣
URL:https://churchstreetfamily.com/event/sunday-sidewalk-series-sea-salt-downtown/
LOCATION:Sea Salt\, 114 Clinton Ave E\, Huntsville\, AL\, 35801\, United States
ATTACH;FMTTYPE=image/jpeg:https://churchstreetfamily.com/wp-content/uploads/2024/06/SS-06.16.jpg
END:VEVENT
BEGIN:VEVENT
DTSTART;TZID=America/Chicago:20240615T220000
DTEND;TZID=America/Chicago:20240616T010000
DTSTAMP:20260424T105222
CREATED:20240603T154226Z
LAST-MODIFIED:20240603T154331Z
UID:10001132-1718488800-1718499600@churchstreetfamily.com
SUMMARY:Late Night Piano Bar at The Library of Purveyor
DESCRIPTION:Gather ’round and join the melodious tunes in The Library of Purveyor’s Piano Bar! \nCome hear live music and create special memories with us tonight. \nReservations Recommended:  https://resy.com/cities/hsv/purveyor-huntsville?date=2023-10-05&seats=2:
URL:https://churchstreetfamily.com/event/late-night-piano-bar-at-the-library-of-purveyor-3/
LOCATION:The Library of Purveyor\, 201 Jefferson Street\, Huntsville\, AL\, 35801
ATTACH;FMTTYPE=image/png:https://churchstreetfamily.com/wp-content/uploads/2024/06/PB-06.15.24.png
ORGANIZER;CN="ChurchStreet Family":MAILTO:hello@churchstreetfamily.com
END:VEVENT
BEGIN:VEVENT
DTSTART;TZID=America/Chicago:20240615T180000
DTEND;TZID=America/Chicago:20240615T210000
DTSTAMP:20260424T105222
CREATED:20240603T022829Z
LAST-MODIFIED:20240603T022829Z
UID:10001120-1718474400-1718485200@churchstreetfamily.com
SUMMARY:Live Music at the Shoppe - PROVIDENCE
DESCRIPTION:Your one-stop shoppe with LIVE MUSIC and FINE WINES.  \nSpend your Saturday evening socializing with fellow wine lovers while enjoying live music by local talent.
URL:https://churchstreetfamily.com/event/live-music-at-the-shoppe-providence-56/
LOCATION:ChurchStreet Wine Shoppe Providence\, 485 Providence Main Street Suite 101\, Huntsville\, 35806\, United States
ATTACH;FMTTYPE=image/jpeg:https://churchstreetfamily.com/wp-content/uploads/2024/06/PR-June-15-24.jpg
ORGANIZER;CN="ChurchStreet Family":MAILTO:hello@churchstreetfamily.com
END:VEVENT
BEGIN:VEVENT
DTSTART;TZID=America/Chicago:20240615T173000
DTEND;TZID=America/Chicago:20240615T203000
DTSTAMP:20260424T105222
CREATED:20240603T024628Z
LAST-MODIFIED:20240604T214348Z
UID:10001124-1718472600-1718483400@churchstreetfamily.com
SUMMARY:Live Music at the Shoppe - DOWNTOWN
DESCRIPTION:Your one-stop shoppe with LIVE MUSIC and FINE WINES.  \nSpend your Saturday evening socializing with fellow wine lovers while enjoying live music by local talent.
URL:https://churchstreetfamily.com/event/live-music-at-the-shoppe-downtown-45/
LOCATION:ChurchStreet Wine Shoppe Downtown\, 501 Church Street NW\, Huntsville\, 35801\, United States
ATTACH;FMTTYPE=image/jpeg:https://churchstreetfamily.com/wp-content/uploads/2024/06/DT-June-15-24.jpg
ORGANIZER;CN="ChurchStreet Family":MAILTO:hello@churchstreetfamily.com
END:VEVENT
BEGIN:VEVENT
DTSTART;TZID=America/Chicago:20240613T180000
DTEND;TZID=America/Chicago:20240613T210000
DTSTAMP:20260424T105222
CREATED:20240603T015305Z
LAST-MODIFIED:20240603T015305Z
UID:10001116-1718301600-1718312400@churchstreetfamily.com
SUMMARY:Live Music at the Shoppe - PROVIDENCE
DESCRIPTION:Start your weekend off right with live music at the Shoppe beginning at 6 pm.  \nShowcasing local artists\, fine wines and a fabulous seasonal menu. \n #Uncork and #Unwine with us!
URL:https://churchstreetfamily.com/event/live-music-at-the-shoppe-providence-52/
LOCATION:ChurchStreet Wine Shoppe Providence\, 485 Providence Main Street Suite 101\, Huntsville\, 35806\, United States
ATTACH;FMTTYPE=image/jpeg:https://churchstreetfamily.com/wp-content/uploads/2024/06/PR-June-13-24.jpg
ORGANIZER;CN="ChurchStreet Family":MAILTO:hello@churchstreetfamily.com
END:VEVENT
BEGIN:VEVENT
DTSTART;TZID=America/Chicago:20240612T170000
DTEND;TZID=America/Chicago:20240612T200000
DTSTAMP:20260424T105222
CREATED:20240604T220008Z
LAST-MODIFIED:20240604T220008Z
UID:10001140-1718211600-1718222400@churchstreetfamily.com
SUMMARY:Patio Series - Purveyor Downtown
DESCRIPTION:Join us in Downtown Huntsville for the Purveyor Patio Series every Wednesday! Savor a delicious dinner and enjoy an evening of fun\, laughter\, and live entertainment.  \nDon’t miss out on the perfect midweek escape with great company and vibrant atmosphere!
URL:https://churchstreetfamily.com/event/patio-series-purveyor-downtown-2/
LOCATION:Purveyor\, 201 Jefferson Street N\, Huntsville\, AL\, 35801\, United States
ATTACH;FMTTYPE=image/png:https://churchstreetfamily.com/wp-content/uploads/2024/06/PV-06.12.png
ORGANIZER;CN="ChurchStreet Family":MAILTO:hello@churchstreetfamily.com
END:VEVENT
BEGIN:VEVENT
DTSTART;TZID=America/Chicago:20240611T180000
DTEND;TZID=America/Chicago:20240611T200000
DTSTAMP:20260424T105222
CREATED:20240603T030349Z
LAST-MODIFIED:20240603T030349Z
UID:10001128-1718128800-1718136000@churchstreetfamily.com
SUMMARY:Tuesday Trivia at Pourhouse
DESCRIPTION:Come join us for a fun-filled night of weekly trivia and drinks on the lawn!  \nIt’s something new every week so come test your knowledge while socializing with friends.
URL:https://churchstreetfamily.com/event/tuesday-trivia-at-pourhouse-15/
LOCATION:Pourhouse\, 3414 Governors Drive\, Huntsville\, AL\, 35805\, United States
ATTACH;FMTTYPE=image/jpeg:https://churchstreetfamily.com/wp-content/uploads/2024/06/6.11.24.jpg
ORGANIZER;CN="ChurchStreet Family":MAILTO:hello@churchstreetfamily.com
END:VEVENT
BEGIN:VEVENT
DTSTART;TZID=America/Chicago:20240609T130000
DTEND;TZID=America/Chicago:20240609T160000
DTSTAMP:20260424T105222
CREATED:20240604T211006Z
LAST-MODIFIED:20240604T211049Z
UID:10001135-1717938000-1717948800@churchstreetfamily.com
SUMMARY:Sunday Sidewalk Series - Sea Salt Downtown
DESCRIPTION:Live music\, local artists\, fresh seafood and a long afternoon sounds like the perfect way to end the weekend\, right?  \nMake plans to come join us!⁣\n⁣⁣ \n⁣⁣⁣⁣⁣⁣ \n 
URL:https://churchstreetfamily.com/event/sunday-sidewalk-series-seasalt-downtown/
LOCATION:Sea Salt\, 114 Clinton Ave E\, Huntsville\, AL\, 35801\, United States
ATTACH;FMTTYPE=image/jpeg:https://churchstreetfamily.com/wp-content/uploads/2024/06/SS-06.09.jpg
ORGANIZER;CN="ChurchStreet Family":MAILTO:hello@churchstreetfamily.com
END:VEVENT
BEGIN:VEVENT
DTSTART;TZID=America/Chicago:20240608T220000
DTEND;TZID=America/Chicago:20240609T010000
DTSTAMP:20260424T105222
CREATED:20240603T154104Z
LAST-MODIFIED:20240603T154104Z
UID:10001131-1717884000-1717894800@churchstreetfamily.com
SUMMARY:Late Night Piano Bar at The Library of Purveyor
DESCRIPTION:Gather ’round and join the melodious tunes in The Library of Purveyor’s Piano Bar!\nCome hear live music and create special memories with us tonight.\nReservations Recommended:  https://resy.com/cities/hsv/purveyor-huntsville?date=2023-10-05&seats=2:
URL:https://churchstreetfamily.com/event/late-night-piano-bar-at-the-library-of-purveyor-2/
LOCATION:The Library of Purveyor\, 201 Jefferson Street\, Huntsville\, AL\, 35801
ATTACH;FMTTYPE=image/png:https://churchstreetfamily.com/wp-content/uploads/2024/06/PB-06.08.24.png
ORGANIZER;CN="ChurchStreet Family":MAILTO:hello@churchstreetfamily.com
END:VEVENT
BEGIN:VEVENT
DTSTART;TZID=America/Chicago:20240608T180000
DTEND;TZID=America/Chicago:20240608T210000
DTSTAMP:20260424T105222
CREATED:20240603T022551Z
LAST-MODIFIED:20240603T022551Z
UID:10001119-1717869600-1717880400@churchstreetfamily.com
SUMMARY:Live Music at the Shoppe - PROVIDENCE
DESCRIPTION:Your one-stop shoppe with LIVE MUSIC and FINE WINES.  \nSpend your Saturday evening socializing with fellow wine lovers while enjoying live music by local talent.
URL:https://churchstreetfamily.com/event/live-music-at-the-shoppe-providence-55/
LOCATION:ChurchStreet Wine Shoppe Providence\, 485 Providence Main Street Suite 101\, Huntsville\, 35806\, United States
ATTACH;FMTTYPE=image/jpeg:https://churchstreetfamily.com/wp-content/uploads/2024/06/PR-June-08-24.jpg
ORGANIZER;CN="ChurchStreet Family":MAILTO:hello@churchstreetfamily.com
END:VEVENT
BEGIN:VEVENT
DTSTART;TZID=America/Chicago:20240608T173000
DTEND;TZID=America/Chicago:20240608T203000
DTSTAMP:20260424T105222
CREATED:20240603T024456Z
LAST-MODIFIED:20240604T214438Z
UID:10001123-1717867800-1717878600@churchstreetfamily.com
SUMMARY:Live Music at the Shoppe - DOWNTOWN
DESCRIPTION:Your one-stop shoppe with LIVE MUSIC and FINE WINES.  \nSpend your Saturday evening socializing with fellow wine lovers while enjoying live music by local talent.
URL:https://churchstreetfamily.com/event/live-music-at-the-shoppe-downtown-44/
LOCATION:ChurchStreet Wine Shoppe Downtown\, 501 Church Street NW\, Huntsville\, 35801\, United States
ATTACH;FMTTYPE=image/jpeg:https://churchstreetfamily.com/wp-content/uploads/2024/06/DT-June-08-24.jpg
ORGANIZER;CN="ChurchStreet Family":MAILTO:hello@churchstreetfamily.com
END:VEVENT
BEGIN:VEVENT
DTSTART;TZID=America/Chicago:20240606T180000
DTEND;TZID=America/Chicago:20240606T210000
DTSTAMP:20260424T105222
CREATED:20240603T015143Z
LAST-MODIFIED:20240603T015143Z
UID:10001115-1717696800-1717707600@churchstreetfamily.com
SUMMARY:Live Music at the Shoppe -PROVIDENCE
DESCRIPTION:Start your weekend off right with live music at the Shoppe beginning at 6 pm.  \nShowcasing local artists\, fine wines and a fabulous seasonal menu.  \n#Uncork and #Unwine with us!
URL:https://churchstreetfamily.com/event/live-music-at-the-shoppe-providence-51/
LOCATION:ChurchStreet Wine Shoppe Providence\, 485 Providence Main Street Suite 101\, Huntsville\, 35806\, United States
ATTACH;FMTTYPE=image/jpeg:https://churchstreetfamily.com/wp-content/uploads/2024/06/PR-June-06-24.jpg
ORGANIZER;CN="ChurchStreet Family":MAILTO:hello@churchstreetfamily.com
END:VEVENT
BEGIN:VEVENT
DTSTART;TZID=America/Chicago:20240606T180000
DTEND;TZID=America/Chicago:20240606T200000
DTSTAMP:20260424T105222
CREATED:20240524T154430Z
LAST-MODIFIED:20240524T154430Z
UID:10001108-1717696800-1717704000@churchstreetfamily.com
SUMMARY:Wine and Design! DIY Floral Arrangement at the Shoppe - DOWNTOWN
DESCRIPTION:Join us for a delightful evening of DIY floral arranging at our **downtown** location. Hosted by Corrie of 333designs you’ll have the opportunity to create your own unique masterpiece under the guidance of a master of the craft. \nEnjoy a glass of wine while you work\, and take home your beautiful arrangement to enjoy for days to come. Don’t miss out on this fun and creative experience! \nSave your seat here: https://tickets.bestofhuntsville.com//events/wine-and-design-diy-floral-arrangement-6-6-2024
URL:https://churchstreetfamily.com/event/wine-and-design-diy-floral-arrangement-at-the-shoppe-downtown/
LOCATION:ChurchStreet Wine Shoppe Downtown\, 501 Church Street NW\, Huntsville\, 35801\, United States
ATTACH;FMTTYPE=image/png:https://churchstreetfamily.com/wp-content/uploads/2024/05/floral-design-Class-24.png
ORGANIZER;CN="ChurchStreet Family":MAILTO:hello@churchstreetfamily.com
END:VEVENT
BEGIN:VEVENT
DTSTART;TZID=America/Chicago:20240605T170000
DTEND;TZID=America/Chicago:20240605T200000
DTSTAMP:20260424T105222
CREATED:20240604T215843Z
LAST-MODIFIED:20240604T215843Z
UID:10001139-1717606800-1717617600@churchstreetfamily.com
SUMMARY:Patio Series - Purveyor Downtown
DESCRIPTION:Join us in Downtown Huntsville for the Purveyor Patio Series every Wednesday! Savor a delicious dinner and enjoy an evening of fun\, laughter\, and live entertainment.  \nDon’t miss out on the perfect midweek escape with great company and vibrant atmosphere!
URL:https://churchstreetfamily.com/event/patio-series-purveyor-downtown/
LOCATION:Purveyor\, 201 Jefferson Street N\, Huntsville\, AL\, 35801\, United States
ATTACH;FMTTYPE=image/png:https://churchstreetfamily.com/wp-content/uploads/2024/06/PV-06.05.png
ORGANIZER;CN="ChurchStreet Family":MAILTO:hello@churchstreetfamily.com
END:VEVENT
BEGIN:VEVENT
DTSTART;TZID=America/Chicago:20240604T180000
DTEND;TZID=America/Chicago:20240604T200000
DTSTAMP:20260424T105222
CREATED:20240603T030223Z
LAST-MODIFIED:20240603T030223Z
UID:10001127-1717524000-1717531200@churchstreetfamily.com
SUMMARY:Tuesday Trivia at Pourhouse
DESCRIPTION:Come join us for a fun-filled night of weekly trivia and drinks on the lawn!  \nIt’s something new every week so come test your knowledge while socializing with friends.
URL:https://churchstreetfamily.com/event/tuesday-trivia-at-pourhouse-14/
LOCATION:Pourhouse\, 3414 Governors Drive\, Huntsville\, AL\, 35805\, United States
ATTACH;FMTTYPE=image/jpeg:https://churchstreetfamily.com/wp-content/uploads/2024/06/6.04.24.jpg
ORGANIZER;CN="ChurchStreet Family":MAILTO:hello@churchstreetfamily.com
END:VEVENT
BEGIN:VEVENT
DTSTART;TZID=America/Chicago:20240601T220000
DTEND;TZID=America/Chicago:20240602T013000
DTSTAMP:20260424T105222
CREATED:20240530T025729Z
LAST-MODIFIED:20240530T025729Z
UID:10001113-1717279200-1717291800@churchstreetfamily.com
SUMMARY:Late Night Piano Bar at The Library of Purveyor
DESCRIPTION:Gather ’round and join the melodious tunes in The Library of Purveyor’s Piano Bar! \nCome hear live music and create special memories with us tonight. \nReservations Recommended:  https://resy.com/cities/hsv/purveyor-huntsville?date=2023-10-05&seats=2:
URL:https://churchstreetfamily.com/event/late-night-piano-bar-at-the-library-of-purveyor/
LOCATION:The Library of Purveyor\, 201 Jefferson Street\, Huntsville\, AL\, 35801
ATTACH;FMTTYPE=image/jpeg:https://churchstreetfamily.com/wp-content/uploads/2024/05/PB-6.01.24.jpg
ORGANIZER;CN="ChurchStreet Family":MAILTO:hello@churchstreetfamily.com
END:VEVENT
BEGIN:VEVENT
DTSTART;TZID=America/Chicago:20240601T180000
DTEND;TZID=America/Chicago:20240601T210000
DTSTAMP:20260424T105222
CREATED:20240530T025408Z
LAST-MODIFIED:20240530T025408Z
UID:10001112-1717264800-1717275600@churchstreetfamily.com
SUMMARY:Live Music at the Shoppe - PROVIDENCE
DESCRIPTION:Your one-stop shoppe with LIVE MUSIC and FINE WINES.  \nSpend your Saturday evening socializing with fellow wine lovers while enjoying live music by local talent.
URL:https://churchstreetfamily.com/event/live-music-at-the-shoppe-providence-50/
LOCATION:ChurchStreet Wine Shoppe Providence\, 485 Providence Main Street Suite 101\, Huntsville\, 35806\, United States
ATTACH;FMTTYPE=image/jpeg:https://churchstreetfamily.com/wp-content/uploads/2024/05/PR-June-01-24.jpg
ORGANIZER;CN="ChurchStreet Family":MAILTO:hello@churchstreetfamily.com
END:VEVENT
BEGIN:VEVENT
DTSTART;TZID=America/Chicago:20240601T173000
DTEND;TZID=America/Chicago:20240601T203000
DTSTAMP:20260424T105222
CREATED:20240530T025145Z
LAST-MODIFIED:20240530T025145Z
UID:10001111-1717263000-1717273800@churchstreetfamily.com
SUMMARY:Live Music at the Shoppe - DOWNTOWN
DESCRIPTION:Your one-stop shoppe with LIVE MUSIC and FINE WINES.  \nSpend your Saturday evening socializing with fellow wine lovers while enjoying live music by local talent.
URL:https://churchstreetfamily.com/event/live-music-at-the-shoppe-downtown-43/
LOCATION:ChurchStreet Wine Shoppe Downtown\, 501 Church Street NW\, Huntsville\, 35801\, United States
ATTACH;FMTTYPE=image/jpeg:https://churchstreetfamily.com/wp-content/uploads/2024/05/DT-June-01-24-1.jpg
ORGANIZER;CN="ChurchStreet Family":MAILTO:hello@churchstreetfamily.com
END:VEVENT
BEGIN:VEVENT
DTSTART;TZID=America/Chicago:20240530T220000
DTEND;TZID=America/Chicago:20240531T010000
DTSTAMP:20260424T105222
CREATED:20240514T015735Z
LAST-MODIFIED:20240514T015735Z
UID:10001107-1717106400-1717117200@churchstreetfamily.com
SUMMARY:Piano Bar at The Library of Purveyor
DESCRIPTION:Gather ’round and join the melodious tunes in The Library of Purveyor’s Piano Bar! \nCome hear live music and create special memories with us tonight. \nReservations Recommended:  https://resy.com/cities/hsv/purveyor-huntsville?date=2023-10-05&seats=2:
URL:https://churchstreetfamily.com/event/piano-bar-at-the-library-of-purveyor-42/
LOCATION:The Library of Purveyor\, 201 Jefferson Street\, Huntsville\, AL\, 35801
ATTACH;FMTTYPE=image/jpeg:https://churchstreetfamily.com/wp-content/uploads/2024/05/PB-5.30.24.jpg
ORGANIZER;CN="ChurchStreet Family":MAILTO:hello@churchstreetfamily.com
END:VEVENT
BEGIN:VEVENT
DTSTART;TZID=America/Chicago:20240530T180000
DTEND;TZID=America/Chicago:20240530T210000
DTSTAMP:20260424T105222
CREATED:20240428T170624Z
LAST-MODIFIED:20240428T171115Z
UID:10001070-1717092000-1717102800@churchstreetfamily.com
SUMMARY:Live Music at the Shoppe - PROVIDENCE
DESCRIPTION:Start your weekend off right with live music at the Shoppe beginning at 6 pm.  \nShowcasing local artists\, fine wines and a fabulous seasonal menu.  \n#Uncork and #Unwine with us!
URL:https://churchstreetfamily.com/event/live-music-at-the-shoppe-providence-49/
LOCATION:ChurchStreet Wine Shoppe Providence\, 485 Providence Main Street Suite 101\, Huntsville\, 35806\, United States
ATTACH;FMTTYPE=image/png:https://churchstreetfamily.com/wp-content/uploads/2024/04/PR-May-30-24.png
ORGANIZER;CN="ChurchStreet Family":MAILTO:hello@churchstreetfamily.com
END:VEVENT
BEGIN:VEVENT
DTSTART;TZID=America/Chicago:20240530T173000
DTEND;TZID=America/Chicago:20240530T203000
DTSTAMP:20260424T105222
CREATED:20240428T172741Z
LAST-MODIFIED:20240428T172741Z
UID:10001079-1717090200-1717101000@churchstreetfamily.com
SUMMARY:Live Music at Mazzaras - DOWNTOWN
DESCRIPTION:Start your weekend off right with wine and live music at Mazzaras beginning at 5:30 pm every Thursday. \n Showcasing local talent\, fine wines\, and made-from-scratch Italian favorites!  \n#UNCORK and #UNWINE with us!
URL:https://churchstreetfamily.com/event/live-music-at-mazzaras-downtown-12/
LOCATION:Mazzara’s\, 102 Gates Ave SW\, Huntsville\, AL\, 35801\, United States
ATTACH;FMTTYPE=image/png:https://churchstreetfamily.com/wp-content/uploads/2024/04/MZ-May-30-24.png
ORGANIZER;CN="ChurchStreet Family":MAILTO:hello@churchstreetfamily.com
END:VEVENT
BEGIN:VEVENT
DTSTART;TZID=America/Chicago:20240529T170000
DTEND;TZID=America/Chicago:20240529T200000
DTSTAMP:20260424T105222
CREATED:20240428T173513Z
LAST-MODIFIED:20240428T173521Z
UID:10001084-1717002000-1717012800@churchstreetfamily.com
SUMMARY:Patio Series at Purveyor
DESCRIPTION:Need a midweek pick-me-up?  \nHow about some live music with our #PurveyorPatioSeries? 𝘛𝘦𝘹𝘵 𝘴𝘰𝘮𝘦 𝘧𝘳𝘪𝘦𝘯𝘥𝘴 𝘵𝘰 𝘫𝘰𝘪𝘯 𝘺𝘰𝘶 𝘢𝘯𝘥 𝘸𝘦’𝘭𝘭 𝘴𝘦𝘦 𝘺𝘰𝘶 𝘵𝘩𝘦𝘳𝘦!⁣⁣\n⁣⁣\n𝐏𝐮𝐫𝐯𝐞𝐲𝐨𝐫 𝐏𝐚𝐭𝐢𝐨 | 𝟐𝟎𝟏 𝐉𝐞𝐟𝐟𝐞𝐫𝐬𝐨𝐧 𝐒𝐭𝐫𝐞𝐞𝐭⁣⁣\n⁣\n⁣⁣\n#livemusic #huntsvilleAL #downtown⁣\n⁣⁣⁣
URL:https://churchstreetfamily.com/event/patio-series-at-purveyor-8/
LOCATION:Purveyor\, 201 Jefferson Street N\, Huntsville\, AL\, 35801\, United States
ATTACH;FMTTYPE=image/png:https://churchstreetfamily.com/wp-content/uploads/2024/04/PV-may-29-24.png
ORGANIZER;CN="ChurchStreet Family":MAILTO:hello@churchstreetfamily.com
END:VEVENT
BEGIN:VEVENT
DTSTART;TZID=America/Chicago:20240528T180000
DTEND;TZID=America/Chicago:20240528T200000
DTSTAMP:20260424T105222
CREATED:20240509T143215Z
LAST-MODIFIED:20240509T143215Z
UID:10001100-1716919200-1716926400@churchstreetfamily.com
SUMMARY:Tuesday Trivia at Pourhouse
DESCRIPTION:Come join us for a fun-filled night of weekly trivia and drinks on the lawn! \n It’s something new every week so come test your knowledge while socializing with friends.
URL:https://churchstreetfamily.com/event/tuesday-trivia-at-pourhouse-13/
LOCATION:Pourhouse\, 3414 Governors Drive\, Huntsville\, AL\, 35805\, United States
ATTACH;FMTTYPE=image/jpeg:https://churchstreetfamily.com/wp-content/uploads/2024/05/05.28.jpg
ORGANIZER;CN="ChurchStreet Family":MAILTO:hello@churchstreetfamily.com
END:VEVENT
BEGIN:VEVENT
DTSTART;TZID=America/Chicago:20240526T130000
DTEND;TZID=America/Chicago:20240526T160000
DTSTAMP:20260424T105222
CREATED:20240428T171811Z
LAST-MODIFIED:20240428T171811Z
UID:10001074-1716728400-1716739200@churchstreetfamily.com
SUMMARY:Sidewalk Series at Sea Salt
DESCRIPTION:We’d love to see you for some seafood and live music!  \nJoin us for the Sunday Sidewalk Series with live music by local musicians from 1-4 p.m.!⁣ ⁣
URL:https://churchstreetfamily.com/event/sidewalk-series-at-sea-salt-3/
LOCATION:Sea Salt\, 114 Clinton Ave E\, Huntsville\, AL\, 35801\, United States
ATTACH;FMTTYPE=image/png:https://churchstreetfamily.com/wp-content/uploads/2024/04/SS-may-26-24.png
ORGANIZER;CN="ChurchStreet Family":MAILTO:hello@churchstreetfamily.com
END:VEVENT
BEGIN:VEVENT
DTSTART;TZID=America/Chicago:20240525T220000
DTEND;TZID=America/Chicago:20240526T010000
DTSTAMP:20260424T105222
CREATED:20240514T015607Z
LAST-MODIFIED:20240514T015607Z
UID:10001106-1716674400-1716685200@churchstreetfamily.com
SUMMARY:Piano Bar at The Library of Purveyor
DESCRIPTION:Gather ’round and join the melodious tunes in The Library of Purveyor’s Piano Bar! \nCome hear live music and create special memories with us tonight. \nReservations Recommended:  https://resy.com/cities/hsv/purveyor-huntsville?date=2023-10-05&seats=2:
URL:https://churchstreetfamily.com/event/piano-bar-at-the-library-of-purveyor-41/
LOCATION:Purveyor\, 201 Jefferson Street N\, Huntsville\, AL\, 35801\, United States
ATTACH;FMTTYPE=image/jpeg:https://churchstreetfamily.com/wp-content/uploads/2024/05/PB-5.25.24.jpg
ORGANIZER;CN="ChurchStreet Family":MAILTO:hello@churchstreetfamily.com
END:VEVENT
BEGIN:VEVENT
DTSTART;TZID=America/Chicago:20240525T180000
DTEND;TZID=America/Chicago:20240525T210000
DTSTAMP:20260424T105222
CREATED:20240428T165713Z
LAST-MODIFIED:20240428T165713Z
UID:10001065-1716660000-1716670800@churchstreetfamily.com
SUMMARY:Saturday at the Shoppe - PROVIDENCE
DESCRIPTION:Your one-stop shoppe with LIVE MUSIC and FINE WINES. \n Spend your Saturday evening socializing with fellow wine lovers while enjoying live music by local talent.
URL:https://churchstreetfamily.com/event/saturday-at-the-shoppe-providence-5/
LOCATION:ChurchStreet Wine Shoppe Providence\, 485 Providence Main Street Suite 101\, Huntsville\, 35806\, United States
ATTACH;FMTTYPE=image/png:https://churchstreetfamily.com/wp-content/uploads/2024/04/PR-May-25-24.png
END:VEVENT
BEGIN:VEVENT
DTSTART;TZID=America/Chicago:20240525T173000
DTEND;TZID=America/Chicago:20240525T203000
DTSTAMP:20260424T105222
CREATED:20240428T165058Z
LAST-MODIFIED:20240428T165058Z
UID:10001061-1716658200-1716669000@churchstreetfamily.com
SUMMARY:Saturday at the Shoppe - DOWNTOWN
DESCRIPTION:Your one-stop shoppe with LIVE MUSIC and FINE WINES. \n Spend your Saturday evening socializing with fellow wine lovers while enjoying live music by local talent.
URL:https://churchstreetfamily.com/event/saturday-at-the-shoppe-downtown-4/
LOCATION:ChurchStreet Wine Shoppe Downtown\, 501 Church Street NW\, Huntsville\, 35801\, United States
ATTACH;FMTTYPE=image/png:https://churchstreetfamily.com/wp-content/uploads/2024/04/DT-May-25-24.png
ORGANIZER;CN="ChurchStreet Family":MAILTO:hello@churchstreetfamily.com
END:VEVENT
BEGIN:VEVENT
DTSTART;TZID=America/Chicago:20240524T220000
DTEND;TZID=America/Chicago:20240525T010000
DTSTAMP:20260424T105222
CREATED:20240514T015132Z
LAST-MODIFIED:20240514T015132Z
UID:10001105-1716588000-1716598800@churchstreetfamily.com
SUMMARY:Piano Bar at The Library of Purveyor
DESCRIPTION:Gather ’round and join the melodious tunes in The Library of Purveyor’s Piano Bar!\nCome hear live music and create special memories with us tonight.\nReservations Recommended:  https://resy.com/cities/hsv/purveyor-huntsville?date=2023-10-05&seats=2:
URL:https://churchstreetfamily.com/event/piano-bar-at-the-library-of-purveyor-40/
LOCATION:Purveyor\, 201 Jefferson Street N\, Huntsville\, AL\, 35801\, United States
ATTACH;FMTTYPE=image/jpeg:https://churchstreetfamily.com/wp-content/uploads/2024/05/PB-5.24.24.jpg
END:VEVENT
BEGIN:VEVENT
DTSTART;TZID=America/Chicago:20240523T180000
DTEND;TZID=America/Chicago:20240523T210000
DTSTAMP:20260424T105222
CREATED:20240428T170502Z
LAST-MODIFIED:20240428T170502Z
UID:10001069-1716487200-1716498000@churchstreetfamily.com
SUMMARY:Live Music at the Shoppe - PROVIDENCE
DESCRIPTION:Start your weekend off right with live music at the Shoppe beginning at 6 pm.  \nShowcasing local artists\, fine wines and a fabulous seasonal menu.  \n#Uncork and #Unwine with us!
URL:https://churchstreetfamily.com/event/live-music-at-the-shoppe-providence-48/
LOCATION:ChurchStreet Wine Shoppe Providence\, 485 Providence Main Street Suite 101\, Huntsville\, 35806\, United States
ATTACH;FMTTYPE=image/png:https://churchstreetfamily.com/wp-content/uploads/2024/04/PR-May-23-24.png
ORGANIZER;CN="ChurchStreet Family":MAILTO:hello@churchstreetfamily.com
END:VEVENT
END:VCALENDAR