BEGIN:VCALENDAR
VERSION:2.0
PRODID:-//Church Street Family - ECPv6.15.12.2//NONSGML v1.0//EN
CALSCALE:GREGORIAN
METHOD:PUBLISH
X-WR-CALNAME:Church Street Family
X-ORIGINAL-URL:https://churchstreetfamily.com
X-WR-CALDESC:Events for Church Street Family
REFRESH-INTERVAL;VALUE=DURATION:PT1H
X-Robots-Tag:noindex
X-PUBLISHED-TTL:PT1H
BEGIN:VTIMEZONE
TZID:America/Chicago
BEGIN:DAYLIGHT
TZOFFSETFROM:-0600
TZOFFSETTO:-0500
TZNAME:CDT
DTSTART:20230312T080000
END:DAYLIGHT
BEGIN:STANDARD
TZOFFSETFROM:-0500
TZOFFSETTO:-0600
TZNAME:CST
DTSTART:20231105T070000
END:STANDARD
BEGIN:DAYLIGHT
TZOFFSETFROM:-0600
TZOFFSETTO:-0500
TZNAME:CDT
DTSTART:20240310T080000
END:DAYLIGHT
BEGIN:STANDARD
TZOFFSETFROM:-0500
TZOFFSETTO:-0600
TZNAME:CST
DTSTART:20241103T070000
END:STANDARD
BEGIN:DAYLIGHT
TZOFFSETFROM:-0600
TZOFFSETTO:-0500
TZNAME:CDT
DTSTART:20250309T080000
END:DAYLIGHT
BEGIN:STANDARD
TZOFFSETFROM:-0500
TZOFFSETTO:-0600
TZNAME:CST
DTSTART:20251102T070000
END:STANDARD
END:VTIMEZONE
BEGIN:VEVENT
DTSTART;TZID=America/Chicago:20240710T180000
DTEND;TZID=America/Chicago:20240710T210000
DTSTAMP:20260424T093057
CREATED:20240630T212421Z
LAST-MODIFIED:20240630T212421Z
UID:10001159-1720634400-1720645200@churchstreetfamily.com
SUMMARY:LIVE MUSIC on the lawn - POURHOUSE
DESCRIPTION:Join us on the lawn for live music! \n Grab a drink\, grab your seat\, and enjoy the show!
URL:https://churchstreetfamily.com/event/live-music-on-the-lawn-pourhouse-2/
LOCATION:Pourhouse\, 3414 Governors Drive\, Huntsville\, AL\, 35805\, United States
ATTACH;FMTTYPE=image/png:https://churchstreetfamily.com/wp-content/uploads/2024/06/PH-July-10-2024.png
ORGANIZER;CN="ChurchStreet Family":MAILTO:hello@churchstreetfamily.com
END:VEVENT
BEGIN:VEVENT
DTSTART;TZID=America/Chicago:20240709T180000
DTEND;TZID=America/Chicago:20240709T200000
DTSTAMP:20260424T093057
CREATED:20240630T213102Z
LAST-MODIFIED:20240630T213102Z
UID:10001163-1720548000-1720555200@churchstreetfamily.com
SUMMARY:TUESDAY TRIVIA - POURHOUSE
DESCRIPTION:Come join us for a fun-filled night of weekly trivia and drinks on the lawn!  \nIt’s something new every week so come test your knowledge while socializing with friends.
URL:https://churchstreetfamily.com/event/tuesday-trivia-pourhouse-5/
LOCATION:Pourhouse\, 3414 Governors Drive\, Huntsville\, AL\, 35805\, United States
ATTACH;FMTTYPE=image/jpeg:https://churchstreetfamily.com/wp-content/uploads/2024/06/07.09.24.jpg
ORGANIZER;CN="ChurchStreet Family":MAILTO:hello@churchstreetfamily.com
END:VEVENT
BEGIN:VEVENT
DTSTART;TZID=America/Chicago:20240707T140000
DTEND;TZID=America/Chicago:20240707T170000
DTSTAMP:20260424T093057
CREATED:20240630T211405Z
LAST-MODIFIED:20240630T211405Z
UID:10001154-1720360800-1720371600@churchstreetfamily.com
SUMMARY:SIDEWALK SERIES - SEA SALT
DESCRIPTION:Live music\, fresh seafood and a long afternoon sounds like the perfect way to end the weekend\, right? Make plans to come join us!⁣\n⁣ \n⁣⁣⁣⁣⁣⁣\n.
URL:https://churchstreetfamily.com/event/sidewalk-series-sea-salt/
LOCATION:Sea Salt\, 114 Clinton Ave E\, Huntsville\, AL\, 35801\, United States
ATTACH;FMTTYPE=image/png:https://churchstreetfamily.com/wp-content/uploads/2024/06/SS-JULY-07-24.png
ORGANIZER;CN="ChurchStreet Family":MAILTO:hello@churchstreetfamily.com
END:VEVENT
BEGIN:VEVENT
DTSTART;TZID=America/Chicago:20240706T180000
DTEND;TZID=America/Chicago:20240706T210000
DTSTAMP:20260424T093057
CREATED:20240630T205807Z
LAST-MODIFIED:20240630T205807Z
UID:10001146-1720288800-1720299600@churchstreetfamily.com
SUMMARY:LIVE MUSIC at the shoppe - PROVIDENCE
DESCRIPTION:Your one-stop shoppe with LIVE MUSIC and FINE WINES.  \nSpend your Saturday evening socializing with fellow wine lovers while enjoying live music by local talent.
URL:https://churchstreetfamily.com/event/live-music-at-the-shoppe-providence-59/
LOCATION:ChurchStreet Wine Shoppe Providence\, 485 Providence Main Street Suite 101\, Huntsville\, 35806\, United States
ATTACH;FMTTYPE=image/png:https://churchstreetfamily.com/wp-content/uploads/2024/06/PR-July-06-24.png
ORGANIZER;CN="ChurchStreet Family":MAILTO:hello@churchstreetfamily.com
END:VEVENT
BEGIN:VEVENT
DTSTART;TZID=America/Chicago:20240706T173000
DTEND;TZID=America/Chicago:20240706T203000
DTSTAMP:20260424T093057
CREATED:20240630T210606Z
LAST-MODIFIED:20240630T210606Z
UID:10001150-1720287000-1720297800@churchstreetfamily.com
SUMMARY:LIVE MUSIC at the shoppe - DOWNTOWN
DESCRIPTION:Your one-stop shoppe with LIVE MUSIC and FINE WINES.  \nSpend your Saturday evening socializing with fellow wine lovers while enjoying live music by local talent.
URL:https://churchstreetfamily.com/event/live-music-at-the-shoppe-downtown-48/
LOCATION:ChurchStreet Wine Shoppe Downtown\, 501 Church Street NW\, Huntsville\, 35801\, United States
ATTACH;FMTTYPE=image/png:https://churchstreetfamily.com/wp-content/uploads/2024/06/DT-July-06-24.png
ORGANIZER;CN="ChurchStreet Family":MAILTO:hello@churchstreetfamily.com
END:VEVENT
BEGIN:VEVENT
DTSTART;TZID=America/Chicago:20240703T180000
DTEND;TZID=America/Chicago:20240703T210000
DTSTAMP:20260424T093057
CREATED:20240630T212256Z
LAST-MODIFIED:20240630T212256Z
UID:10001158-1720029600-1720040400@churchstreetfamily.com
SUMMARY:LIVE MUSIC on the lawn - POURHOUSE
DESCRIPTION:Join us on the lawn for live music!  \nGrab a drink\, grab your seat\, and enjoy the show! \n\n⁣⁣⁣⁣⁣⁣\n.
URL:https://churchstreetfamily.com/event/live-music-on-the-lawn-pourhouse/
LOCATION:Pourhouse\, 3414 Governors Drive\, Huntsville\, AL\, 35805\, United States
ATTACH;FMTTYPE=image/png:https://churchstreetfamily.com/wp-content/uploads/2024/06/PH-July-03-2024.png
ORGANIZER;CN="ChurchStreet Family":MAILTO:hello@churchstreetfamily.com
END:VEVENT
BEGIN:VEVENT
DTSTART;TZID=America/Chicago:20240702T180000
DTEND;TZID=America/Chicago:20240702T200000
DTSTAMP:20260424T093057
CREATED:20240630T212944Z
LAST-MODIFIED:20240630T212944Z
UID:10001162-1719943200-1719950400@churchstreetfamily.com
SUMMARY:TUESDAY TRIVIA - POURHOUSE
DESCRIPTION:Come join us for a fun-filled night of weekly trivia and drinks on the lawn! \n It’s something new every week so come test your knowledge while socializing with friends.
URL:https://churchstreetfamily.com/event/tuesday-trivia-pourhouse-4/
LOCATION:Pourhouse\, 3414 Governors Drive\, Huntsville\, AL\, 35805\, United States
ATTACH;FMTTYPE=image/jpeg:https://churchstreetfamily.com/wp-content/uploads/2024/06/07.02.24.jpg
ORGANIZER;CN="ChurchStreet Family":MAILTO:hello@churchstreetfamily.com
END:VEVENT
BEGIN:VEVENT
DTSTART;TZID=America/Chicago:20240630T180000
DTEND;TZID=America/Chicago:20240630T200000
DTSTAMP:20260424T093057
CREATED:20240630T213542Z
LAST-MODIFIED:20240630T213542Z
UID:10001166-1719770400-1719777600@churchstreetfamily.com
SUMMARY:TUESDAY TRIVIA - POURHOUSE
DESCRIPTION:Come join us for a fun-filled night of weekly trivia and drinks on the lawn!  \nIt’s something new every week so come test your knowledge while socializing with friends.
URL:https://churchstreetfamily.com/event/tuesday-trivia-pourhouse-8/
LOCATION:Pourhouse\, 3414 Governors Drive\, Huntsville\, AL\, 35805\, United States
ATTACH;FMTTYPE=image/jpeg:https://churchstreetfamily.com/wp-content/uploads/2024/06/07.30.24.jpg
ORGANIZER;CN="ChurchStreet Family":MAILTO:hello@churchstreetfamily.com
END:VEVENT
BEGIN:VEVENT
DTSTART;TZID=America/Chicago:20240630T130000
DTEND;TZID=America/Chicago:20240630T160000
DTSTAMP:20260424T093057
CREATED:20240604T211535Z
LAST-MODIFIED:20240604T211535Z
UID:10001138-1719752400-1719763200@churchstreetfamily.com
SUMMARY:Sunday Sidewalk Series - Sea Salt Downtown
DESCRIPTION:Live music\, fresh seafood and a long afternoon sounds like the perfect way to end the weekend\, right?  \nMake plans to come join us!⁣\n⁣\n⁣\n⁣⁣⁣
URL:https://churchstreetfamily.com/event/sunday-sidewalk-series-sea-salt-downtown-3/
LOCATION:Sea Salt\, 114 Clinton Ave E\, Huntsville\, AL\, 35801\, United States
ATTACH;FMTTYPE=image/jpeg:https://churchstreetfamily.com/wp-content/uploads/2024/06/SS-06.30.jpg
ORGANIZER;CN="ChurchStreet Family":MAILTO:hello@churchstreetfamily.com
END:VEVENT
BEGIN:VEVENT
DTSTART;TZID=America/Chicago:20240629T220000
DTEND;TZID=America/Chicago:20240630T010000
DTSTAMP:20260424T093057
CREATED:20240603T154716Z
LAST-MODIFIED:20240603T154716Z
UID:10001134-1719698400-1719709200@churchstreetfamily.com
SUMMARY:Late Night Piano Bar at The Library of Purveyor
DESCRIPTION:Gather ’round and join the melodious tunes in The Library of Purveyor’s Piano Bar! \nCome hear live music and create special memories with us tonight. \nReservations Recommended:  https://resy.com/cities/hsv/purveyor-huntsville?date=2023-10-05&seats=2:
URL:https://churchstreetfamily.com/event/late-night-piano-bar-at-the-library-of-purveyor-5/
LOCATION:The Library of Purveyor\, 201 Jefferson Street\, Huntsville\, AL\, 35801
ATTACH;FMTTYPE=image/png:https://churchstreetfamily.com/wp-content/uploads/2024/06/PB-06.29.24.png
ORGANIZER;CN="ChurchStreet Family":MAILTO:hello@churchstreetfamily.com
END:VEVENT
BEGIN:VEVENT
DTSTART;TZID=America/Chicago:20240629T180000
DTEND;TZID=America/Chicago:20240629T210000
DTSTAMP:20260424T093057
CREATED:20240603T023326Z
LAST-MODIFIED:20240603T023326Z
UID:10001122-1719684000-1719694800@churchstreetfamily.com
SUMMARY:Live Music at the Shoppe - PROVIDENCE
DESCRIPTION:Your one-stop shoppe with LIVE MUSIC and FINE WINES.  \nSpend your Saturday evening socializing with fellow wine lovers while enjoying live music by local talent.
URL:https://churchstreetfamily.com/event/live-music-at-the-shoppe-providence-58/
LOCATION:ChurchStreet Wine Shoppe Providence\, 485 Providence Main Street Suite 101\, Huntsville\, 35806\, United States
ATTACH;FMTTYPE=image/jpeg:https://churchstreetfamily.com/wp-content/uploads/2024/06/PR-June-29-24.jpg
ORGANIZER;CN="ChurchStreet Family":MAILTO:hello@churchstreetfamily.com
END:VEVENT
BEGIN:VEVENT
DTSTART;TZID=America/Chicago:20240629T173000
DTEND;TZID=America/Chicago:20240629T203000
DTSTAMP:20260424T093057
CREATED:20240603T024921Z
LAST-MODIFIED:20240604T214219Z
UID:10001126-1719682200-1719693000@churchstreetfamily.com
SUMMARY:Live Music at the Shoppe - DOWNTOWN
DESCRIPTION:Your one-stop shoppe with LIVE MUSIC and FINE WINES.  \nSpend your Saturday evening socializing with fellow wine lovers while enjoying live music by local talent.
URL:https://churchstreetfamily.com/event/live-music-at-the-shoppe-downtown-47/
LOCATION:ChurchStreet Wine Shoppe Downtown\, 501 Church Street NW\, Huntsville\, 35801\, United States
ATTACH;FMTTYPE=image/jpeg:https://churchstreetfamily.com/wp-content/uploads/2024/06/DT-June-29-24.jpg
ORGANIZER;CN="ChurchStreet Family":MAILTO:hello@churchstreetfamily.com
END:VEVENT
BEGIN:VEVENT
DTSTART;TZID=America/Chicago:20240627T180000
DTEND;TZID=America/Chicago:20240627T210000
DTSTAMP:20260424T093057
CREATED:20240603T015613Z
LAST-MODIFIED:20240603T015613Z
UID:10001118-1719511200-1719522000@churchstreetfamily.com
SUMMARY:Live Music at the Shoppe - PROVIDENCE
DESCRIPTION:Start your weekend off right with live music at the Shoppe beginning at 6 pm.  \nShowcasing local artists\, fine wines and a fabulous seasonal menu.  \n#Uncork and #Unwine with us!
URL:https://churchstreetfamily.com/event/live-music-at-the-shoppe-providence-54/
LOCATION:ChurchStreet Wine Shoppe Providence\, 485 Providence Main Street Suite 101\, Huntsville\, 35806\, United States
ATTACH;FMTTYPE=image/jpeg:https://churchstreetfamily.com/wp-content/uploads/2024/06/PR-June-27-24.jpg
ORGANIZER;CN="ChurchStreet Family":MAILTO:hello@churchstreetfamily.com
END:VEVENT
BEGIN:VEVENT
DTSTART;TZID=America/Chicago:20240627T180000
DTEND;TZID=America/Chicago:20240627T200000
DTSTAMP:20260424T093057
CREATED:20240524T160550Z
LAST-MODIFIED:20240524T160606Z
UID:10001109-1719511200-1719518400@churchstreetfamily.com
SUMMARY:Sip and Paint! DIY Wine Bottle Painting at the Shoppe - DOWNTOWN
DESCRIPTION:Join us at the Shoppe for Sip and Paint! hosted by Rhonda Mitchell. Stop by and enjoy a fun-filled evening of creativity and relaxation. \nThe event includes a full bottle of your choice of wine to paint (Prosecco\, Rosé\, or Pinot Noir) and a complimentary glass of wine from our menu. \nMark your calendars and don’t miss out on this unique and enjoyable experience! \nhttps://tickets.bestofhuntsville.com//events/sip-and-paint-diy-wine-bottle-painting-at-the-shoppe-downtown-6-27-2024
URL:https://churchstreetfamily.com/event/sip-and-paint-diy-wine-bottle-painting-at-the-shoppe-downtown/
LOCATION:ChurchStreet Wine Shoppe Downtown\, 501 Church Street NW\, Huntsville\, 35801\, United States
ATTACH;FMTTYPE=image/png:https://churchstreetfamily.com/wp-content/uploads/2024/05/wine-bottle-paint-class-24.png
ORGANIZER;CN="ChurchStreet Family":MAILTO:hello@churchstreetfamily.com
END:VEVENT
BEGIN:VEVENT
DTSTART;TZID=America/Chicago:20240626T180000
DTEND;TZID=America/Chicago:20240626T200000
DTSTAMP:20260424T093057
CREATED:20240530T020118Z
LAST-MODIFIED:20240530T020118Z
UID:10001110-1719424800-1719432000@churchstreetfamily.com
SUMMARY:California Wine Dinner and Meet & Greet - Li'l Mazzara's\, Athens
DESCRIPTION:Join us for the ChurchStreet California Wine Dinner\, a delightful evening dedicated to celebrating the rich and diverse flavors of California wines\, one exquisite sip at a time! Under the expert guidance of guest Sommelier Sam Fonte\, you’ll discover the art of pairing your favorite wines with delectable dishes. \nWhether you’re a seasoned wine enthusiast or a curious novice\, this event promises to enhance your appreciation for California wines and elevate your dining experience. Don’t miss this opportunity to savor and learn in a warm and inviting atmosphere. \nSnag your seat here before they’re gone! – https://tickets.bestofhuntsville.com//events/italian-wine-dinner-6-26-2024
URL:https://churchstreetfamily.com/event/california-wine-dinner-and-meet-greet-lil-mazzaras-athens/
LOCATION:Li’l Mazzara’s\, 102 Washington St E\, Athens\, AL\, 35611\, United States
ATTACH;FMTTYPE=image/png:https://churchstreetfamily.com/wp-content/uploads/2024/05/Wine-Dinner-6.26.png
ORGANIZER;CN="ChurchStreet Family":MAILTO:hello@churchstreetfamily.com
END:VEVENT
BEGIN:VEVENT
DTSTART;TZID=America/Chicago:20240626T170000
DTEND;TZID=America/Chicago:20240626T200000
DTSTAMP:20260424T093057
CREATED:20240604T220249Z
LAST-MODIFIED:20240604T220249Z
UID:10001142-1719421200-1719432000@churchstreetfamily.com
SUMMARY:Patio Series - Purveyor Downtown
DESCRIPTION:Join us in Downtown Huntsville for the Purveyor Patio Series every Wednesday! Savor a delicious dinner and enjoy an evening of fun\, laughter\, and live entertainment.  \nDon’t miss out on the perfect midweek escape with great company and vibrant atmosphere!
URL:https://churchstreetfamily.com/event/patio-series-purveyor-downtown-4/
LOCATION:Purveyor\, 201 Jefferson Street N\, Huntsville\, AL\, 35801\, United States
ATTACH;FMTTYPE=image/png:https://churchstreetfamily.com/wp-content/uploads/2024/06/PV-06.26.png
ORGANIZER;CN="ChurchStreet Family":MAILTO:hello@churchstreetfamily.com
END:VEVENT
BEGIN:VEVENT
DTSTART;TZID=America/Chicago:20240625T180000
DTEND;TZID=America/Chicago:20240625T200000
DTSTAMP:20260424T093057
CREATED:20240603T030626Z
LAST-MODIFIED:20240603T030626Z
UID:10001130-1719338400-1719345600@churchstreetfamily.com
SUMMARY:Tuesday Trivia at Pourhouse
DESCRIPTION:Come join us for a fun-filled night of weekly trivia and drinks on the lawn!  \nIt’s something new every week so come test your knowledge while socializing with friends.
URL:https://churchstreetfamily.com/event/tuesday-trivia-at-pourhouse-17/
LOCATION:Pourhouse\, 3414 Governors Drive\, Huntsville\, AL\, 35805\, United States
ATTACH;FMTTYPE=image/jpeg:https://churchstreetfamily.com/wp-content/uploads/2024/06/6.25.24.jpg
ORGANIZER;CN="ChurchStreet Family":MAILTO:hello@churchstreetfamily.com
END:VEVENT
BEGIN:VEVENT
DTSTART;TZID=America/Chicago:20240623T160000
DTEND;TZID=America/Chicago:20240623T180000
DTSTAMP:20260424T093057
CREATED:20240428T174736Z
LAST-MODIFIED:20240523T223831Z
UID:10001086-1719158400-1719165600@churchstreetfamily.com
SUMMARY:Purveyor Supper Club
DESCRIPTION:Calling all foodies!  \nWe’ve got something special in store – mark your calendars for our upcoming Purveyor Supper Club: Save the Date. \nBe the first to snag your seat: https://tickets.bestofhuntsville.com//events/supper-club-hunters-delight-6-23-2024 !
URL:https://churchstreetfamily.com/event/purveyor-supper-club-2/
LOCATION:Purveyor\, 201 Jefferson Street N\, Huntsville\, AL\, 35801\, United States
ATTACH;FMTTYPE=image/jpeg:https://churchstreetfamily.com/wp-content/uploads/2024/04/JUNE-24-SC-Calendar.jpg
ORGANIZER;CN="ChurchStreet Family":MAILTO:hello@churchstreetfamily.com
END:VEVENT
BEGIN:VEVENT
DTSTART;TZID=America/Chicago:20240623T130000
DTEND;TZID=America/Chicago:20240623T160000
DTSTAMP:20260424T093057
CREATED:20240604T211403Z
LAST-MODIFIED:20240604T211403Z
UID:10001137-1719147600-1719158400@churchstreetfamily.com
SUMMARY:Sunday Sidewalk Series - Sea Salt Downtown
DESCRIPTION:Live music\, fresh seafood and a long afternoon sounds like the perfect way to end the weekend\, right?  \nMake plans to come join us!⁣\n⁣ \n⁣⁣⁣⁣⁣⁣\n.
URL:https://churchstreetfamily.com/event/sunday-sidewalk-series-sea-salt-downtown-2/
LOCATION:Sea Salt\, 114 Clinton Ave E\, Huntsville\, AL\, 35801\, United States
ATTACH;FMTTYPE=image/jpeg:https://churchstreetfamily.com/wp-content/uploads/2024/06/SS-06.23.jpg
ORGANIZER;CN="ChurchStreet Family":MAILTO:hello@churchstreetfamily.com
END:VEVENT
BEGIN:VEVENT
DTSTART;TZID=America/Chicago:20240622T220000
DTEND;TZID=America/Chicago:20240623T010000
DTSTAMP:20260424T093057
CREATED:20240603T154537Z
LAST-MODIFIED:20240603T154537Z
UID:10001133-1719093600-1719104400@churchstreetfamily.com
SUMMARY:Late Night Piano Bar at The Library of Purveyor
DESCRIPTION:Gather ’round and join the melodious tunes in The Library of Purveyor’s Piano Bar! \nCome hear live music and create special memories with us tonight.\n \nReservations Recommended:  https://resy.com/cities/hsv/purveyor-huntsville?date=2023-10-05&seats=2:
URL:https://churchstreetfamily.com/event/late-night-piano-bar-at-the-library-of-purveyor-4/
LOCATION:The Library of Purveyor\, 201 Jefferson Street\, Huntsville\, AL\, 35801
ATTACH;FMTTYPE=image/png:https://churchstreetfamily.com/wp-content/uploads/2024/06/PB-06.22.24.png
ORGANIZER;CN="ChurchStreet Family":MAILTO:hello@churchstreetfamily.com
END:VEVENT
BEGIN:VEVENT
DTSTART;TZID=America/Chicago:20240622T180000
DTEND;TZID=America/Chicago:20240622T210000
DTSTAMP:20260424T093057
CREATED:20240603T023150Z
LAST-MODIFIED:20240603T023150Z
UID:10001121-1719079200-1719090000@churchstreetfamily.com
SUMMARY:Live Music at the Shoppe - PROVIDENCE
DESCRIPTION:Your one-stop shoppe with LIVE MUSIC and FINE WINES.  \nSpend your Saturday evening socializing with fellow wine lovers while enjoying live music by local talent.
URL:https://churchstreetfamily.com/event/live-music-at-the-shoppe-providence-57/
LOCATION:ChurchStreet Wine Shoppe Providence\, 485 Providence Main Street Suite 101\, Huntsville\, 35806\, United States
ATTACH;FMTTYPE=image/jpeg:https://churchstreetfamily.com/wp-content/uploads/2024/06/PR-June-22-24.jpg
ORGANIZER;CN="ChurchStreet Family":MAILTO:hello@churchstreetfamily.com
END:VEVENT
BEGIN:VEVENT
DTSTART;TZID=America/Chicago:20240622T173000
DTEND;TZID=America/Chicago:20240622T203000
DTSTAMP:20260424T093057
CREATED:20240603T024800Z
LAST-MODIFIED:20240604T214311Z
UID:10001125-1719077400-1719088200@churchstreetfamily.com
SUMMARY:Live Music at the Shoppe - DOWNTOWN
DESCRIPTION:Your one-stop shoppe with LIVE MUSIC and FINE WINES.  \nSpend your Saturday evening socializing with fellow wine lovers while enjoying live music by local talent.
URL:https://churchstreetfamily.com/event/live-music-at-the-shoppe-downtown-46/
LOCATION:ChurchStreet Wine Shoppe Downtown\, 501 Church Street NW\, Huntsville\, 35801\, United States
ATTACH;FMTTYPE=image/jpeg:https://churchstreetfamily.com/wp-content/uploads/2024/06/DT-June-22-24.jpg
ORGANIZER;CN="ChurchStreet Family":MAILTO:hello@churchstreetfamily.com
END:VEVENT
BEGIN:VEVENT
DTSTART;TZID=America/Chicago:20240620T180000
DTEND;TZID=America/Chicago:20240620T210000
DTSTAMP:20260424T093057
CREATED:20240603T015428Z
LAST-MODIFIED:20240603T015428Z
UID:10001117-1718906400-1718917200@churchstreetfamily.com
SUMMARY:Live Music at the Shoppe - PROVIDENCE
DESCRIPTION:Start your weekend off right with live music at the Shoppe beginning at 6 pm.  \nShowcasing local artists\, fine wines and a fabulous seasonal menu.  \n#Uncork and #Unwine with us!
URL:https://churchstreetfamily.com/event/live-music-at-the-shoppe-providence-53/
LOCATION:ChurchStreet Wine Shoppe Providence\, 485 Providence Main Street Suite 101\, Huntsville\, 35806\, United States
ATTACH;FMTTYPE=image/jpeg:https://churchstreetfamily.com/wp-content/uploads/2024/06/PR-June-20-24.jpg
ORGANIZER;CN="ChurchStreet Family":MAILTO:hello@churchstreetfamily.com
END:VEVENT
BEGIN:VEVENT
DTSTART;TZID=America/Chicago:20240619T170000
DTEND;TZID=America/Chicago:20240619T200000
DTSTAMP:20260424T093057
CREATED:20240604T220132Z
LAST-MODIFIED:20240604T220132Z
UID:10001141-1718816400-1718827200@churchstreetfamily.com
SUMMARY:Patio Series - Purveyor Downtown
DESCRIPTION:Join us in Downtown Huntsville for the Purveyor Patio Series every Wednesday from 5 to 8 pm! Savor a delicious dinner and enjoy an evening of fun\, laughter\, and live entertainment.  \nDon’t miss out on the perfect midweek escape with great company and vibrant atmosphere!
URL:https://churchstreetfamily.com/event/patio-series-purveyor-downtown-3/
LOCATION:Purveyor\, 201 Jefferson Street N\, Huntsville\, AL\, 35801\, United States
ATTACH;FMTTYPE=image/png:https://churchstreetfamily.com/wp-content/uploads/2024/06/PV-06.19.png
ORGANIZER;CN="ChurchStreet Family":MAILTO:hello@churchstreetfamily.com
END:VEVENT
BEGIN:VEVENT
DTSTART;TZID=America/Chicago:20240618T180000
DTEND;TZID=America/Chicago:20240618T200000
DTSTAMP:20260424T093057
CREATED:20240603T030510Z
LAST-MODIFIED:20240603T030510Z
UID:10001129-1718733600-1718740800@churchstreetfamily.com
SUMMARY:Tuesday Trivia at Pourhouse
DESCRIPTION:Come join us for a fun-filled night of weekly trivia and drinks on the lawn!  \nIt’s something new every week so come test your knowledge while socializing with friends.
URL:https://churchstreetfamily.com/event/tuesday-trivia-at-pourhouse-16/
LOCATION:Pourhouse\, 3414 Governors Drive\, Huntsville\, AL\, 35805\, United States
ATTACH;FMTTYPE=image/jpeg:https://churchstreetfamily.com/wp-content/uploads/2024/06/6.18.24.jpg
ORGANIZER;CN="ChurchStreet Family":MAILTO:hello@churchstreetfamily.com
END:VEVENT
BEGIN:VEVENT
DTSTART;TZID=America/Chicago:20240616T130000
DTEND;TZID=America/Chicago:20240616T160000
DTSTAMP:20260424T093057
CREATED:20240604T211238Z
LAST-MODIFIED:20240604T211238Z
UID:10001136-1718542800-1718553600@churchstreetfamily.com
SUMMARY:Sunday Sidewalk Series - Sea Salt Downtown
DESCRIPTION:Live music\, fresh seafood and a long afternoon sounds like the perfect way to end the weekend\, right?  \nMake plans to come join us!⁣\n⁣\n⁣
URL:https://churchstreetfamily.com/event/sunday-sidewalk-series-sea-salt-downtown/
LOCATION:Sea Salt\, 114 Clinton Ave E\, Huntsville\, AL\, 35801\, United States
ATTACH;FMTTYPE=image/jpeg:https://churchstreetfamily.com/wp-content/uploads/2024/06/SS-06.16.jpg
END:VEVENT
BEGIN:VEVENT
DTSTART;TZID=America/Chicago:20240615T220000
DTEND;TZID=America/Chicago:20240616T010000
DTSTAMP:20260424T093057
CREATED:20240603T154226Z
LAST-MODIFIED:20240603T154331Z
UID:10001132-1718488800-1718499600@churchstreetfamily.com
SUMMARY:Late Night Piano Bar at The Library of Purveyor
DESCRIPTION:Gather ’round and join the melodious tunes in The Library of Purveyor’s Piano Bar! \nCome hear live music and create special memories with us tonight. \nReservations Recommended:  https://resy.com/cities/hsv/purveyor-huntsville?date=2023-10-05&seats=2:
URL:https://churchstreetfamily.com/event/late-night-piano-bar-at-the-library-of-purveyor-3/
LOCATION:The Library of Purveyor\, 201 Jefferson Street\, Huntsville\, AL\, 35801
ATTACH;FMTTYPE=image/png:https://churchstreetfamily.com/wp-content/uploads/2024/06/PB-06.15.24.png
ORGANIZER;CN="ChurchStreet Family":MAILTO:hello@churchstreetfamily.com
END:VEVENT
BEGIN:VEVENT
DTSTART;TZID=America/Chicago:20240615T180000
DTEND;TZID=America/Chicago:20240615T210000
DTSTAMP:20260424T093057
CREATED:20240603T022829Z
LAST-MODIFIED:20240603T022829Z
UID:10001120-1718474400-1718485200@churchstreetfamily.com
SUMMARY:Live Music at the Shoppe - PROVIDENCE
DESCRIPTION:Your one-stop shoppe with LIVE MUSIC and FINE WINES.  \nSpend your Saturday evening socializing with fellow wine lovers while enjoying live music by local talent.
URL:https://churchstreetfamily.com/event/live-music-at-the-shoppe-providence-56/
LOCATION:ChurchStreet Wine Shoppe Providence\, 485 Providence Main Street Suite 101\, Huntsville\, 35806\, United States
ATTACH;FMTTYPE=image/jpeg:https://churchstreetfamily.com/wp-content/uploads/2024/06/PR-June-15-24.jpg
ORGANIZER;CN="ChurchStreet Family":MAILTO:hello@churchstreetfamily.com
END:VEVENT
BEGIN:VEVENT
DTSTART;TZID=America/Chicago:20240615T173000
DTEND;TZID=America/Chicago:20240615T203000
DTSTAMP:20260424T093057
CREATED:20240603T024628Z
LAST-MODIFIED:20240604T214348Z
UID:10001124-1718472600-1718483400@churchstreetfamily.com
SUMMARY:Live Music at the Shoppe - DOWNTOWN
DESCRIPTION:Your one-stop shoppe with LIVE MUSIC and FINE WINES.  \nSpend your Saturday evening socializing with fellow wine lovers while enjoying live music by local talent.
URL:https://churchstreetfamily.com/event/live-music-at-the-shoppe-downtown-45/
LOCATION:ChurchStreet Wine Shoppe Downtown\, 501 Church Street NW\, Huntsville\, 35801\, United States
ATTACH;FMTTYPE=image/jpeg:https://churchstreetfamily.com/wp-content/uploads/2024/06/DT-June-15-24.jpg
ORGANIZER;CN="ChurchStreet Family":MAILTO:hello@churchstreetfamily.com
END:VEVENT
BEGIN:VEVENT
DTSTART;TZID=America/Chicago:20240613T180000
DTEND;TZID=America/Chicago:20240613T210000
DTSTAMP:20260424T093057
CREATED:20240603T015305Z
LAST-MODIFIED:20240603T015305Z
UID:10001116-1718301600-1718312400@churchstreetfamily.com
SUMMARY:Live Music at the Shoppe - PROVIDENCE
DESCRIPTION:Start your weekend off right with live music at the Shoppe beginning at 6 pm.  \nShowcasing local artists\, fine wines and a fabulous seasonal menu. \n #Uncork and #Unwine with us!
URL:https://churchstreetfamily.com/event/live-music-at-the-shoppe-providence-52/
LOCATION:ChurchStreet Wine Shoppe Providence\, 485 Providence Main Street Suite 101\, Huntsville\, 35806\, United States
ATTACH;FMTTYPE=image/jpeg:https://churchstreetfamily.com/wp-content/uploads/2024/06/PR-June-13-24.jpg
ORGANIZER;CN="ChurchStreet Family":MAILTO:hello@churchstreetfamily.com
END:VEVENT
END:VCALENDAR