BEGIN:VCALENDAR
VERSION:2.0
PRODID:-//Church Street Family - ECPv6.15.12.2//NONSGML v1.0//EN
CALSCALE:GREGORIAN
METHOD:PUBLISH
X-WR-CALNAME:Church Street Family
X-ORIGINAL-URL:https://churchstreetfamily.com
X-WR-CALDESC:Events for Church Street Family
REFRESH-INTERVAL;VALUE=DURATION:PT1H
X-Robots-Tag:noindex
X-PUBLISHED-TTL:PT1H
BEGIN:VTIMEZONE
TZID:America/Chicago
BEGIN:DAYLIGHT
TZOFFSETFROM:-0600
TZOFFSETTO:-0500
TZNAME:CDT
DTSTART:20230312T080000
END:DAYLIGHT
BEGIN:STANDARD
TZOFFSETFROM:-0500
TZOFFSETTO:-0600
TZNAME:CST
DTSTART:20231105T070000
END:STANDARD
BEGIN:DAYLIGHT
TZOFFSETFROM:-0600
TZOFFSETTO:-0500
TZNAME:CDT
DTSTART:20240310T080000
END:DAYLIGHT
BEGIN:STANDARD
TZOFFSETFROM:-0500
TZOFFSETTO:-0600
TZNAME:CST
DTSTART:20241103T070000
END:STANDARD
BEGIN:DAYLIGHT
TZOFFSETFROM:-0600
TZOFFSETTO:-0500
TZNAME:CDT
DTSTART:20250309T080000
END:DAYLIGHT
BEGIN:STANDARD
TZOFFSETFROM:-0500
TZOFFSETTO:-0600
TZNAME:CST
DTSTART:20251102T070000
END:STANDARD
END:VTIMEZONE
BEGIN:VEVENT
DTSTART;TZID=America/Chicago:20240811T130000
DTEND;TZID=America/Chicago:20240811T160000
DTSTAMP:20260422T035631
CREATED:20240805T224157Z
LAST-MODIFIED:20240805T224157Z
UID:10001188-1723381200-1723392000@churchstreetfamily.com
SUMMARY:Sidewalk Series at SEA SALT
DESCRIPTION:Live music\, fresh seafood and a long afternoon sounds like the perfect way to end the weekend\, right? \nMake plans to come join us!⁣\n⁣\n⁣ \n⁣⁣⁣⁣⁣⁣
URL:https://churchstreetfamily.com/event/sidewalk-series-at-sea-salt-4/
LOCATION:Sea Salt\, 114 Clinton Ave E\, Huntsville\, AL\, 35801\, United States
ATTACH;FMTTYPE=image/png:https://churchstreetfamily.com/wp-content/uploads/2024/08/SS-AUG-11-24.png
END:VEVENT
BEGIN:VEVENT
DTSTART;TZID=America/Chicago:20240810T180000
DTEND;TZID=America/Chicago:20240810T210000
DTSTAMP:20260422T035631
CREATED:20240805T222000Z
LAST-MODIFIED:20240805T222000Z
UID:10001176-1723312800-1723323600@churchstreetfamily.com
SUMMARY:Live Music at the Shoppe - PROVIDENCE
DESCRIPTION:Your one-stop shoppe with LIVE MUSIC and FINE WINES. \nSpend your Saturday evening socializing with fellow wine lovers while enjoying live music by local talent.
URL:https://churchstreetfamily.com/event/live-music-at-the-shoppe-providence-63/
LOCATION:ChurchStreet Wine Shoppe Providence\, 485 Providence Main Street Suite 101\, Huntsville\, 35806\, United States
ATTACH;FMTTYPE=image/png:https://churchstreetfamily.com/wp-content/uploads/2024/08/PR-Aug-10-24.png
ORGANIZER;CN="ChurchStreet Family":MAILTO:hello@churchstreetfamily.com
END:VEVENT
BEGIN:VEVENT
DTSTART;TZID=America/Chicago:20240810T173000
DTEND;TZID=America/Chicago:20240810T203000
DTSTAMP:20260422T035631
CREATED:20240805T221352Z
LAST-MODIFIED:20240805T221352Z
UID:10001172-1723311000-1723321800@churchstreetfamily.com
SUMMARY:Live Music at the Shoppe - DOWNTOWN
DESCRIPTION:Your one-stop shoppe with LIVE MUSIC and FINE WINES. \nSpend your Saturday evening socializing with fellow wine lovers while enjoying live music by local talent.
URL:https://churchstreetfamily.com/event/live-music-at-the-shoppe-downtown-52/
LOCATION:ChurchStreet Wine Shoppe Downtown\, 501 Church Street NW\, Huntsville\, 35801\, United States
ATTACH;FMTTYPE=image/png:https://churchstreetfamily.com/wp-content/uploads/2024/08/DT-Aug-10-24.png
ORGANIZER;CN="ChurchStreet Family":MAILTO:hello@churchstreetfamily.com
END:VEVENT
BEGIN:VEVENT
DTSTART;TZID=America/Chicago:20240807T180000
DTEND;TZID=America/Chicago:20240807T210000
DTSTAMP:20260422T035631
CREATED:20240805T222753Z
LAST-MODIFIED:20240805T222753Z
UID:10001180-1723053600-1723064400@churchstreetfamily.com
SUMMARY:Live Music on the Lawn - POURHOUSE
DESCRIPTION:Join us on the lawn for live music! \nGrab a drink\, grab your seat\, and enjoy the show!
URL:https://churchstreetfamily.com/event/live-music-on-the-lawn-pourhouse-5/
LOCATION:Pourhouse\, 3414 Governors Drive\, Huntsville\, AL\, 35805\, United States
ATTACH;FMTTYPE=image/png:https://churchstreetfamily.com/wp-content/uploads/2024/08/PH08.07-2024.png
ORGANIZER;CN="ChurchStreet Family":MAILTO:hello@churchstreetfamily.com
END:VEVENT
BEGIN:VEVENT
DTSTART;TZID=America/Chicago:20240807T180000
DTEND;TZID=America/Chicago:20240807T200000
DTSTAMP:20260422T035631
CREATED:20240802T202932Z
LAST-MODIFIED:20240802T202932Z
UID:10001171-1723053600-1723060800@churchstreetfamily.com
SUMMARY:Italian Wine Dinner at Li'l Mazzaras
DESCRIPTION:Set against the charming backdrop of downtown Athens\, our Italian Wine Dinner will offer an unforgettable experience filled with warmth\, elegance\, and conviviality. You’ll have the opportunity to savor a variety of Italian wines\, each with its unique character and story\, expertly paired with gourmet dishes prepared by our talented chefs. \nJoin us for an evening of fine dining\, great company\, and the chance to immerse yourself in the rich culture and traditions of Italy. We look forward to raising a glass with you! \nGet your tickets today!
URL:https://churchstreetfamily.com/event/italian-wine-dinner-at-lil-mazzaras/
LOCATION:Li’l Mazzara’s\, 102 Washington St E\, Athens\, AL\, 35611\, United States
ATTACH;FMTTYPE=image/png:https://churchstreetfamily.com/wp-content/uploads/2024/08/new-item-1.png
ORGANIZER;CN="ChurchStreet Family":MAILTO:hello@churchstreetfamily.com
END:VEVENT
BEGIN:VEVENT
DTSTART;TZID=America/Chicago:20240806T180000
DTEND;TZID=America/Chicago:20240806T200000
DTSTAMP:20260422T035631
CREATED:20240805T223435Z
LAST-MODIFIED:20240805T223435Z
UID:10001184-1722967200-1722974400@churchstreetfamily.com
SUMMARY:Tuesday Trivia - POURHOUSE
DESCRIPTION:Come join us for a fun-filled night of weekly trivia and drinks on the lawn! \nIt’s something new every week so come test your knowledge while socializing with friends.
URL:https://churchstreetfamily.com/event/tuesday-trivia-pourhouse-9/
LOCATION:Pourhouse\, 3414 Governors Drive\, Huntsville\, AL\, 35805\, United States
ATTACH;FMTTYPE=image/jpeg:https://churchstreetfamily.com/wp-content/uploads/2024/08/08.06.24.jpg
ORGANIZER;CN="ChurchStreet Family":MAILTO:hello@churchstreetfamily.com
END:VEVENT
BEGIN:VEVENT
DTSTART;TZID=America/Chicago:20240804T130000
DTEND;TZID=America/Chicago:20240804T153000
DTSTAMP:20260422T035631
CREATED:20240719T020053Z
LAST-MODIFIED:20240719T020053Z
UID:10001170-1722776400-1722785400@churchstreetfamily.com
SUMMARY:Craft Cocktail Class by Catacomb435
DESCRIPTION:We’ve got another #ChurchStreetExperience: 𝐂𝐚𝐭𝐚𝐜𝐨𝐦𝐛 𝐂𝐫𝐚𝐟𝐭 𝐂𝐨𝐜𝐤𝐭𝐚𝐢𝐥 𝐂𝐥𝐚𝐬𝐬! ⁣⁣⁣⁣\n⁣⁣⁣\nJoin us for an exclusive 𝘉𝘰𝘶𝘳𝘣𝘰𝘯 𝘊𝘳𝘢𝘧𝘵 𝘊𝘰𝘤𝘬𝘵𝘢𝘪𝘭 𝘊𝘭𝘢𝘴𝘴 at Purveyor! Elevate your mixology skills with our expert bartender and learn to create the perfect drink. Perfect for a sophisticated night out or a unique date night experience. Limited spots are available—reserve yours today! 🥃 ⁣⁣⁣\n⁣⁣⁣\n⁣Tickets: https://tickets.bestofhuntsville.com//events/craft-cocktail-class-by-catacomb435-7-28-2024⁣\n⁣⁣⁣\n#CraftCocktails #BourbonLovers #EatLocal #ThingsToDoHSV #HuntsvilleAL
URL:https://churchstreetfamily.com/event/craft-cocktail-class-by-catacomb435/
LOCATION:Purveyor\, 201 Jefferson Street N\, Huntsville\, AL\, 35801\, United States
ATTACH;FMTTYPE=image/png:https://churchstreetfamily.com/wp-content/uploads/2024/07/CC-Bourbon.png
ORGANIZER;CN="ChurchStreet Family":MAILTO:hello@churchstreetfamily.com
END:VEVENT
BEGIN:VEVENT
DTSTART;TZID=America/Chicago:20240728T140000
DTEND;TZID=America/Chicago:20240728T170000
DTSTAMP:20260422T035631
CREATED:20240630T211812Z
LAST-MODIFIED:20240630T211812Z
UID:10001157-1722175200-1722186000@churchstreetfamily.com
SUMMARY:SIDEWALK SERIES - SEA SALT
DESCRIPTION:Live music\, fresh seafood and a long afternoon sounds like the perfect way to end the weekend\, right? Make plans to come join us!⁣\n⁣\n⁣
URL:https://churchstreetfamily.com/event/sidewalk-series-sea-salt-4/
LOCATION:Sea Salt\, 114 Clinton Ave E\, Huntsville\, AL\, 35801\, United States
ATTACH;FMTTYPE=image/png:https://churchstreetfamily.com/wp-content/uploads/2024/06/SS-JULY-28-24.png
END:VEVENT
BEGIN:VEVENT
DTSTART;TZID=America/Chicago:20240727T180000
DTEND;TZID=America/Chicago:20240727T210000
DTSTAMP:20260422T035631
CREATED:20240630T210310Z
LAST-MODIFIED:20240630T210310Z
UID:10001149-1722103200-1722114000@churchstreetfamily.com
SUMMARY:LIVE MUSIC at the shoppe - PROVIDENCE
DESCRIPTION:Your one-stop shoppe with LIVE MUSIC and FINE WINES.  \nSpend your Saturday evening socializing with fellow wine lovers while enjoying live music by local talent.
URL:https://churchstreetfamily.com/event/live-music-at-the-shoppe-providence-62/
LOCATION:ChurchStreet Wine Shoppe Providence\, 485 Providence Main Street Suite 101\, Huntsville\, 35806\, United States
ATTACH;FMTTYPE=image/png:https://churchstreetfamily.com/wp-content/uploads/2024/06/PR-July-27-24.png
ORGANIZER;CN="ChurchStreet Family":MAILTO:hello@churchstreetfamily.com
END:VEVENT
BEGIN:VEVENT
DTSTART;TZID=America/Chicago:20240727T173000
DTEND;TZID=America/Chicago:20240727T203000
DTSTAMP:20260422T035631
CREATED:20240630T211037Z
LAST-MODIFIED:20240630T211037Z
UID:10001153-1722101400-1722112200@churchstreetfamily.com
SUMMARY:LIVE MUSIC at the shoppe - DOWNTOWN
DESCRIPTION:Your one-stop shoppe with LIVE MUSIC and FINE WINES.  \nSpend your Saturday evening socializing with fellow wine lovers while enjoying live music by local talent.
URL:https://churchstreetfamily.com/event/live-music-at-the-shoppe-downtown-51/
LOCATION:ChurchStreet Wine Shoppe Downtown\, 501 Church Street NW\, Huntsville\, 35801\, United States
ATTACH;FMTTYPE=image/png:https://churchstreetfamily.com/wp-content/uploads/2024/06/DT-July-27-24.png
ORGANIZER;CN="ChurchStreet Family":MAILTO:hello@churchstreetfamily.com
END:VEVENT
BEGIN:VEVENT
DTSTART;TZID=America/Chicago:20240725T180000
DTEND;TZID=America/Chicago:20240725T210000
DTSTAMP:20260422T035631
CREATED:20240630T204837Z
LAST-MODIFIED:20240630T204837Z
UID:10001145-1721930400-1721941200@churchstreetfamily.com
SUMMARY:WINEDOWN at the shoppe - PROVIDENCE
DESCRIPTION:Start your weekend off right with live music at the Shoppe beginning at 6 pm. \n Showcasing local artists\, fine wines and a fabulous seasonal menu.  \n#Uncork and #Unwine with us!
URL:https://churchstreetfamily.com/event/winedown-at-the-shoppe-providence-3/
LOCATION:ChurchStreet Wine Shoppe Providence\, 485 Providence Main Street Suite 101\, Huntsville\, 35806\, United States
ATTACH;FMTTYPE=image/png:https://churchstreetfamily.com/wp-content/uploads/2024/06/PR-July-25-24.png
ORGANIZER;CN="ChurchStreet Family":MAILTO:hello@churchstreetfamily.com
END:VEVENT
BEGIN:VEVENT
DTSTART;TZID=America/Chicago:20240724T180000
DTEND;TZID=America/Chicago:20240724T210000
DTSTAMP:20260422T035631
CREATED:20240630T212719Z
LAST-MODIFIED:20240630T212719Z
UID:10001161-1721844000-1721854800@churchstreetfamily.com
SUMMARY:LIVE MUSIC on the lawn - POURHOUSE
DESCRIPTION:Join us on the lawn for live music!  \nGrab a drink\, grab your seat\, and enjoy the show! \n 
URL:https://churchstreetfamily.com/event/live-music-on-the-lawn-pourhouse-4/
LOCATION:Pourhouse\, 3414 Governors Drive\, Huntsville\, AL\, 35805\, United States
ATTACH;FMTTYPE=image/png:https://churchstreetfamily.com/wp-content/uploads/2024/06/PH-July-24-2024.png
END:VEVENT
BEGIN:VEVENT
DTSTART;TZID=America/Chicago:20240723T180000
DTEND;TZID=America/Chicago:20240723T200000
DTSTAMP:20260422T035631
CREATED:20240630T213333Z
LAST-MODIFIED:20240630T213333Z
UID:10001165-1721757600-1721764800@churchstreetfamily.com
SUMMARY:TUESDAY TRIVIA - POURHOUSE
DESCRIPTION:Come join us for a fun-filled night of weekly trivia and drinks on the lawn!  \nIt’s something new every week so come test your knowledge while socializing with friends.
URL:https://churchstreetfamily.com/event/tuesday-trivia-pourhouse-7/
LOCATION:Pourhouse\, 3414 Governors Drive\, Huntsville\, AL\, 35805\, United States
ATTACH;FMTTYPE=image/jpeg:https://churchstreetfamily.com/wp-content/uploads/2024/06/07.23.24.jpg
END:VEVENT
BEGIN:VEVENT
DTSTART;TZID=America/Chicago:20240721T140000
DTEND;TZID=America/Chicago:20240721T170000
DTSTAMP:20260422T035631
CREATED:20240630T211701Z
LAST-MODIFIED:20240630T211701Z
UID:10001156-1721570400-1721581200@churchstreetfamily.com
SUMMARY:SIDEWALK SERIES - SEA SALT
DESCRIPTION:Live music\, fresh seafood and a long afternoon sounds like the perfect way to end the weekend\, right? Make plans to come join us!⁣\n⁣\n⁣ \n.
URL:https://churchstreetfamily.com/event/sidewalk-series-sea-salt-3/
LOCATION:Sea Salt\, 114 Clinton Ave E\, Huntsville\, AL\, 35801\, United States
ATTACH;FMTTYPE=image/png:https://churchstreetfamily.com/wp-content/uploads/2024/06/SS-JULY-21-24.png
ORGANIZER;CN="ChurchStreet Family":MAILTO:hello@churchstreetfamily.com
END:VEVENT
BEGIN:VEVENT
DTSTART;TZID=America/Chicago:20240720T180000
DTEND;TZID=America/Chicago:20240720T210000
DTSTAMP:20260422T035631
CREATED:20240630T210139Z
LAST-MODIFIED:20240630T210139Z
UID:10001148-1721498400-1721509200@churchstreetfamily.com
SUMMARY:LIVE MUSIC at the shoppe - PROVIDENCE
DESCRIPTION:Your one-stop shoppe with LIVE MUSIC and FINE WINES.  \nSpend your Saturday evening socializing with fellow wine lovers while enjoying live music by local talent.
URL:https://churchstreetfamily.com/event/live-music-at-the-shoppe-providence-61/
LOCATION:ChurchStreet Wine Shoppe Providence\, 485 Providence Main Street Suite 101\, Huntsville\, 35806\, United States
ATTACH;FMTTYPE=image/png:https://churchstreetfamily.com/wp-content/uploads/2024/06/PR-July-20-24.png
ORGANIZER;CN="ChurchStreet Family":MAILTO:hello@churchstreetfamily.com
END:VEVENT
BEGIN:VEVENT
DTSTART;TZID=America/Chicago:20240720T173000
DTEND;TZID=America/Chicago:20240720T203000
DTSTAMP:20260422T035631
CREATED:20240630T210904Z
LAST-MODIFIED:20240630T210904Z
UID:10001152-1721496600-1721507400@churchstreetfamily.com
SUMMARY:LIVE MUSIC at the shoppe - DOWNTOWN
DESCRIPTION:Your one-stop shoppe with LIVE MUSIC and FINE WINES. \n Spend your Saturday evening socializing with fellow wine lovers while enjoying live music by local talent.
URL:https://churchstreetfamily.com/event/live-music-at-the-shoppe-downtown-50/
LOCATION:ChurchStreet Wine Shoppe Downtown\, 501 Church Street NW\, Huntsville\, 35801\, United States
ATTACH;FMTTYPE=image/png:https://churchstreetfamily.com/wp-content/uploads/2024/06/DT-July-20-24.png
ORGANIZER;CN="ChurchStreet Family":MAILTO:hello@churchstreetfamily.com
END:VEVENT
BEGIN:VEVENT
DTSTART;TZID=America/Chicago:20240718T180000
DTEND;TZID=America/Chicago:20240718T210000
DTSTAMP:20260422T035631
CREATED:20240630T204656Z
LAST-MODIFIED:20240630T204656Z
UID:10001144-1721325600-1721336400@churchstreetfamily.com
SUMMARY:WINEDOWN at the shoppe - PROVIDENCE
DESCRIPTION:Start your weekend off right with live music at the Shoppe beginning at 6 pm. \n Showcasing local artists\, fine wines and a fabulous seasonal menu.  \n#Uncork and #Unwine with us!
URL:https://churchstreetfamily.com/event/winedown-at-the-shoppe-providence-2/
LOCATION:ChurchStreet Wine Shoppe Providence\, 485 Providence Main Street Suite 101\, Huntsville\, 35806\, United States
ATTACH;FMTTYPE=image/png:https://churchstreetfamily.com/wp-content/uploads/2024/06/PR-July-18-24.png
ORGANIZER;CN="ChurchStreet Family":MAILTO:hello@churchstreetfamily.com
END:VEVENT
BEGIN:VEVENT
DTSTART;TZID=America/Chicago:20240717T180000
DTEND;TZID=America/Chicago:20240717T210000
DTSTAMP:20260422T035631
CREATED:20240630T212552Z
LAST-MODIFIED:20240630T212552Z
UID:10001160-1721239200-1721250000@churchstreetfamily.com
SUMMARY:LIVE MUSIC on the lawn - POURHOUSE
DESCRIPTION:Join us on the lawn for live music!  \nGrab a drink\, grab your seat\, and enjoy the show!
URL:https://churchstreetfamily.com/event/live-music-on-the-lawn-pourhouse-3/
LOCATION:Pourhouse\, 3414 Governors Drive\, Huntsville\, AL\, 35805\, United States
ATTACH;FMTTYPE=image/png:https://churchstreetfamily.com/wp-content/uploads/2024/06/PH-July-17-2024.png
ORGANIZER;CN="ChurchStreet Family":MAILTO:hello@churchstreetfamily.com
END:VEVENT
BEGIN:VEVENT
DTSTART;TZID=America/Chicago:20240716T180000
DTEND;TZID=America/Chicago:20240716T200000
DTSTAMP:20260422T035631
CREATED:20240630T213217Z
LAST-MODIFIED:20240630T213217Z
UID:10001164-1721152800-1721160000@churchstreetfamily.com
SUMMARY:TUESDAY TRIVIA - POURHOUSE
DESCRIPTION:Come join us for a fun-filled night of weekly trivia and drinks on the lawn!  \nIt’s something new every week so come test your knowledge while socializing with friends.
URL:https://churchstreetfamily.com/event/tuesday-trivia-pourhouse-6/
LOCATION:Pourhouse\, 3414 Governors Drive\, Huntsville\, AL\, 35805\, United States
ATTACH;FMTTYPE=image/jpeg:https://churchstreetfamily.com/wp-content/uploads/2024/06/07.16.24.jpg
END:VEVENT
BEGIN:VEVENT
DTSTART;TZID=America/Chicago:20240714T160000
DTEND;TZID=America/Chicago:20240714T180000
DTSTAMP:20260422T035631
CREATED:20240428T174852Z
LAST-MODIFIED:20240708T184340Z
UID:10001087-1720972800-1720980000@churchstreetfamily.com
SUMMARY:Purveyor Supper Club
DESCRIPTION:You’re invited to join us at the Purveyor Supper Club for “Grill and Chill\,” an elevated BBQ experience on the patio! \nEnjoy a delightful evening of delicious food\, refreshing drinks\, and fun games in a relaxed outdoor setting. Don’t miss out on this perfect opportunity to unwind and socialize with friends and fellow food enthusiasts. \nSave your seat here: https://tickets.bestofhuntsville.com//events/supper-club-patio-grill-chill-7-14-2024
URL:https://churchstreetfamily.com/event/purveyor-supper-club-3/
LOCATION:Purveyor\, 201 Jefferson Street N\, Huntsville\, AL\, 35801\, United States
ATTACH;FMTTYPE=image/jpeg:https://churchstreetfamily.com/wp-content/uploads/2024/04/JULY-24-SC-Calendar.jpg
ORGANIZER;CN="ChurchStreet Family":MAILTO:hello@churchstreetfamily.com
END:VEVENT
BEGIN:VEVENT
DTSTART;TZID=America/Chicago:20240714T140000
DTEND;TZID=America/Chicago:20240714T170000
DTSTAMP:20260422T035631
CREATED:20240630T211529Z
LAST-MODIFIED:20240630T211529Z
UID:10001155-1720965600-1720976400@churchstreetfamily.com
SUMMARY:SIDEWALK SERIES - SEA SALT
DESCRIPTION:Live music\, fresh seafood and a long afternoon sounds like the perfect way to end the weekend\, right? Make plans to come join us!⁣\n⁣\n⁣ \n⁣⁣⁣⁣⁣⁣\n.
URL:https://churchstreetfamily.com/event/sidewalk-series-sea-salt-2/
LOCATION:Sea Salt\, 114 Clinton Ave E\, Huntsville\, AL\, 35801\, United States
ATTACH;FMTTYPE=image/png:https://churchstreetfamily.com/wp-content/uploads/2024/06/SS-JULY-14-24.png
ORGANIZER;CN="ChurchStreet Family":MAILTO:hello@churchstreetfamily.com
END:VEVENT
BEGIN:VEVENT
DTSTART;TZID=America/Chicago:20240713T180000
DTEND;TZID=America/Chicago:20240713T210000
DTSTAMP:20260422T035631
CREATED:20240630T205949Z
LAST-MODIFIED:20240630T210000Z
UID:10001147-1720893600-1720904400@churchstreetfamily.com
SUMMARY:LIVE MUSIC at the shoppe - PROVIDENCE
DESCRIPTION:Your one-stop shoppe with LIVE MUSIC and FINE WINES.  \nSpend your Saturday evening socializing with fellow wine lovers while enjoying live music by local talent.
URL:https://churchstreetfamily.com/event/live-music-at-the-shoppe-providence-60/
LOCATION:ChurchStreet Wine Shoppe Providence\, 485 Providence Main Street Suite 101\, Huntsville\, 35806\, United States
ATTACH;FMTTYPE=image/png:https://churchstreetfamily.com/wp-content/uploads/2024/06/PR-July-13-24.png
ORGANIZER;CN="ChurchStreet Family":MAILTO:hello@churchstreetfamily.com
END:VEVENT
BEGIN:VEVENT
DTSTART;TZID=America/Chicago:20240713T173000
DTEND;TZID=America/Chicago:20240713T203000
DTSTAMP:20260422T035631
CREATED:20240630T210738Z
LAST-MODIFIED:20240630T210738Z
UID:10001151-1720891800-1720902600@churchstreetfamily.com
SUMMARY:LIVE MUSIC at the shoppe - DOWNTOWN
DESCRIPTION:Your one-stop shoppe with LIVE MUSIC and FINE WINES.  \nSpend your Saturday evening socializing with fellow wine lovers while enjoying live music by local talent.
URL:https://churchstreetfamily.com/event/live-music-at-the-shoppe-downtown-49/
LOCATION:ChurchStreet Wine Shoppe Downtown\, 501 Church Street NW\, Huntsville\, 35801\, United States
ATTACH;FMTTYPE=image/png:https://churchstreetfamily.com/wp-content/uploads/2024/06/DT-July-13-24.png
END:VEVENT
BEGIN:VEVENT
DTSTART;TZID=America/Chicago:20240711T180000
DTEND;TZID=America/Chicago:20240711T210000
DTSTAMP:20260422T035631
CREATED:20240630T204526Z
LAST-MODIFIED:20240630T204526Z
UID:10001143-1720720800-1720731600@churchstreetfamily.com
SUMMARY:WINEDOWN at the shoppe - PROVIDENCE
DESCRIPTION:Start your weekend off right with live music at the Shoppe beginning at 6 pm.  \nShowcasing local artists\, fine wines and a fabulous seasonal menu.  \n#Uncork and #Unwine with us!
URL:https://churchstreetfamily.com/event/winedown-at-the-shoppe-providence/
LOCATION:ChurchStreet Wine Shoppe Providence\, 485 Providence Main Street Suite 101\, Huntsville\, 35806\, United States
ATTACH;FMTTYPE=image/png:https://churchstreetfamily.com/wp-content/uploads/2024/06/PR-July-11-24.png
ORGANIZER;CN="ChurchStreet Family":MAILTO:hello@churchstreetfamily.com
END:VEVENT
BEGIN:VEVENT
DTSTART;TZID=America/Chicago:20240710T180000
DTEND;TZID=America/Chicago:20240710T210000
DTSTAMP:20260422T035631
CREATED:20240630T212421Z
LAST-MODIFIED:20240630T212421Z
UID:10001159-1720634400-1720645200@churchstreetfamily.com
SUMMARY:LIVE MUSIC on the lawn - POURHOUSE
DESCRIPTION:Join us on the lawn for live music! \n Grab a drink\, grab your seat\, and enjoy the show!
URL:https://churchstreetfamily.com/event/live-music-on-the-lawn-pourhouse-2/
LOCATION:Pourhouse\, 3414 Governors Drive\, Huntsville\, AL\, 35805\, United States
ATTACH;FMTTYPE=image/png:https://churchstreetfamily.com/wp-content/uploads/2024/06/PH-July-10-2024.png
ORGANIZER;CN="ChurchStreet Family":MAILTO:hello@churchstreetfamily.com
END:VEVENT
BEGIN:VEVENT
DTSTART;TZID=America/Chicago:20240709T180000
DTEND;TZID=America/Chicago:20240709T200000
DTSTAMP:20260422T035631
CREATED:20240630T213102Z
LAST-MODIFIED:20240630T213102Z
UID:10001163-1720548000-1720555200@churchstreetfamily.com
SUMMARY:TUESDAY TRIVIA - POURHOUSE
DESCRIPTION:Come join us for a fun-filled night of weekly trivia and drinks on the lawn!  \nIt’s something new every week so come test your knowledge while socializing with friends.
URL:https://churchstreetfamily.com/event/tuesday-trivia-pourhouse-5/
LOCATION:Pourhouse\, 3414 Governors Drive\, Huntsville\, AL\, 35805\, United States
ATTACH;FMTTYPE=image/jpeg:https://churchstreetfamily.com/wp-content/uploads/2024/06/07.09.24.jpg
ORGANIZER;CN="ChurchStreet Family":MAILTO:hello@churchstreetfamily.com
END:VEVENT
BEGIN:VEVENT
DTSTART;TZID=America/Chicago:20240707T140000
DTEND;TZID=America/Chicago:20240707T170000
DTSTAMP:20260422T035631
CREATED:20240630T211405Z
LAST-MODIFIED:20240630T211405Z
UID:10001154-1720360800-1720371600@churchstreetfamily.com
SUMMARY:SIDEWALK SERIES - SEA SALT
DESCRIPTION:Live music\, fresh seafood and a long afternoon sounds like the perfect way to end the weekend\, right? Make plans to come join us!⁣\n⁣ \n⁣⁣⁣⁣⁣⁣\n.
URL:https://churchstreetfamily.com/event/sidewalk-series-sea-salt/
LOCATION:Sea Salt\, 114 Clinton Ave E\, Huntsville\, AL\, 35801\, United States
ATTACH;FMTTYPE=image/png:https://churchstreetfamily.com/wp-content/uploads/2024/06/SS-JULY-07-24.png
ORGANIZER;CN="ChurchStreet Family":MAILTO:hello@churchstreetfamily.com
END:VEVENT
BEGIN:VEVENT
DTSTART;TZID=America/Chicago:20240706T180000
DTEND;TZID=America/Chicago:20240706T210000
DTSTAMP:20260422T035631
CREATED:20240630T205807Z
LAST-MODIFIED:20240630T205807Z
UID:10001146-1720288800-1720299600@churchstreetfamily.com
SUMMARY:LIVE MUSIC at the shoppe - PROVIDENCE
DESCRIPTION:Your one-stop shoppe with LIVE MUSIC and FINE WINES.  \nSpend your Saturday evening socializing with fellow wine lovers while enjoying live music by local talent.
URL:https://churchstreetfamily.com/event/live-music-at-the-shoppe-providence-59/
LOCATION:ChurchStreet Wine Shoppe Providence\, 485 Providence Main Street Suite 101\, Huntsville\, 35806\, United States
ATTACH;FMTTYPE=image/png:https://churchstreetfamily.com/wp-content/uploads/2024/06/PR-July-06-24.png
ORGANIZER;CN="ChurchStreet Family":MAILTO:hello@churchstreetfamily.com
END:VEVENT
BEGIN:VEVENT
DTSTART;TZID=America/Chicago:20240706T173000
DTEND;TZID=America/Chicago:20240706T203000
DTSTAMP:20260422T035631
CREATED:20240630T210606Z
LAST-MODIFIED:20240630T210606Z
UID:10001150-1720287000-1720297800@churchstreetfamily.com
SUMMARY:LIVE MUSIC at the shoppe - DOWNTOWN
DESCRIPTION:Your one-stop shoppe with LIVE MUSIC and FINE WINES.  \nSpend your Saturday evening socializing with fellow wine lovers while enjoying live music by local talent.
URL:https://churchstreetfamily.com/event/live-music-at-the-shoppe-downtown-48/
LOCATION:ChurchStreet Wine Shoppe Downtown\, 501 Church Street NW\, Huntsville\, 35801\, United States
ATTACH;FMTTYPE=image/png:https://churchstreetfamily.com/wp-content/uploads/2024/06/DT-July-06-24.png
ORGANIZER;CN="ChurchStreet Family":MAILTO:hello@churchstreetfamily.com
END:VEVENT
BEGIN:VEVENT
DTSTART;TZID=America/Chicago:20240703T180000
DTEND;TZID=America/Chicago:20240703T210000
DTSTAMP:20260422T035631
CREATED:20240630T212256Z
LAST-MODIFIED:20240630T212256Z
UID:10001158-1720029600-1720040400@churchstreetfamily.com
SUMMARY:LIVE MUSIC on the lawn - POURHOUSE
DESCRIPTION:Join us on the lawn for live music!  \nGrab a drink\, grab your seat\, and enjoy the show! \n\n⁣⁣⁣⁣⁣⁣\n.
URL:https://churchstreetfamily.com/event/live-music-on-the-lawn-pourhouse/
LOCATION:Pourhouse\, 3414 Governors Drive\, Huntsville\, AL\, 35805\, United States
ATTACH;FMTTYPE=image/png:https://churchstreetfamily.com/wp-content/uploads/2024/06/PH-July-03-2024.png
ORGANIZER;CN="ChurchStreet Family":MAILTO:hello@churchstreetfamily.com
END:VEVENT
END:VCALENDAR