BEGIN:VCALENDAR
VERSION:2.0
PRODID:-//Church Street Family - ECPv6.15.12.2//NONSGML v1.0//EN
CALSCALE:GREGORIAN
METHOD:PUBLISH
X-ORIGINAL-URL:https://churchstreetfamily.com
X-WR-CALDESC:Events for Church Street Family
REFRESH-INTERVAL;VALUE=DURATION:PT1H
X-Robots-Tag:noindex
X-PUBLISHED-TTL:PT1H
BEGIN:VTIMEZONE
TZID:America/Chicago
BEGIN:DAYLIGHT
TZOFFSETFROM:-0600
TZOFFSETTO:-0500
TZNAME:CDT
DTSTART:20230312T080000
END:DAYLIGHT
BEGIN:STANDARD
TZOFFSETFROM:-0500
TZOFFSETTO:-0600
TZNAME:CST
DTSTART:20231105T070000
END:STANDARD
BEGIN:DAYLIGHT
TZOFFSETFROM:-0600
TZOFFSETTO:-0500
TZNAME:CDT
DTSTART:20240310T080000
END:DAYLIGHT
BEGIN:STANDARD
TZOFFSETFROM:-0500
TZOFFSETTO:-0600
TZNAME:CST
DTSTART:20241103T070000
END:STANDARD
BEGIN:DAYLIGHT
TZOFFSETFROM:-0600
TZOFFSETTO:-0500
TZNAME:CDT
DTSTART:20250309T080000
END:DAYLIGHT
BEGIN:STANDARD
TZOFFSETFROM:-0500
TZOFFSETTO:-0600
TZNAME:CST
DTSTART:20251102T070000
END:STANDARD
END:VTIMEZONE
BEGIN:VEVENT
DTSTART;TZID=America/Chicago:20241011T183000
DTEND;TZID=America/Chicago:20241011T223000
DTSTAMP:20260419T220156
CREATED:20241001T225701Z
LAST-MODIFIED:20241001T225701Z
UID:10001233-1728671400-1728685800@churchstreetfamily.com
SUMMARY:ChurchStreet Piano Bar
DESCRIPTION:Gather ’round and join the melodious tunes in ChurchStreet Piano Bar – DOWNTOWN. \nCome hear live music and create special memories with us tonight.
URL:https://churchstreetfamily.com/event/churchstreet-piano-bar-7/
LOCATION:ChurchStreet Wine Shoppe Downtown\, 501 Church Street NW\, Huntsville\, 35801\, United States
ATTACH;FMTTYPE=image/png:https://churchstreetfamily.com/wp-content/uploads/2024/10/PB-10.11.24.png
ORGANIZER;CN="ChurchStreet Family":MAILTO:hello@churchstreetfamily.com
END:VEVENT
BEGIN:VEVENT
DTSTART;TZID=America/Chicago:20241010T190000
DTEND;TZID=America/Chicago:20241010T220000
DTSTAMP:20260419T220156
CREATED:20241001T225106Z
LAST-MODIFIED:20241001T225106Z
UID:10001228-1728586800-1728597600@churchstreetfamily.com
SUMMARY:ChurchStreet Piano Bar
DESCRIPTION:Gather ’round and join the melodious tunes in ChurchStreet Piano Bar – DOWNTOWN. \nCome hear live music and create special memories with us tonight.
URL:https://churchstreetfamily.com/event/churchstreet-piano-bar-2/
LOCATION:ChurchStreet Wine Shoppe Downtown\, 501 Church Street NW\, Huntsville\, 35801\, United States
ATTACH;FMTTYPE=image/png:https://churchstreetfamily.com/wp-content/uploads/2024/10/PB-10.10.24.png
ORGANIZER;CN="ChurchStreet Family":MAILTO:hello@churchstreetfamily.com
END:VEVENT
BEGIN:VEVENT
DTSTART;TZID=America/Chicago:20241009T170000
DTEND;TZID=America/Chicago:20241009T200000
DTSTAMP:20260419T220156
CREATED:20241001T222508Z
LAST-MODIFIED:20241001T222508Z
UID:10001219-1728493200-1728504000@churchstreetfamily.com
SUMMARY:Patio Series at Purveyor
DESCRIPTION:Join us in Downtown Huntsville for the Purveyor Patio Series every Wednesday! Savor a delicious dinner and enjoy an evening of fun\, laughter\, and live entertainment. \nDon’t miss out on the perfect midweek escape with great company and vibrant atmosphere!
URL:https://churchstreetfamily.com/event/patio-series-at-purveyor-10/
LOCATION:Purveyor\, 201 Jefferson Street N\, Huntsville\, AL\, 35801\, United States
ATTACH;FMTTYPE=image/png:https://churchstreetfamily.com/wp-content/uploads/2024/10/PV-Oct-09-24.png
ORGANIZER;CN="ChurchStreet Family":MAILTO:hello@churchstreetfamily.com
END:VEVENT
BEGIN:VEVENT
DTSTART;TZID=America/Chicago:20241008T180000
DTEND;TZID=America/Chicago:20241008T200000
DTSTAMP:20260419T220156
CREATED:20241001T231041Z
LAST-MODIFIED:20241001T231041Z
UID:10001240-1728410400-1728417600@churchstreetfamily.com
SUMMARY:Tuesday Trivia at Pourhouse
DESCRIPTION:Come join us for a fun-filled night of weekly trivia and drinks on the lawn! \nIt’s something new every week so come test your knowledge while socializing with friends.
URL:https://churchstreetfamily.com/event/tuesday-trivia-at-pourhouse-18/
LOCATION:Pourhouse\, 3414 Governors Drive\, Huntsville\, AL\, 35805\, United States
ATTACH;FMTTYPE=image/jpeg:https://churchstreetfamily.com/wp-content/uploads/2024/10/10.08.24.jpg
ORGANIZER;CN="ChurchStreet Family":MAILTO:hello@churchstreetfamily.com
END:VEVENT
BEGIN:VEVENT
DTSTART;TZID=America/Chicago:20241006T130000
DTEND;TZID=America/Chicago:20241006T160000
DTSTAMP:20260419T220156
CREATED:20241001T221710Z
LAST-MODIFIED:20241001T221710Z
UID:10001214-1728219600-1728230400@churchstreetfamily.com
SUMMARY:Sunday Sidewalk Series at Sea Salt
DESCRIPTION:Live music\, fresh seafood and a long afternoon sounds like the perfect way to end the weekend\, right? \nMake plans to come join us!⁣\n⁣⁣𝐒𝐞𝐚𝐒𝐚𝐥𝐭|𝟷𝟷𝟺 𝘊𝘭𝘪𝘯𝘵𝘰𝘯 𝘈𝘷𝘦 𝘌⁣⁣⁣⁣⁣⁣⁣⁣⁣⁣⁣⁣⁣⁣⁣⁣⁣⁣
URL:https://churchstreetfamily.com/event/sunday-sidewalk-series-at-sea-salt-4/
LOCATION:Sea Salt\, 114 Clinton Ave E\, Huntsville\, AL\, 35801\, United States
ATTACH;FMTTYPE=image/png:https://churchstreetfamily.com/wp-content/uploads/2024/10/SS-OCT-06-24.png
ORGANIZER;CN="ChurchStreet Family":MAILTO:hello@churchstreetfamily.com
END:VEVENT
BEGIN:VEVENT
DTSTART;TZID=America/Chicago:20241005T183000
DTEND;TZID=America/Chicago:20241005T223000
DTSTAMP:20260419T220156
CREATED:20241001T230040Z
LAST-MODIFIED:20241001T230040Z
UID:10001236-1728153000-1728167400@churchstreetfamily.com
SUMMARY:ChurchStreet Piano Bar
DESCRIPTION:Gather ’round and join the melodious tunes in ChurchStreet Piano Bar – DOWNTOWN. \nCome hear live music and create special memories with us tonight.
URL:https://churchstreetfamily.com/event/churchstreet-piano-bar-10/
LOCATION:ChurchStreet Wine Shoppe Downtown\, 501 Church Street NW\, Huntsville\, 35801\, United States
ATTACH;FMTTYPE=image/png:https://churchstreetfamily.com/wp-content/uploads/2024/10/PB-10.05.24.png
ORGANIZER;CN="ChurchStreet Family":MAILTO:hello@churchstreetfamily.com
END:VEVENT
BEGIN:VEVENT
DTSTART;TZID=America/Chicago:20241005T180000
DTEND;TZID=America/Chicago:20241005T210000
DTSTAMP:20260419T220156
CREATED:20241001T223458Z
LAST-MODIFIED:20241001T223458Z
UID:10001223-1728151200-1728162000@churchstreetfamily.com
SUMMARY:Saturdays at the Shoppe - PROVIDENCE
DESCRIPTION:Your one-stop shoppe with LIVE MUSIC and FINE WINES. \nSpend your Saturday evening socializing with fellow wine lovers while enjoying live music by local talent.
URL:https://churchstreetfamily.com/event/saturdays-at-the-shoppe-providence/
LOCATION:ChurchStreet Wine Shoppe Providence\, 485 Providence Main Street Suite 101\, Huntsville\, 35806\, United States
ATTACH;FMTTYPE=image/png:https://churchstreetfamily.com/wp-content/uploads/2024/10/WSPR-Oct-05-24.png
ORGANIZER;CN="ChurchStreet Family":MAILTO:hello@churchstreetfamily.com
END:VEVENT
BEGIN:VEVENT
DTSTART;TZID=America/Chicago:20241004T183000
DTEND;TZID=America/Chicago:20241004T223000
DTSTAMP:20260419T220156
CREATED:20241001T225557Z
LAST-MODIFIED:20241001T225557Z
UID:10001232-1728066600-1728081000@churchstreetfamily.com
SUMMARY:ChurchStreet Piano Bar
DESCRIPTION:Gather ’round and join the melodious tunes in ChurchStreet Piano Bar – DOWNTOWN. \nCome hear live music and create special memories with us tonight.
URL:https://churchstreetfamily.com/event/churchstreet-piano-bar-6/
LOCATION:ChurchStreet Wine Shoppe Downtown\, 501 Church Street NW\, Huntsville\, 35801\, United States
ATTACH;FMTTYPE=image/png:https://churchstreetfamily.com/wp-content/uploads/2024/10/PB-10.04.24.png
ORGANIZER;CN="ChurchStreet Family":MAILTO:hello@churchstreetfamily.com
END:VEVENT
BEGIN:VEVENT
DTSTART;TZID=America/Chicago:20241003T190000
DTEND;TZID=America/Chicago:20241003T220000
DTSTAMP:20260419T220156
CREATED:20241001T224942Z
LAST-MODIFIED:20241001T224942Z
UID:10001227-1727982000-1727992800@churchstreetfamily.com
SUMMARY:ChurchStreet Piano Bar
DESCRIPTION:Gather ’round and join the melodious tunes in ChurchStreet Piano Bar – DOWNTOWN. \nCome hear live music and create special memories with us tonight.
URL:https://churchstreetfamily.com/event/churchstreet-piano-bar/
LOCATION:ChurchStreet Wine Shoppe Downtown\, 501 Church Street NW\, Huntsville\, 35801\, United States
ATTACH;FMTTYPE=image/png:https://churchstreetfamily.com/wp-content/uploads/2024/10/PB-10.03.24.png
ORGANIZER;CN="ChurchStreet Family":MAILTO:hello@churchstreetfamily.com
END:VEVENT
BEGIN:VEVENT
DTSTART;TZID=America/Chicago:20241002T170000
DTEND;TZID=America/Chicago:20241002T200000
DTSTAMP:20260419T220156
CREATED:20241001T222400Z
LAST-MODIFIED:20241001T222400Z
UID:10001218-1727888400-1727899200@churchstreetfamily.com
SUMMARY:Patio Series at Purveyor
DESCRIPTION:Join us in Downtown Huntsville for the Purveyor Patio Series every Wednesday! Savor a delicious dinner and enjoy an evening of fun\, laughter\, and live entertainment. \nDon’t miss out on the perfect midweek escape with great company and vibrant atmosphere!
URL:https://churchstreetfamily.com/event/patio-series-at-purveyor-9/
LOCATION:Purveyor\, 201 Jefferson Street N\, Huntsville\, AL\, 35801\, United States
ATTACH;FMTTYPE=image/png:https://churchstreetfamily.com/wp-content/uploads/2024/10/PV-Oct-02-24.png
ORGANIZER;CN="ChurchStreet Family":MAILTO:hello@churchstreetfamily.com
END:VEVENT
BEGIN:VEVENT
DTSTART;TZID=America/Chicago:20240930T180000
DTEND;TZID=America/Chicago:20240930T200000
DTSTAMP:20260419T220156
CREATED:20240916T220303Z
LAST-MODIFIED:20240916T220303Z
UID:10001212-1727719200-1727726400@churchstreetfamily.com
SUMMARY:Murder Mystery at the Shoppe - Downtown
DESCRIPTION:Celebrate the spookiest time of the year! Come solve the whodunit mystery at the shoppe! \nIt’s time for another murder mystery\, and this one has a twist you won’t see coming! Put on your detective’s hat and get ready for a night of intrigue and suspense.  \nWill you crack the case?  \nSnag your ticket here!
URL:https://churchstreetfamily.com/event/murder-mystery-at-the-shoppe-downtown-3/
LOCATION:ChurchStreet Wine Shoppe Downtown\, 501 Church Street NW\, Huntsville\, 35801\, United States
ATTACH;FMTTYPE=image/png:https://churchstreetfamily.com/wp-content/uploads/2024/09/MM9.30.24.png
ORGANIZER;CN="ChurchStreet Family":MAILTO:hello@churchstreetfamily.com
END:VEVENT
BEGIN:VEVENT
DTSTART;TZID=America/Chicago:20240929T140000
DTEND;TZID=America/Chicago:20240929T170000
DTSTAMP:20260419T220156
CREATED:20240903T011502Z
LAST-MODIFIED:20240903T011502Z
UID:10001202-1727618400-1727629200@churchstreetfamily.com
SUMMARY:Sunday Sidewalk Series
DESCRIPTION:Live music\, fresh seafood and a long afternoon sounds like the perfect way to end the weekend\, right? \nMake plans to come join us!⁣\n⁣\n⁣ \n⁣⁣⁣⁣⁣⁣\n.
URL:https://churchstreetfamily.com/event/sunday-sidewalk-series-4/
LOCATION:Sea Salt\, 114 Clinton Ave E\, Huntsville\, AL\, 35801\, United States
ATTACH;FMTTYPE=image/png:https://churchstreetfamily.com/wp-content/uploads/2024/09/SS-SEPT-29-24.png
ORGANIZER;CN="ChurchStreet Family":MAILTO:hello@churchstreetfamily.com
END:VEVENT
BEGIN:VEVENT
DTSTART;TZID=America/Chicago:20240929T130000
DTEND;TZID=America/Chicago:20240929T153000
DTSTAMP:20260419T220156
CREATED:20240916T215350Z
LAST-MODIFIED:20240916T215350Z
UID:10001210-1727614800-1727623800@churchstreetfamily.com
SUMMARY:Craft Cocktail Class by Catacomb435
DESCRIPTION:Join us for the next **Catacomb435 Craft Cocktail Class**\, where our award-winning bartender will teach you how to mix up a *Taste of Autumn*! \nIn this hands-on class\, you’ll learn to create the signature cocktails from our September Supper Club—perfect for adding a festive touch to your holiday gatherings. Come for Supper Club to sample these fall-inspired drinks\, then snag your ticket to master the craft and impress your friends and family this season!
URL:https://churchstreetfamily.com/event/craft-cocktail-class-by-catacomb435-2/
LOCATION:The Library of Purveyor\, 201 Jefferson Street\, Huntsville\, AL\, 35801
ATTACH;FMTTYPE=image/png:https://churchstreetfamily.com/wp-content/uploads/2024/09/CC-09.29.24.png
ORGANIZER;CN="ChurchStreet Family":MAILTO:hello@churchstreetfamily.com
END:VEVENT
BEGIN:VEVENT
DTSTART;TZID=America/Chicago:20240928T180000
DTEND;TZID=America/Chicago:20240928T210000
DTSTAMP:20260419T220156
CREATED:20240903T005934Z
LAST-MODIFIED:20240903T005934Z
UID:10001198-1727546400-1727557200@churchstreetfamily.com
SUMMARY:Live Music at the Shoppe - PROVIDENCE
DESCRIPTION:Your one-stop shoppe with LIVE MUSIC and FINE WINES. \nSpend your Saturday evening socializing with fellow wine lovers while enjoying live music by local talent.
URL:https://churchstreetfamily.com/event/live-music-at-the-shoppe-providence-70/
LOCATION:ChurchStreet Wine Shoppe Providence\, 485 Providence Main Street Suite 101\, Huntsville\, 35806\, United States
ATTACH;FMTTYPE=image/png:https://churchstreetfamily.com/wp-content/uploads/2024/09/WSPR-Sept-28-24.png
ORGANIZER;CN="ChurchStreet Family":MAILTO:hello@churchstreetfamily.com
END:VEVENT
BEGIN:VEVENT
DTSTART;TZID=America/Chicago:20240928T173000
DTEND;TZID=America/Chicago:20240928T203000
DTSTAMP:20260419T220156
CREATED:20240903T004826Z
LAST-MODIFIED:20240903T004826Z
UID:10001194-1727544600-1727555400@churchstreetfamily.com
SUMMARY:Live Music at the Shoppe - DOWNTOWN
DESCRIPTION:Your one-stop shoppe with LIVE MUSIC and FINE WINES. \nSpend your Saturday evening socializing with fellow wine lovers while enjoying live music by local talent.
URL:https://churchstreetfamily.com/event/live-music-at-the-shoppe-downtown-59/
LOCATION:ChurchStreet Wine Shoppe Downtown\, 501 Church Street NW\, Huntsville\, 35801\, United States
ATTACH;FMTTYPE=image/png:https://churchstreetfamily.com/wp-content/uploads/2024/09/WSDT-Sept-28-24.png
ORGANIZER;CN="ChurchStreet Family":MAILTO:hello@churchstreetfamily.com
END:VEVENT
BEGIN:VEVENT
DTSTART;TZID=America/Chicago:20240924T180000
DTEND;TZID=America/Chicago:20240924T200000
DTSTAMP:20260419T220156
CREATED:20240903T013710Z
LAST-MODIFIED:20240903T013710Z
UID:10001208-1727200800-1727208000@churchstreetfamily.com
SUMMARY:Tuesday Trivia
DESCRIPTION:Come join us for a fun-filled night of weekly trivia and drinks on the lawn! \nIt’s something new every week so come test your knowledge while socializing with friends.
URL:https://churchstreetfamily.com/event/tuesday-trivia-3/
LOCATION:Pourhouse\, 3414 Governors Drive\, Huntsville\, AL\, 35805\, United States
ATTACH;FMTTYPE=image/jpeg:https://churchstreetfamily.com/wp-content/uploads/2024/09/09.24.24.jpg
ORGANIZER;CN="ChurchStreet Family":MAILTO:hello@churchstreetfamily.com
END:VEVENT
BEGIN:VEVENT
DTSTART;TZID=America/Chicago:20240922T160000
DTEND;TZID=America/Chicago:20240922T180000
DTSTAMP:20260419T220156
CREATED:20240428T175114Z
LAST-MODIFIED:20240830T025933Z
UID:10001089-1727020800-1727028000@churchstreetfamily.com
SUMMARY:Purveyor Supper Club
DESCRIPTION:Join us at Purveyor Supper Club’s “Autumn Delights Dinner\,” where we celebrate everything special about our favorite time of year. \nFrom pumpkins to spiced treats\, enjoy a cozy evening filled with the warm\, inviting flavors of autumn. Savor seasonal dishes\, delightful drinks\, and the company of friends as we toast to the beauty of fall. \nSave your seat HERE!
URL:https://churchstreetfamily.com/event/purveyor-supper-club-5/
LOCATION:Purveyor\, 201 Jefferson Street N\, Huntsville\, AL\, 35801\, United States
ATTACH;FMTTYPE=image/jpeg:https://churchstreetfamily.com/wp-content/uploads/2024/04/SEPTEMBER-24-SC-Calendar.jpg
ORGANIZER;CN="ChurchStreet Family":MAILTO:hello@churchstreetfamily.com
END:VEVENT
BEGIN:VEVENT
DTSTART;TZID=America/Chicago:20240922T140000
DTEND;TZID=America/Chicago:20240922T170000
DTSTAMP:20260419T220156
CREATED:20240903T011220Z
LAST-MODIFIED:20240903T011220Z
UID:10001201-1727013600-1727024400@churchstreetfamily.com
SUMMARY:Sunday Sidewalk Series
DESCRIPTION:Live music\, fresh seafood and a long afternoon sounds like the perfect way to end the weekend\, right? \nMake plans to come join us!⁣\n⁣ \n⁣⁣⁣⁣⁣⁣\n.
URL:https://churchstreetfamily.com/event/sunday-sidewalk-series-3/
LOCATION:Sea Salt\, 114 Clinton Ave E\, Huntsville\, AL\, 35801\, United States
ATTACH;FMTTYPE=image/png:https://churchstreetfamily.com/wp-content/uploads/2024/09/SS-SEPT-22-24.png
ORGANIZER;CN="ChurchStreet Family":MAILTO:hello@churchstreetfamily.com
END:VEVENT
BEGIN:VEVENT
DTSTART;TZID=America/Chicago:20240921T180000
DTEND;TZID=America/Chicago:20240921T210000
DTSTAMP:20260419T220156
CREATED:20240903T005415Z
LAST-MODIFIED:20240903T005415Z
UID:10001196-1726941600-1726952400@churchstreetfamily.com
SUMMARY:Live Music at the Shoppe - PROVIDENCE
DESCRIPTION:Your one-stop shoppe with LIVE MUSIC and FINE WINES. \nSpend your Saturday evening socializing with fellow wine lovers while enjoying live music by local talent.
URL:https://churchstreetfamily.com/event/live-music-at-the-shoppe-providence-68/
LOCATION:ChurchStreet Wine Shoppe Providence\, 485 Providence Main Street Suite 101\, Huntsville\, 35806\, United States
ATTACH;FMTTYPE=image/png:https://churchstreetfamily.com/wp-content/uploads/2024/09/WSPR-Sept-21-24.png
ORGANIZER;CN="ChurchStreet Family":MAILTO:hello@churchstreetfamily.com
END:VEVENT
BEGIN:VEVENT
DTSTART;TZID=America/Chicago:20240921T173000
DTEND;TZID=America/Chicago:20240921T203000
DTSTAMP:20260419T220156
CREATED:20240903T004623Z
LAST-MODIFIED:20240903T004623Z
UID:10001193-1726939800-1726950600@churchstreetfamily.com
SUMMARY:Live Music at the Shoppe - DOWNTOWN
DESCRIPTION:Your one-stop shoppe with LIVE MUSIC and FINE WINES. \nSpend your Saturday evening socializing with fellow wine lovers while enjoying live music by local talent.
URL:https://churchstreetfamily.com/event/live-music-at-the-shoppe-downtown-58/
LOCATION:ChurchStreet Wine Shoppe Downtown\, 501 Church Street NW\, Huntsville\, 35801\, United States
ATTACH;FMTTYPE=image/png:https://churchstreetfamily.com/wp-content/uploads/2024/09/WSDT-Sept-21-24.png
ORGANIZER;CN="ChurchStreet Family":MAILTO:hello@churchstreetfamily.com
END:VEVENT
BEGIN:VEVENT
DTSTART;TZID=America/Chicago:20240918T180000
DTEND;TZID=America/Chicago:20240918T200000
DTSTAMP:20260419T220156
CREATED:20240916T214234Z
LAST-MODIFIED:20240916T214416Z
UID:10001209-1726682400-1726689600@churchstreetfamily.com
SUMMARY:Italian Wine Dinner - Li'l Mazzaras
DESCRIPTION:Raise a glass and savor the moment! \nJoin us on September 18 for a curated dining experience featuring hand-selected wines\, each paired with its own unique story. \nDon’t miss this evening of fine flavors and great company in our favorite small town setting! Snag your seat here!
URL:https://churchstreetfamily.com/event/italian-wine-dinner-lil-mazzaras/
LOCATION:Li’l Mazzara’s\, 102 Washington St E\, Athens\, AL\, 35611\, United States
ATTACH;FMTTYPE=image/jpeg:https://churchstreetfamily.com/wp-content/uploads/2024/09/Sept-Wine-Dinner.jpg
ORGANIZER;CN="ChurchStreet Family":MAILTO:hello@churchstreetfamily.com
END:VEVENT
BEGIN:VEVENT
DTSTART;TZID=America/Chicago:20240918T170000
DTEND;TZID=America/Chicago:20240918T200000
DTSTAMP:20260419T220156
CREATED:20240903T012551Z
LAST-MODIFIED:20240903T012551Z
UID:10001205-1726678800-1726689600@churchstreetfamily.com
SUMMARY:Purveyor Piano Series
DESCRIPTION:Join us in Downtown Huntsville for the Purveyor Patio Series every Wednesday! \nSavor a delicious dinner and enjoy an evening of fun\, laughter\, and live entertainment. Don’t miss out on the perfect midweek escape with great company and vibrant atmosphere!
URL:https://churchstreetfamily.com/event/purveyor-piano-series/
LOCATION:Purveyor\, 201 Jefferson Street N\, Huntsville\, AL\, 35801\, United States
ATTACH;FMTTYPE=image/png:https://churchstreetfamily.com/wp-content/uploads/2024/09/PV-Sept-18-24.png
END:VEVENT
BEGIN:VEVENT
DTSTART;TZID=America/Chicago:20240917T180000
DTEND;TZID=America/Chicago:20240917T200000
DTSTAMP:20260419T220156
CREATED:20240903T013414Z
LAST-MODIFIED:20240903T013414Z
UID:10001207-1726596000-1726603200@churchstreetfamily.com
SUMMARY:Tuesday Trivia
DESCRIPTION:Come join us for a fun-filled night of weekly trivia and drinks on the lawn! \nIt’s something new every week so come test your knowledge while socializing with friends.
URL:https://churchstreetfamily.com/event/tuesday-trivia-2/
LOCATION:Pourhouse\, 3414 Governors Drive\, Huntsville\, AL\, 35805\, United States
ATTACH;FMTTYPE=image/jpeg:https://churchstreetfamily.com/wp-content/uploads/2024/09/09.17.24.jpg
ORGANIZER;CN="ChurchStreet Family":MAILTO:hello@churchstreetfamily.com
END:VEVENT
BEGIN:VEVENT
DTSTART;TZID=America/Chicago:20240915T140000
DTEND;TZID=America/Chicago:20240915T170000
DTSTAMP:20260419T220156
CREATED:20240903T010940Z
LAST-MODIFIED:20240903T010940Z
UID:10001200-1726408800-1726419600@churchstreetfamily.com
SUMMARY:Sunday Sidewalk Series
DESCRIPTION:Live music\, fresh seafood and a long afternoon sounds like the perfect way to end the weekend\, right? \nMake plans to come join us!⁣\n⁣\n⁣ \n⁣⁣⁣⁣⁣⁣\n.
URL:https://churchstreetfamily.com/event/sunday-sidewalk-series-2/
LOCATION:Sea Salt\, 114 Clinton Ave E\, Huntsville\, AL\, 35801\, United States
ATTACH;FMTTYPE=image/png:https://churchstreetfamily.com/wp-content/uploads/2024/09/SS-SEPT-15-24.png
ORGANIZER;CN="ChurchStreet Family":MAILTO:hello@churchstreetfamily.com
END:VEVENT
BEGIN:VEVENT
DTSTART;TZID=America/Chicago:20240914T180000
DTEND;TZID=America/Chicago:20240914T210000
DTSTAMP:20260419T220156
CREATED:20240903T005714Z
LAST-MODIFIED:20240903T005714Z
UID:10001197-1726336800-1726347600@churchstreetfamily.com
SUMMARY:Live Music at the Shoppe - PROVIDENCE
DESCRIPTION:Your one-stop shoppe with LIVE MUSIC and FINE WINES. \nSpend your Saturday evening socializing with fellow wine lovers while enjoying live music by local talent.
URL:https://churchstreetfamily.com/event/live-music-at-the-shoppe-providence-69/
LOCATION:ChurchStreet Wine Shoppe Providence\, 485 Providence Main Street Suite 101\, Huntsville\, 35806\, United States
ATTACH;FMTTYPE=image/png:https://churchstreetfamily.com/wp-content/uploads/2024/09/WSPR-Sept-14-24.png
ORGANIZER;CN="ChurchStreet Family":MAILTO:hello@churchstreetfamily.com
END:VEVENT
BEGIN:VEVENT
DTSTART;TZID=America/Chicago:20240914T173000
DTEND;TZID=America/Chicago:20240914T203000
DTSTAMP:20260419T220156
CREATED:20240903T004422Z
LAST-MODIFIED:20240903T004422Z
UID:10001192-1726335000-1726345800@churchstreetfamily.com
SUMMARY:Live Music at the Shoppe - DOWNTOWN
DESCRIPTION:Your one-stop shoppe with LIVE MUSIC and FINE WINES. \nSpend your Saturday evening socializing with fellow wine lovers while enjoying live music by local talent.
URL:https://churchstreetfamily.com/event/live-music-at-the-shoppe-downtown-57/
LOCATION:ChurchStreet Wine Shoppe Downtown\, 501 Church Street NW\, Huntsville\, 35801\, United States
ATTACH;FMTTYPE=image/png:https://churchstreetfamily.com/wp-content/uploads/2024/09/WSDT-Sept-14-24.png
ORGANIZER;CN="ChurchStreet Family":MAILTO:hello@churchstreetfamily.com
END:VEVENT
BEGIN:VEVENT
DTSTART;TZID=America/Chicago:20240911T170000
DTEND;TZID=America/Chicago:20240911T200000
DTSTAMP:20260419T220156
CREATED:20240903T012344Z
LAST-MODIFIED:20240903T012344Z
UID:10001204-1726074000-1726084800@churchstreetfamily.com
SUMMARY:Purveyor Patio Series
DESCRIPTION:Join us in Downtown Huntsville for the Purveyor Patio Series every Wednesday! \nSavor a delicious dinner and enjoy an evening of fun\, laughter\, and live entertainment. Don’t miss out on the perfect midweek escape with great company and vibrant atmosphere!
URL:https://churchstreetfamily.com/event/purveyor-patio-series-2/
LOCATION:Purveyor\, 201 Jefferson Street N\, Huntsville\, AL\, 35801\, United States
ATTACH;FMTTYPE=image/png:https://churchstreetfamily.com/wp-content/uploads/2024/09/PV-Sept-11-24.png
ORGANIZER;CN="ChurchStreet Family":MAILTO:hello@churchstreetfamily.com
END:VEVENT
BEGIN:VEVENT
DTSTART;TZID=America/Chicago:20240910T180000
DTEND;TZID=America/Chicago:20240910T200000
DTSTAMP:20260419T220156
CREATED:20240903T012900Z
LAST-MODIFIED:20240903T012900Z
UID:10001206-1725991200-1725998400@churchstreetfamily.com
SUMMARY:Tuesday Trivia
DESCRIPTION:Come join us for a fun-filled night of weekly trivia and drinks on the lawn! \nIt’s something new every week so come test your knowledge while socializing with friends.
URL:https://churchstreetfamily.com/event/tuesday-trivia/
LOCATION:Pourhouse\, 3414 Governors Drive\, Huntsville\, AL\, 35805\, United States
ATTACH;FMTTYPE=image/jpeg:https://churchstreetfamily.com/wp-content/uploads/2024/09/09.10.24.jpg
ORGANIZER;CN="ChurchStreet Family":MAILTO:hello@churchstreetfamily.com
END:VEVENT
BEGIN:VEVENT
DTSTART;TZID=America/Chicago:20240908T140000
DTEND;TZID=America/Chicago:20240908T170000
DTSTAMP:20260419T220156
CREATED:20240903T010749Z
LAST-MODIFIED:20240903T010749Z
UID:10001199-1725804000-1725814800@churchstreetfamily.com
SUMMARY:Sunday Sidewalk Series
DESCRIPTION:Live music\, fresh seafood and a long afternoon sounds like the perfect way to end the weekend\, right? \nMake plans to come join us!⁣\n⁣ \n⁣⁣⁣⁣⁣⁣\n.
URL:https://churchstreetfamily.com/event/sunday-sidewalk-series/
LOCATION:Sea Salt\, 114 Clinton Ave E\, Huntsville\, AL\, 35801\, United States
ATTACH;FMTTYPE=image/png:https://churchstreetfamily.com/wp-content/uploads/2024/09/SS-SEPT-08-24.png
ORGANIZER;CN="ChurchStreet Family":MAILTO:hello@churchstreetfamily.com
END:VEVENT
BEGIN:VEVENT
DTSTART;TZID=America/Chicago:20240907T180000
DTEND;TZID=America/Chicago:20240907T210000
DTSTAMP:20260419T220156
CREATED:20240903T005201Z
LAST-MODIFIED:20240903T005201Z
UID:10001195-1725732000-1725742800@churchstreetfamily.com
SUMMARY:Live Music at the Shoppe - PROVIDENCE
DESCRIPTION:Your one-stop shoppe with LIVE MUSIC and FINE WINES. \nSpend your Saturday evening socializing with fellow wine lovers while enjoying live music by local talent.
URL:https://churchstreetfamily.com/event/live-music-at-the-shoppe-providence-67/
LOCATION:ChurchStreet Wine Shoppe Providence\, 485 Providence Main Street Suite 101\, Huntsville\, 35806\, United States
ATTACH;FMTTYPE=image/png:https://churchstreetfamily.com/wp-content/uploads/2024/09/WSPR-Sept-07-24.png
ORGANIZER;CN="ChurchStreet Family":MAILTO:hello@churchstreetfamily.com
END:VEVENT
END:VCALENDAR