BEGIN:VCALENDAR
VERSION:2.0
PRODID:-//Church Street Family - ECPv6.15.12.2//NONSGML v1.0//EN
CALSCALE:GREGORIAN
METHOD:PUBLISH
X-ORIGINAL-URL:https://churchstreetfamily.com
X-WR-CALDESC:Events for Church Street Family
REFRESH-INTERVAL;VALUE=DURATION:PT1H
X-Robots-Tag:noindex
X-PUBLISHED-TTL:PT1H
BEGIN:VTIMEZONE
TZID:America/Chicago
BEGIN:DAYLIGHT
TZOFFSETFROM:-0600
TZOFFSETTO:-0500
TZNAME:CDT
DTSTART:20230312T080000
END:DAYLIGHT
BEGIN:STANDARD
TZOFFSETFROM:-0500
TZOFFSETTO:-0600
TZNAME:CST
DTSTART:20231105T070000
END:STANDARD
BEGIN:DAYLIGHT
TZOFFSETFROM:-0600
TZOFFSETTO:-0500
TZNAME:CDT
DTSTART:20240310T080000
END:DAYLIGHT
BEGIN:STANDARD
TZOFFSETFROM:-0500
TZOFFSETTO:-0600
TZNAME:CST
DTSTART:20241103T070000
END:STANDARD
BEGIN:DAYLIGHT
TZOFFSETFROM:-0600
TZOFFSETTO:-0500
TZNAME:CDT
DTSTART:20250309T080000
END:DAYLIGHT
BEGIN:STANDARD
TZOFFSETFROM:-0500
TZOFFSETTO:-0600
TZNAME:CST
DTSTART:20251102T070000
END:STANDARD
END:VTIMEZONE
BEGIN:VEVENT
DTSTART;TZID=America/Chicago:20240922T140000
DTEND;TZID=America/Chicago:20240922T170000
DTSTAMP:20260425T123115
CREATED:20240903T011220Z
LAST-MODIFIED:20240903T011220Z
UID:10001201-1727013600-1727024400@churchstreetfamily.com
SUMMARY:Sunday Sidewalk Series
DESCRIPTION:Live music\, fresh seafood and a long afternoon sounds like the perfect way to end the weekend\, right? \nMake plans to come join us!⁣\n⁣ \n⁣⁣⁣⁣⁣⁣\n.
URL:https://churchstreetfamily.com/event/sunday-sidewalk-series-3/
LOCATION:Sea Salt\, 114 Clinton Ave E\, Huntsville\, AL\, 35801\, United States
ATTACH;FMTTYPE=image/png:https://churchstreetfamily.com/wp-content/uploads/2024/09/SS-SEPT-22-24.png
ORGANIZER;CN="ChurchStreet Family":MAILTO:hello@churchstreetfamily.com
END:VEVENT
BEGIN:VEVENT
DTSTART;TZID=America/Chicago:20240921T180000
DTEND;TZID=America/Chicago:20240921T210000
DTSTAMP:20260425T123115
CREATED:20240903T005415Z
LAST-MODIFIED:20240903T005415Z
UID:10001196-1726941600-1726952400@churchstreetfamily.com
SUMMARY:Live Music at the Shoppe - PROVIDENCE
DESCRIPTION:Your one-stop shoppe with LIVE MUSIC and FINE WINES. \nSpend your Saturday evening socializing with fellow wine lovers while enjoying live music by local talent.
URL:https://churchstreetfamily.com/event/live-music-at-the-shoppe-providence-68/
LOCATION:ChurchStreet Wine Shoppe Providence\, 485 Providence Main Street Suite 101\, Huntsville\, 35806\, United States
ATTACH;FMTTYPE=image/png:https://churchstreetfamily.com/wp-content/uploads/2024/09/WSPR-Sept-21-24.png
ORGANIZER;CN="ChurchStreet Family":MAILTO:hello@churchstreetfamily.com
END:VEVENT
BEGIN:VEVENT
DTSTART;TZID=America/Chicago:20240921T173000
DTEND;TZID=America/Chicago:20240921T203000
DTSTAMP:20260425T123115
CREATED:20240903T004623Z
LAST-MODIFIED:20240903T004623Z
UID:10001193-1726939800-1726950600@churchstreetfamily.com
SUMMARY:Live Music at the Shoppe - DOWNTOWN
DESCRIPTION:Your one-stop shoppe with LIVE MUSIC and FINE WINES. \nSpend your Saturday evening socializing with fellow wine lovers while enjoying live music by local talent.
URL:https://churchstreetfamily.com/event/live-music-at-the-shoppe-downtown-58/
LOCATION:ChurchStreet Wine Shoppe Downtown\, 501 Church Street NW\, Huntsville\, 35801\, United States
ATTACH;FMTTYPE=image/png:https://churchstreetfamily.com/wp-content/uploads/2024/09/WSDT-Sept-21-24.png
ORGANIZER;CN="ChurchStreet Family":MAILTO:hello@churchstreetfamily.com
END:VEVENT
BEGIN:VEVENT
DTSTART;TZID=America/Chicago:20240918T180000
DTEND;TZID=America/Chicago:20240918T200000
DTSTAMP:20260425T123115
CREATED:20240916T214234Z
LAST-MODIFIED:20240916T214416Z
UID:10001209-1726682400-1726689600@churchstreetfamily.com
SUMMARY:Italian Wine Dinner - Li'l Mazzaras
DESCRIPTION:Raise a glass and savor the moment! \nJoin us on September 18 for a curated dining experience featuring hand-selected wines\, each paired with its own unique story. \nDon’t miss this evening of fine flavors and great company in our favorite small town setting! Snag your seat here!
URL:https://churchstreetfamily.com/event/italian-wine-dinner-lil-mazzaras/
LOCATION:Li’l Mazzara’s\, 102 Washington St E\, Athens\, AL\, 35611\, United States
ATTACH;FMTTYPE=image/jpeg:https://churchstreetfamily.com/wp-content/uploads/2024/09/Sept-Wine-Dinner.jpg
ORGANIZER;CN="ChurchStreet Family":MAILTO:hello@churchstreetfamily.com
END:VEVENT
BEGIN:VEVENT
DTSTART;TZID=America/Chicago:20240918T170000
DTEND;TZID=America/Chicago:20240918T200000
DTSTAMP:20260425T123115
CREATED:20240903T012551Z
LAST-MODIFIED:20240903T012551Z
UID:10001205-1726678800-1726689600@churchstreetfamily.com
SUMMARY:Purveyor Piano Series
DESCRIPTION:Join us in Downtown Huntsville for the Purveyor Patio Series every Wednesday! \nSavor a delicious dinner and enjoy an evening of fun\, laughter\, and live entertainment. Don’t miss out on the perfect midweek escape with great company and vibrant atmosphere!
URL:https://churchstreetfamily.com/event/purveyor-piano-series/
LOCATION:Purveyor\, 201 Jefferson Street N\, Huntsville\, AL\, 35801\, United States
ATTACH;FMTTYPE=image/png:https://churchstreetfamily.com/wp-content/uploads/2024/09/PV-Sept-18-24.png
END:VEVENT
BEGIN:VEVENT
DTSTART;TZID=America/Chicago:20240917T180000
DTEND;TZID=America/Chicago:20240917T200000
DTSTAMP:20260425T123115
CREATED:20240903T013414Z
LAST-MODIFIED:20240903T013414Z
UID:10001207-1726596000-1726603200@churchstreetfamily.com
SUMMARY:Tuesday Trivia
DESCRIPTION:Come join us for a fun-filled night of weekly trivia and drinks on the lawn! \nIt’s something new every week so come test your knowledge while socializing with friends.
URL:https://churchstreetfamily.com/event/tuesday-trivia-2/
LOCATION:Pourhouse\, 3414 Governors Drive\, Huntsville\, AL\, 35805\, United States
ATTACH;FMTTYPE=image/jpeg:https://churchstreetfamily.com/wp-content/uploads/2024/09/09.17.24.jpg
ORGANIZER;CN="ChurchStreet Family":MAILTO:hello@churchstreetfamily.com
END:VEVENT
BEGIN:VEVENT
DTSTART;TZID=America/Chicago:20240915T140000
DTEND;TZID=America/Chicago:20240915T170000
DTSTAMP:20260425T123115
CREATED:20240903T010940Z
LAST-MODIFIED:20240903T010940Z
UID:10001200-1726408800-1726419600@churchstreetfamily.com
SUMMARY:Sunday Sidewalk Series
DESCRIPTION:Live music\, fresh seafood and a long afternoon sounds like the perfect way to end the weekend\, right? \nMake plans to come join us!⁣\n⁣\n⁣ \n⁣⁣⁣⁣⁣⁣\n.
URL:https://churchstreetfamily.com/event/sunday-sidewalk-series-2/
LOCATION:Sea Salt\, 114 Clinton Ave E\, Huntsville\, AL\, 35801\, United States
ATTACH;FMTTYPE=image/png:https://churchstreetfamily.com/wp-content/uploads/2024/09/SS-SEPT-15-24.png
ORGANIZER;CN="ChurchStreet Family":MAILTO:hello@churchstreetfamily.com
END:VEVENT
BEGIN:VEVENT
DTSTART;TZID=America/Chicago:20240914T180000
DTEND;TZID=America/Chicago:20240914T210000
DTSTAMP:20260425T123115
CREATED:20240903T005714Z
LAST-MODIFIED:20240903T005714Z
UID:10001197-1726336800-1726347600@churchstreetfamily.com
SUMMARY:Live Music at the Shoppe - PROVIDENCE
DESCRIPTION:Your one-stop shoppe with LIVE MUSIC and FINE WINES. \nSpend your Saturday evening socializing with fellow wine lovers while enjoying live music by local talent.
URL:https://churchstreetfamily.com/event/live-music-at-the-shoppe-providence-69/
LOCATION:ChurchStreet Wine Shoppe Providence\, 485 Providence Main Street Suite 101\, Huntsville\, 35806\, United States
ATTACH;FMTTYPE=image/png:https://churchstreetfamily.com/wp-content/uploads/2024/09/WSPR-Sept-14-24.png
ORGANIZER;CN="ChurchStreet Family":MAILTO:hello@churchstreetfamily.com
END:VEVENT
BEGIN:VEVENT
DTSTART;TZID=America/Chicago:20240914T173000
DTEND;TZID=America/Chicago:20240914T203000
DTSTAMP:20260425T123115
CREATED:20240903T004422Z
LAST-MODIFIED:20240903T004422Z
UID:10001192-1726335000-1726345800@churchstreetfamily.com
SUMMARY:Live Music at the Shoppe - DOWNTOWN
DESCRIPTION:Your one-stop shoppe with LIVE MUSIC and FINE WINES. \nSpend your Saturday evening socializing with fellow wine lovers while enjoying live music by local talent.
URL:https://churchstreetfamily.com/event/live-music-at-the-shoppe-downtown-57/
LOCATION:ChurchStreet Wine Shoppe Downtown\, 501 Church Street NW\, Huntsville\, 35801\, United States
ATTACH;FMTTYPE=image/png:https://churchstreetfamily.com/wp-content/uploads/2024/09/WSDT-Sept-14-24.png
ORGANIZER;CN="ChurchStreet Family":MAILTO:hello@churchstreetfamily.com
END:VEVENT
BEGIN:VEVENT
DTSTART;TZID=America/Chicago:20240911T170000
DTEND;TZID=America/Chicago:20240911T200000
DTSTAMP:20260425T123115
CREATED:20240903T012344Z
LAST-MODIFIED:20240903T012344Z
UID:10001204-1726074000-1726084800@churchstreetfamily.com
SUMMARY:Purveyor Patio Series
DESCRIPTION:Join us in Downtown Huntsville for the Purveyor Patio Series every Wednesday! \nSavor a delicious dinner and enjoy an evening of fun\, laughter\, and live entertainment. Don’t miss out on the perfect midweek escape with great company and vibrant atmosphere!
URL:https://churchstreetfamily.com/event/purveyor-patio-series-2/
LOCATION:Purveyor\, 201 Jefferson Street N\, Huntsville\, AL\, 35801\, United States
ATTACH;FMTTYPE=image/png:https://churchstreetfamily.com/wp-content/uploads/2024/09/PV-Sept-11-24.png
ORGANIZER;CN="ChurchStreet Family":MAILTO:hello@churchstreetfamily.com
END:VEVENT
BEGIN:VEVENT
DTSTART;TZID=America/Chicago:20240910T180000
DTEND;TZID=America/Chicago:20240910T200000
DTSTAMP:20260425T123115
CREATED:20240903T012900Z
LAST-MODIFIED:20240903T012900Z
UID:10001206-1725991200-1725998400@churchstreetfamily.com
SUMMARY:Tuesday Trivia
DESCRIPTION:Come join us for a fun-filled night of weekly trivia and drinks on the lawn! \nIt’s something new every week so come test your knowledge while socializing with friends.
URL:https://churchstreetfamily.com/event/tuesday-trivia/
LOCATION:Pourhouse\, 3414 Governors Drive\, Huntsville\, AL\, 35805\, United States
ATTACH;FMTTYPE=image/jpeg:https://churchstreetfamily.com/wp-content/uploads/2024/09/09.10.24.jpg
ORGANIZER;CN="ChurchStreet Family":MAILTO:hello@churchstreetfamily.com
END:VEVENT
BEGIN:VEVENT
DTSTART;TZID=America/Chicago:20240908T140000
DTEND;TZID=America/Chicago:20240908T170000
DTSTAMP:20260425T123115
CREATED:20240903T010749Z
LAST-MODIFIED:20240903T010749Z
UID:10001199-1725804000-1725814800@churchstreetfamily.com
SUMMARY:Sunday Sidewalk Series
DESCRIPTION:Live music\, fresh seafood and a long afternoon sounds like the perfect way to end the weekend\, right? \nMake plans to come join us!⁣\n⁣ \n⁣⁣⁣⁣⁣⁣\n.
URL:https://churchstreetfamily.com/event/sunday-sidewalk-series/
LOCATION:Sea Salt\, 114 Clinton Ave E\, Huntsville\, AL\, 35801\, United States
ATTACH;FMTTYPE=image/png:https://churchstreetfamily.com/wp-content/uploads/2024/09/SS-SEPT-08-24.png
ORGANIZER;CN="ChurchStreet Family":MAILTO:hello@churchstreetfamily.com
END:VEVENT
BEGIN:VEVENT
DTSTART;TZID=America/Chicago:20240907T180000
DTEND;TZID=America/Chicago:20240907T210000
DTSTAMP:20260425T123115
CREATED:20240903T005201Z
LAST-MODIFIED:20240903T005201Z
UID:10001195-1725732000-1725742800@churchstreetfamily.com
SUMMARY:Live Music at the Shoppe - PROVIDENCE
DESCRIPTION:Your one-stop shoppe with LIVE MUSIC and FINE WINES. \nSpend your Saturday evening socializing with fellow wine lovers while enjoying live music by local talent.
URL:https://churchstreetfamily.com/event/live-music-at-the-shoppe-providence-67/
LOCATION:ChurchStreet Wine Shoppe Providence\, 485 Providence Main Street Suite 101\, Huntsville\, 35806\, United States
ATTACH;FMTTYPE=image/png:https://churchstreetfamily.com/wp-content/uploads/2024/09/WSPR-Sept-07-24.png
ORGANIZER;CN="ChurchStreet Family":MAILTO:hello@churchstreetfamily.com
END:VEVENT
BEGIN:VEVENT
DTSTART;TZID=America/Chicago:20240907T173000
DTEND;TZID=America/Chicago:20240907T203000
DTSTAMP:20260425T123115
CREATED:20240903T004222Z
LAST-MODIFIED:20240903T004222Z
UID:10001191-1725730200-1725741000@churchstreetfamily.com
SUMMARY:Live Music at the Shoppe - DOWNTOWN
DESCRIPTION:Your one-stop shoppe with LIVE MUSIC and FINE WINES. \nSpend your Saturday evening socializing with fellow wine lovers while enjoying live music by local talent.
URL:https://churchstreetfamily.com/event/live-music-at-the-shoppe-downtown-56/
LOCATION:ChurchStreet Wine Shoppe Downtown\, 501 Church Street NW\, Huntsville\, 35801\, United States
ATTACH;FMTTYPE=image/png:https://churchstreetfamily.com/wp-content/uploads/2024/09/WSDT-Sept-07-24.png
ORGANIZER;CN="ChurchStreet Family":MAILTO:hello@churchstreetfamily.com
END:VEVENT
BEGIN:VEVENT
DTSTART;TZID=America/Chicago:20240904T170000
DTEND;TZID=America/Chicago:20240904T200000
DTSTAMP:20260425T123115
CREATED:20240903T012148Z
LAST-MODIFIED:20240903T012148Z
UID:10001203-1725469200-1725480000@churchstreetfamily.com
SUMMARY:Purveyor Patio Series
DESCRIPTION:Join us in Downtown Huntsville for the Purveyor Patio Series every Wednesday! \nSavor a delicious dinner and enjoy an evening of fun\, laughter\, and live entertainment. Don’t miss out on the perfect midweek escape with great company and vibrant atmosphere!
URL:https://churchstreetfamily.com/event/purveyor-patio-series/
LOCATION:Purveyor\, 201 Jefferson Street N\, Huntsville\, AL\, 35801\, United States
ATTACH;FMTTYPE=image/png:https://churchstreetfamily.com/wp-content/uploads/2024/09/PV-Sept-04-24.png
ORGANIZER;CN="ChurchStreet Family":MAILTO:hello@churchstreetfamily.com
END:VEVENT
BEGIN:VEVENT
DTSTART;TZID=America/Chicago:20240831T180000
DTEND;TZID=America/Chicago:20240831T210000
DTSTAMP:20260425T123115
CREATED:20240805T222359Z
LAST-MODIFIED:20240805T222359Z
UID:10001179-1725127200-1725138000@churchstreetfamily.com
SUMMARY:Live Music at the Shoppe - PROVIDENCE
DESCRIPTION:Your one-stop shoppe with LIVE MUSIC and FINE WINES. \nSpend your Saturday evening socializing with fellow wine lovers while enjoying live music by local talent.
URL:https://churchstreetfamily.com/event/live-music-at-the-shoppe-providence-66/
LOCATION:ChurchStreet Wine Shoppe Providence\, 485 Providence Main Street Suite 101\, Huntsville\, 35806\, United States
ATTACH;FMTTYPE=image/png:https://churchstreetfamily.com/wp-content/uploads/2024/08/PR-Aug-31-24.png
ORGANIZER;CN="ChurchStreet Family":MAILTO:hello@churchstreetfamily.com
END:VEVENT
BEGIN:VEVENT
DTSTART;TZID=America/Chicago:20240831T173000
DTEND;TZID=America/Chicago:20240831T203000
DTSTAMP:20260425T123115
CREATED:20240805T221749Z
LAST-MODIFIED:20240805T221749Z
UID:10001175-1725125400-1725136200@churchstreetfamily.com
SUMMARY:Live Music at the Shoppe - DOWNTOWN
DESCRIPTION:Your one-stop shoppe with LIVE MUSIC and FINE WINES. \nSpend your Saturday evening socializing with fellow wine lovers while enjoying live music by local talent.
URL:https://churchstreetfamily.com/event/live-music-at-the-shoppe-downtown-55/
LOCATION:ChurchStreet Wine Shoppe Downtown\, 501 Church Street NW\, Huntsville\, 35801\, United States
ATTACH;FMTTYPE=image/png:https://churchstreetfamily.com/wp-content/uploads/2024/08/DT-Aug-31-24.png
ORGANIZER;CN="ChurchStreet Family":MAILTO:hello@churchstreetfamily.com
END:VEVENT
BEGIN:VEVENT
DTSTART;TZID=America/Chicago:20240828T180000
DTEND;TZID=America/Chicago:20240828T210000
DTSTAMP:20260425T123115
CREATED:20240805T223132Z
LAST-MODIFIED:20240805T223132Z
UID:10001183-1724868000-1724878800@churchstreetfamily.com
SUMMARY:Live Music on the Lawn - Pourhouse
DESCRIPTION:Join us on the lawn for live music! \nGrab a drink\, grab your seat\, and enjoy the show!
URL:https://churchstreetfamily.com/event/live-music-on-the-lawn-pourhouse-8/
LOCATION:Pourhouse\, 3414 Governors Drive\, Huntsville\, AL\, 35805\, United States
ATTACH;FMTTYPE=image/png:https://churchstreetfamily.com/wp-content/uploads/2024/08/PH08.28-2024.png
ORGANIZER;CN="ChurchStreet Family":MAILTO:hello@churchstreetfamily.com
END:VEVENT
BEGIN:VEVENT
DTSTART;TZID=America/Chicago:20240827T180000
DTEND;TZID=America/Chicago:20240827T200000
DTSTAMP:20260425T123115
CREATED:20240805T223914Z
LAST-MODIFIED:20240805T223914Z
UID:10001187-1724781600-1724788800@churchstreetfamily.com
SUMMARY:Tuesday Trivia - POURHOUSE
DESCRIPTION:Come join us for a fun-filled night of weekly trivia and drinks on the lawn! \nIt’s something new every week so come test your knowledge while socializing with friends.
URL:https://churchstreetfamily.com/event/tuesday-trivia-pourhouse-12/
LOCATION:Pourhouse\, 3414 Governors Drive\, Huntsville\, AL\, 35805\, United States
ATTACH;FMTTYPE=image/jpeg:https://churchstreetfamily.com/wp-content/uploads/2024/08/08.27.24.jpg
ORGANIZER;CN="ChurchStreet Family":MAILTO:hello@churchstreetfamily.com
END:VEVENT
BEGIN:VEVENT
DTSTART;TZID=America/Chicago:20240825T130000
DTEND;TZID=America/Chicago:20240825T160000
DTSTAMP:20260425T123115
CREATED:20240805T224425Z
LAST-MODIFIED:20240805T224425Z
UID:10001190-1724590800-1724601600@churchstreetfamily.com
SUMMARY:Sidewalk Series at SEA SALT
DESCRIPTION:Live music\, fresh seafood and a long afternoon sounds like the perfect way to end the weekend\, right? \nMake plans to come join us!⁣\n⁣\n⁣
URL:https://churchstreetfamily.com/event/sidewalk-series-at-sea-salt-6/
LOCATION:Sea Salt\, 114 Clinton Ave E\, Huntsville\, AL\, 35801\, United States
ATTACH;FMTTYPE=image/png:https://churchstreetfamily.com/wp-content/uploads/2024/08/SS-AUG-25-24.png
ORGANIZER;CN="ChurchStreet Family":MAILTO:hello@churchstreetfamily.com
END:VEVENT
BEGIN:VEVENT
DTSTART;TZID=America/Chicago:20240824T180000
DTEND;TZID=America/Chicago:20240824T210000
DTSTAMP:20260425T123115
CREATED:20240805T222243Z
LAST-MODIFIED:20240805T222243Z
UID:10001178-1724522400-1724533200@churchstreetfamily.com
SUMMARY:Live Music at the Shoppe - PROVIDENCE
DESCRIPTION:Your one-stop shoppe with LIVE MUSIC and FINE WINES. \nSpend your Saturday evening socializing with fellow wine lovers while enjoying live music by local talent.
URL:https://churchstreetfamily.com/event/live-music-at-the-shoppe-providence-65/
LOCATION:ChurchStreet Wine Shoppe Providence\, 485 Providence Main Street Suite 101\, Huntsville\, 35806\, United States
ATTACH;FMTTYPE=image/png:https://churchstreetfamily.com/wp-content/uploads/2024/08/PR-Aug-24-24.png
ORGANIZER;CN="ChurchStreet Family":MAILTO:hello@churchstreetfamily.com
END:VEVENT
BEGIN:VEVENT
DTSTART;TZID=America/Chicago:20240824T173000
DTEND;TZID=America/Chicago:20240824T203000
DTSTAMP:20260425T123115
CREATED:20240805T221635Z
LAST-MODIFIED:20240805T221635Z
UID:10001174-1724520600-1724531400@churchstreetfamily.com
SUMMARY:Live Music at the Shoppe - DOWNTOWN
DESCRIPTION:Your one-stop shoppe with LIVE MUSIC and FINE WINES. \nSpend your Saturday evening socializing with fellow wine lovers while enjoying live music by local talent.
URL:https://churchstreetfamily.com/event/live-music-at-the-shoppe-downtown-54/
LOCATION:ChurchStreet Wine Shoppe Downtown\, 501 Church Street NW\, Huntsville\, 35801\, United States
ATTACH;FMTTYPE=image/png:https://churchstreetfamily.com/wp-content/uploads/2024/08/DT-Aug-24-24.png
ORGANIZER;CN="ChurchStreet Family":MAILTO:hello@churchstreetfamily.com
END:VEVENT
BEGIN:VEVENT
DTSTART;TZID=America/Chicago:20240821T180000
DTEND;TZID=America/Chicago:20240821T210000
DTSTAMP:20260425T123115
CREATED:20240805T223017Z
LAST-MODIFIED:20240805T223017Z
UID:10001182-1724263200-1724274000@churchstreetfamily.com
SUMMARY:Live Music on the Lawn - POURHOUSE
DESCRIPTION:Join us on the lawn for live music! \nGrab a drink\, grab your seat\, and enjoy the show!
URL:https://churchstreetfamily.com/event/live-music-on-the-lawn-pourhouse-7/
LOCATION:Pourhouse\, 3414 Governors Drive\, Huntsville\, AL\, 35805\, United States
ATTACH;FMTTYPE=image/png:https://churchstreetfamily.com/wp-content/uploads/2024/08/PH08.21-2024.png
ORGANIZER;CN="ChurchStreet Family":MAILTO:hello@churchstreetfamily.com
END:VEVENT
BEGIN:VEVENT
DTSTART;TZID=America/Chicago:20240820T180000
DTEND;TZID=America/Chicago:20240820T200000
DTSTAMP:20260425T123115
CREATED:20240805T223801Z
LAST-MODIFIED:20240805T223801Z
UID:10001186-1724176800-1724184000@churchstreetfamily.com
SUMMARY:Tuesday Trivia - POURHOUSE
DESCRIPTION:Come join us for a fun-filled night of weekly trivia and drinks on the lawn! \nIt’s something new every week so come test your knowledge while socializing with friends.
URL:https://churchstreetfamily.com/event/tuesday-trivia-pourhouse-11/
LOCATION:Pourhouse\, 3414 Governors Drive\, Huntsville\, AL\, 35805\, United States
ATTACH;FMTTYPE=image/jpeg:https://churchstreetfamily.com/wp-content/uploads/2024/08/08.20.24.jpg
ORGANIZER;CN="ChurchStreet Family":MAILTO:hello@churchstreetfamily.com
END:VEVENT
BEGIN:VEVENT
DTSTART;TZID=America/Chicago:20240818T160000
DTEND;TZID=America/Chicago:20240818T180000
DTSTAMP:20260425T123115
CREATED:20240428T175007Z
LAST-MODIFIED:20240815T015840Z
UID:10001088-1723996800-1724004000@churchstreetfamily.com
SUMMARY:Purveyor Supper Club
DESCRIPTION:Join us at the #PurveyorSupperClub for an unforgettable evening as we present 𝘛𝘩𝘦 𝘈𝘳𝘵 𝘰𝘧 𝘈𝘮𝘶𝘴𝘦 𝘉𝘰𝘶𝘤𝘩𝘦!⁣\n\n\n⁣\n\n\nSavor the exquisite flavors of eight chef-prepared courses\, 𝘦𝘢𝘤𝘩 𝘢 𝘮𝘢𝘴𝘵𝘦𝘳𝘱𝘪𝘦𝘤𝘦 𝘪𝘯 𝘮𝘪𝘯𝘪𝘢𝘵𝘶𝘳𝘦. This is a unique opportunity to indulge in culinary creativity and delight in the delicate\, tantalizing tastes that only amuse bouche can offer.⁣\n\n\n⁣\n\n\nWe can’t wait to share this special experience with you!\n\n\n \n\n\nSnag your Seat : https://tickets.bestofhuntsville.com//events/supper-club-the-art-of-amuse-bouche-8-18-2024
URL:https://churchstreetfamily.com/event/purveyor-supper-club-4/
LOCATION:Purveyor\, 201 Jefferson Street N\, Huntsville\, AL\, 35801\, United States
ATTACH;FMTTYPE=image/jpeg:https://churchstreetfamily.com/wp-content/uploads/2024/04/AUGUST-24-SC-Calendar-1.jpg
ORGANIZER;CN="ChurchStreet Family":MAILTO:hello@churchstreetfamily.com
END:VEVENT
BEGIN:VEVENT
DTSTART;TZID=America/Chicago:20240818T130000
DTEND;TZID=America/Chicago:20240818T160000
DTSTAMP:20260425T123115
CREATED:20240805T224313Z
LAST-MODIFIED:20240805T224313Z
UID:10001189-1723986000-1723996800@churchstreetfamily.com
SUMMARY:Sidewalk Series at SEA SALT
DESCRIPTION:Live music\, fresh seafood and a long afternoon sounds like the perfect way to end the weekend\, right? \nMake plans to come join us!⁣\n⁣\n⁣ \n 
URL:https://churchstreetfamily.com/event/sidewalk-series-at-sea-salt-5/
LOCATION:Sea Salt\, 114 Clinton Ave E\, Huntsville\, AL\, 35801\, United States
ATTACH;FMTTYPE=image/png:https://churchstreetfamily.com/wp-content/uploads/2024/08/SS-AUG-18-24.png
ORGANIZER;CN="ChurchStreet Family":MAILTO:hello@churchstreetfamily.com
END:VEVENT
BEGIN:VEVENT
DTSTART;TZID=America/Chicago:20240817T180000
DTEND;TZID=America/Chicago:20240817T210000
DTSTAMP:20260425T123115
CREATED:20240805T222119Z
LAST-MODIFIED:20240805T222119Z
UID:10001177-1723917600-1723928400@churchstreetfamily.com
SUMMARY:Live Music at the Shoppe - PROVIDENCE
DESCRIPTION:Your one-stop shoppe with LIVE MUSIC and FINE WINES. \nSpend your Saturday evening socializing with fellow wine lovers while enjoying live music by local talent.
URL:https://churchstreetfamily.com/event/live-music-at-the-shoppe-providence-64/
LOCATION:ChurchStreet Wine Shoppe Providence\, 485 Providence Main Street Suite 101\, Huntsville\, 35806\, United States
ATTACH;FMTTYPE=image/png:https://churchstreetfamily.com/wp-content/uploads/2024/08/PR-Aug-17-24.png
ORGANIZER;CN="ChurchStreet Family":MAILTO:hello@churchstreetfamily.com
END:VEVENT
BEGIN:VEVENT
DTSTART;TZID=America/Chicago:20240817T173000
DTEND;TZID=America/Chicago:20240817T203000
DTSTAMP:20260425T123115
CREATED:20240805T221509Z
LAST-MODIFIED:20240805T221509Z
UID:10001173-1723915800-1723926600@churchstreetfamily.com
SUMMARY:Live Music at the Shoppe - DOWNTOWN
DESCRIPTION:Your one-stop shoppe with LIVE MUSIC and FINE WINES. \nSpend your Saturday evening socializing with fellow wine lovers while enjoying live music by local talent.
URL:https://churchstreetfamily.com/event/live-music-at-the-shoppe-downtown-53/
LOCATION:ChurchStreet Wine Shoppe Downtown\, 501 Church Street NW\, Huntsville\, 35801\, United States
ATTACH;FMTTYPE=image/png:https://churchstreetfamily.com/wp-content/uploads/2024/08/DT-Aug-17-24.png
ORGANIZER;CN="ChurchStreet Family":MAILTO:hello@churchstreetfamily.com
END:VEVENT
BEGIN:VEVENT
DTSTART;TZID=America/Chicago:20240816T180000
DTEND;TZID=America/Chicago:20240816T200000
DTSTAMP:20260425T123115
CREATED:20240630T214129Z
LAST-MODIFIED:20240726T135723Z
UID:10001167-1723831200-1723838400@churchstreetfamily.com
SUMMARY:MURDER MYSTERY at the shoppe - DOWNTOWN
DESCRIPTION:Come solve the whodunit mystery at the shoppe! \nIt’s time for another murder mystery\, and this one has a twist you won’t see coming! Put on your detective’s hat and get ready for a night of intrigue and suspense. Will you crack the case? \nMark your calendar and get your tickets here!
URL:https://churchstreetfamily.com/event/murder-mystery-at-the-shoppe-downtown-2/
LOCATION:ChurchStreet Wine Shoppe Downtown\, 501 Church Street NW\, Huntsville\, 35801\, United States
ATTACH;FMTTYPE=image/png:https://churchstreetfamily.com/wp-content/uploads/2024/06/MM8.16.24.png
ORGANIZER;CN="ChurchStreet Family":MAILTO:hello@churchstreetfamily.com
END:VEVENT
BEGIN:VEVENT
DTSTART;TZID=America/Chicago:20240814T180000
DTEND;TZID=America/Chicago:20240814T210000
DTSTAMP:20260425T123115
CREATED:20240805T222906Z
LAST-MODIFIED:20240805T222906Z
UID:10001181-1723658400-1723669200@churchstreetfamily.com
SUMMARY:Live Music on the Lawn - POURHOUSE
DESCRIPTION:Join us on the lawn for live music! \nGrab a drink\, grab your seat\, and enjoy the show!
URL:https://churchstreetfamily.com/event/live-music-on-the-lawn-pourhouse-6/
LOCATION:Pourhouse\, 3414 Governors Drive\, Huntsville\, AL\, 35805\, United States
ATTACH;FMTTYPE=image/png:https://churchstreetfamily.com/wp-content/uploads/2024/08/PH08.14-2024.png
ORGANIZER;CN="ChurchStreet Family":MAILTO:hello@churchstreetfamily.com
END:VEVENT
END:VCALENDAR