BEGIN:VCALENDAR
VERSION:2.0
PRODID:-//Church Street Family - ECPv6.15.12.2//NONSGML v1.0//EN
CALSCALE:GREGORIAN
METHOD:PUBLISH
X-WR-CALNAME:Church Street Family
X-ORIGINAL-URL:https://churchstreetfamily.com
X-WR-CALDESC:Events for Church Street Family
REFRESH-INTERVAL;VALUE=DURATION:PT1H
X-Robots-Tag:noindex
X-PUBLISHED-TTL:PT1H
BEGIN:VTIMEZONE
TZID:America/Chicago
BEGIN:DAYLIGHT
TZOFFSETFROM:-0600
TZOFFSETTO:-0500
TZNAME:CDT
DTSTART:20240310T080000
END:DAYLIGHT
BEGIN:STANDARD
TZOFFSETFROM:-0500
TZOFFSETTO:-0600
TZNAME:CST
DTSTART:20241103T070000
END:STANDARD
BEGIN:DAYLIGHT
TZOFFSETFROM:-0600
TZOFFSETTO:-0500
TZNAME:CDT
DTSTART:20250309T080000
END:DAYLIGHT
BEGIN:STANDARD
TZOFFSETFROM:-0500
TZOFFSETTO:-0600
TZNAME:CST
DTSTART:20251102T070000
END:STANDARD
BEGIN:DAYLIGHT
TZOFFSETFROM:-0600
TZOFFSETTO:-0500
TZNAME:CDT
DTSTART:20260308T080000
END:DAYLIGHT
BEGIN:STANDARD
TZOFFSETFROM:-0500
TZOFFSETTO:-0600
TZNAME:CST
DTSTART:20261101T070000
END:STANDARD
BEGIN:DAYLIGHT
TZOFFSETFROM:-0600
TZOFFSETTO:-0500
TZNAME:CDT
DTSTART:20270314T080000
END:DAYLIGHT
BEGIN:STANDARD
TZOFFSETFROM:-0500
TZOFFSETTO:-0600
TZNAME:CST
DTSTART:20271107T070000
END:STANDARD
END:VTIMEZONE
BEGIN:VEVENT
DTSTART;TZID=America/Chicago:20251231T183000
DTEND;TZID=America/Chicago:20260101T003000
DTSTAMP:20260423T185910
CREATED:20251125T171715Z
LAST-MODIFIED:20251201T151041Z
UID:10001497-1767205800-1767227400@churchstreetfamily.com
SUMMARY:Piano Bar at the Shoppe
DESCRIPTION:Join us at the Downtown Wine Shoppe for an unforgettable evening of live piano music\, fine wine\, and great company.  \nSip your favorite vintages\, savor the ambiance\, and socialize with friends in a cozy and vibrant setting.  \nDon’t miss this perfect pairing of music and merriment!
URL:https://churchstreetfamily.com/event/piano-bar-at-the-shoppe-71/
LOCATION:ChurchStreet Wine Shoppe Downtown\, 501 Church Street NW\, Huntsville\, 35801\, United States
ATTACH;FMTTYPE=image/png:https://churchstreetfamily.com/wp-content/uploads/2025/11/PB-12.31.25-1.png
ORGANIZER;CN="ChurchStreet Family":MAILTO:hello@churchstreetfamily.com
END:VEVENT
BEGIN:VEVENT
DTSTART;TZID=America/Chicago:20251231T200000
DTEND;TZID=America/Chicago:20260101T010000
DTSTAMP:20260423T185910
CREATED:20251216T202632Z
LAST-MODIFIED:20251216T202632Z
UID:10001505-1767211200-1767229200@churchstreetfamily.com
SUMMARY:New Years Eve Celebration at The Shoppe
DESCRIPTION:Ring in the New Year the Shoppe way 🥂 \nLooking for a relaxed\, feel-good way to welcome the New Year? Join us at the Shoppe this New Year’s Eve for a low-key celebration filled with live music\, exceptional wines\, and the best kind of company. Settle in\, sip something special\, and enjoy the vibe as we toast to the year ahead. When the clock strikes midnight\, raise your glass with us for a festive New Year’s Cheers — no fuss\, just great wine and great times!
URL:https://churchstreetfamily.com/event/new-years-eve-celebration-at-the-shoppe/
LOCATION:ChurchStreet Wine Shoppe Downtown\, 501 Church Street NW\, Huntsville\, 35801\, United States
ATTACH;FMTTYPE=image/png:https://churchstreetfamily.com/wp-content/uploads/2025/12/CS-NYE-2026.png
ORGANIZER;CN="ChurchStreet Family":MAILTO:hello@churchstreetfamily.com
END:VEVENT
BEGIN:VEVENT
DTSTART;TZID=America/Chicago:20251231T230000
DTEND;TZID=America/Chicago:20260101T010000
DTSTAMP:20260423T185910
CREATED:20251216T202145Z
LAST-MODIFIED:20251216T202145Z
UID:10001504-1767222000-1767229200@churchstreetfamily.com
SUMMARY:New Years Eve Celebration at Catacomb435
DESCRIPTION:Step into the shadows and celebrate New Year’s Eve like never before at Catacomb435\, Huntsville’s exclusive underground speakeasy! \nStarting at 11 PM\, indulge in decadent dessert bites and sip on three bespoke craft cocktails expertly crafted to your taste. As the clock strikes midnight\, raise your glass for a champagne toast and usher in the New Year in style. \nDon’t just ring in 2026— experience it. Secure your spot HERE—this is one secret you don’t want to miss.
URL:https://churchstreetfamily.com/event/new-years-eve-celebration-at-catacomb435/
LOCATION:Catacomb 435\, 100 Jefferson Street N Unit 435\, Huntsville\, AL\, 35801\, United States
ATTACH;FMTTYPE=image/png:https://churchstreetfamily.com/wp-content/uploads/2025/12/CATA-NYE-2026.png
ORGANIZER;CN="ChurchStreet Family":MAILTO:hello@churchstreetfamily.com
END:VEVENT
BEGIN:VEVENT
DTSTART;TZID=America/Chicago:20260115T180000
DTEND;TZID=America/Chicago:20260115T210000
DTSTAMP:20260423T185910
CREATED:20251031T190622Z
LAST-MODIFIED:20251202T141751Z
UID:10001480-1768500000-1768510800@churchstreetfamily.com
SUMMARY:Pop the Cork -  10th Annual Largest Bubbles Tasting in Town!
DESCRIPTION:Join us for the 10th Annual – POP THE CORK event – Largest Bubbles Tasting in Huntsville! \nHuntsville Museum of Art  for the 10th Annual Pop the Cork!! \nAn exquisite celebration of sparkling wines and champagnes perfectly paired with a array of delectable small bites. \nImmerse yourself in a night of effervescence as we curate an unforgettable tasting experience that tantalizes the senses. \nTaste 50 sparkling wines & champagnes just in time for the HOLIDAYS!!\n*as well as some port wines!! \nYour amazing selection of sparklings will also be paired with small bites from ChurchStreet Family!! \nENJOY – LIVE MUSIC while sipping! \nYes.. you can purchase the wines too – just in time for the holidays! \nAll featured wines are available for purchase\, allowing you to extend the celebration beyond the event and share these exceptional finds with friends and loved ones. \nPicked up your bottle(s) at Church Street Wine Bar & Bottle Shoppe in Downtown Huntsville! \nGet your ticket HERE! \n*all tickets non refundable
URL:https://churchstreetfamily.com/event/pop-the-cork-10th-annual-largest-bubbles-tasting-in-town/
LOCATION:Huntsville Museum of Art\, 300 Church Street\, Huntsville\, AL\, 35801\, United States
ATTACH;FMTTYPE=image/png:https://churchstreetfamily.com/wp-content/uploads/2022/09/Pop-the-Cork-25-Inst-10yr-7.png
ORGANIZER;CN="ChurchStreet Family":MAILTO:hello@churchstreetfamily.com
END:VEVENT
END:VCALENDAR