BEGIN:VCALENDAR
VERSION:2.0
PRODID:-//Church Street Family - ECPv6.15.12.2//NONSGML v1.0//EN
CALSCALE:GREGORIAN
METHOD:PUBLISH
X-WR-CALNAME:Church Street Family
X-ORIGINAL-URL:https://churchstreetfamily.com
X-WR-CALDESC:Events for Church Street Family
REFRESH-INTERVAL;VALUE=DURATION:PT1H
X-Robots-Tag:noindex
X-PUBLISHED-TTL:PT1H
BEGIN:VTIMEZONE
TZID:America/Chicago
BEGIN:DAYLIGHT
TZOFFSETFROM:-0600
TZOFFSETTO:-0500
TZNAME:CDT
DTSTART:20240310T080000
END:DAYLIGHT
BEGIN:STANDARD
TZOFFSETFROM:-0500
TZOFFSETTO:-0600
TZNAME:CST
DTSTART:20241103T070000
END:STANDARD
BEGIN:DAYLIGHT
TZOFFSETFROM:-0600
TZOFFSETTO:-0500
TZNAME:CDT
DTSTART:20250309T080000
END:DAYLIGHT
BEGIN:STANDARD
TZOFFSETFROM:-0500
TZOFFSETTO:-0600
TZNAME:CST
DTSTART:20251102T070000
END:STANDARD
BEGIN:DAYLIGHT
TZOFFSETFROM:-0600
TZOFFSETTO:-0500
TZNAME:CDT
DTSTART:20260308T080000
END:DAYLIGHT
BEGIN:STANDARD
TZOFFSETFROM:-0500
TZOFFSETTO:-0600
TZNAME:CST
DTSTART:20261101T070000
END:STANDARD
END:VTIMEZONE
BEGIN:VEVENT
DTSTART;TZID=America/Chicago:20251101T130000
DTEND;TZID=America/Chicago:20251101T160000
DTSTAMP:20260424T041559
CREATED:20250922T212812Z
LAST-MODIFIED:20250922T212812Z
UID:10001470-1762002000-1762012800@churchstreetfamily.com
SUMMARY:Athens Food and Wine Festival
DESCRIPTION:Sip\, Savor & Celebrate at the 2nd Annual Athens Food & Wine Festival! 🍷✨ \nJoin us at the vibrant Athens Farmers Market as ChurchStreet Family brings back the Athens Food and Wine Festival for its second year! \nSpend the day sipping exceptional wines\, sampling chef-curated small bites\, and soaking up the sounds of live music—all while mingling with fellow foodies\, wine lovers\, and friends. \nRub elbows with celebrity chefs and renowned wine experts as they share their craft\, their passion\, and their favorite flavors. From bold reds to crisp whites\, and from savory to sweet\, this festival is a feast for the senses. \n✨ Tasting. Toasting. Shopping. Socializing. ✨ \nCome raise a glass at the market—where flavor meets fun! Snag your ticket HERE!
URL:https://churchstreetfamily.com/event/athens-food-and-wine-festival/
LOCATION:Athens Farmers Market\, Athens\, AL
ATTACH;FMTTYPE=image/png:https://churchstreetfamily.com/wp-content/uploads/2025/09/big-NEWS-tomorrow-2-2.png
ORGANIZER;CN="ChurchStreet Family":MAILTO:hello@churchstreetfamily.com
END:VEVENT
BEGIN:VEVENT
DTSTART;TZID=America/Chicago:20251101T183000
DTEND;TZID=America/Chicago:20251101T213000
DTSTAMP:20260424T041559
CREATED:20250918T213101Z
LAST-MODIFIED:20250918T213101Z
UID:10001466-1762021800-1762032600@churchstreetfamily.com
SUMMARY:Piano Bar at the Shoppe
DESCRIPTION:Join us at the Downtown Wine Shoppe for an unforgettable evening of live piano music\, fine wine\, and great company. Sip your favorite vintages\, savor the ambiance\, and socialize with friends in a cozy and vibrant setting. \n Don’t miss this perfect pairing of music and merriment!
URL:https://churchstreetfamily.com/event/piano-bar-at-the-shoppe-54/
LOCATION:ChurchStreet Wine Shoppe Downtown\, 501 Church Street NW\, Huntsville\, 35801\, United States
ATTACH;FMTTYPE=image/png:https://churchstreetfamily.com/wp-content/uploads/2025/09/PB-11.01.25.png
ORGANIZER;CN="ChurchStreet Family":MAILTO:hello@churchstreetfamily.com
END:VEVENT
BEGIN:VEVENT
DTSTART;TZID=America/Chicago:20251104T180000
DTEND;TZID=America/Chicago:20251104T200000
DTSTAMP:20260424T041559
CREATED:20251031T185021Z
LAST-MODIFIED:20251031T185021Z
UID:10001476-1762279200-1762286400@churchstreetfamily.com
SUMMARY:Tuesday Trivia at Pourhouse
DESCRIPTION:Come join us for a fun-filled night of weekly trivia and drinks on the lawn! \nIt’s something new every week so come test your knowledge while socializing with friends.
URL:https://churchstreetfamily.com/event/tuesday-trivia-at-pourhouse-58/
LOCATION:Pourhouse\, 3414 Governors Drive\, Huntsville\, AL\, 35805\, United States
ATTACH;FMTTYPE=image/png:https://churchstreetfamily.com/wp-content/uploads/2025/10/PH-TRIVIA-NOV-04-25.png
ORGANIZER;CN="ChurchStreet Family":MAILTO:hello@churchstreetfamily.com
END:VEVENT
BEGIN:VEVENT
DTSTART;TZID=America/Chicago:20251107T183000
DTEND;TZID=America/Chicago:20251107T213000
DTSTAMP:20260424T041559
CREATED:20251031T194717Z
LAST-MODIFIED:20251031T194717Z
UID:10001481-1762540200-1762551000@churchstreetfamily.com
SUMMARY:Piano Bar at the Shoppe
DESCRIPTION:Join us at the Downtown Wine Shoppe for an unforgettable evening of live piano music\, fine wine\, and great company. \n Sip your favorite vintages\, savor the ambiance\, and socialize with friends in a cozy and vibrant setting.  \nDon’t miss this perfect pairing of music and merriment!
URL:https://churchstreetfamily.com/event/piano-bar-at-the-shoppe-55/
LOCATION:ChurchStreet Wine Shoppe Downtown\, 501 Church Street NW\, Huntsville\, 35801\, United States
ATTACH;FMTTYPE=image/png:https://churchstreetfamily.com/wp-content/uploads/2025/10/PB-11.07.25.png
ORGANIZER;CN="ChurchStreet Family":MAILTO:hello@churchstreetfamily.com
END:VEVENT
BEGIN:VEVENT
DTSTART;TZID=America/Chicago:20251108T183000
DTEND;TZID=America/Chicago:20251108T213000
DTSTAMP:20260424T041559
CREATED:20251031T194837Z
LAST-MODIFIED:20251031T194837Z
UID:10001482-1762626600-1762637400@churchstreetfamily.com
SUMMARY:Piano Bar at the Shoppe
DESCRIPTION:Join us at the Downtown Wine Shoppe for an unforgettable evening of live piano music\, fine wine\, and great company. \n Sip your favorite vintages\, savor the ambiance\, and socialize with friends in a cozy and vibrant setting.  \nDon’t miss this perfect pairing of music and merriment!
URL:https://churchstreetfamily.com/event/piano-bar-at-the-shoppe-56/
LOCATION:ChurchStreet Wine Shoppe Downtown\, 501 Church Street NW\, Huntsville\, 35801\, United States
ATTACH;FMTTYPE=image/png:https://churchstreetfamily.com/wp-content/uploads/2025/10/PB-11.08.25.png
ORGANIZER;CN="ChurchStreet Family":MAILTO:hello@churchstreetfamily.com
END:VEVENT
BEGIN:VEVENT
DTSTART;TZID=America/Chicago:20251109T160000
DTEND;TZID=America/Chicago:20251109T180000
DTSTAMP:20260424T041559
CREATED:20250131T172026Z
LAST-MODIFIED:20251018T143940Z
UID:10001324-1762704000-1762711200@churchstreetfamily.com
SUMMARY:Purveyor Supper Club - A Study in Paella
DESCRIPTION:Pan & Flame: A Study in Paella | Supper Club Experience \nStep into the fire with Pan & Flame\, an immersive supper club exploring one of Spain’s most celebrated culinary traditions — paella. In this exclusive dining experience\, our chefs reimagine the classic dish four distinct ways: brimming with fresh seafood\, rich and savory chicken\, vibrant vegetarian\, and even a daringly sweet finale. \nEach course is thoughtfully paired with a curated pour\, perfectly selected to elevate the flavors and textures of the pan. From the saffron-scented steam to the irresistible golden crust\, this is more than dinner — it’s a study in craft\, culture\, and fire itself. \nSeats are limited. Join us for an evening where the flame meets the table. \nGet your tickets HERE! \n*all tickets non refundable
URL:https://churchstreetfamily.com/event/supper-club-at-purveyor-a-study-in-paella/
LOCATION:Purveyor\, 201 Jefferson Street N\, Huntsville\, AL\, 35801\, United States
ATTACH;FMTTYPE=image/png:https://churchstreetfamily.com/wp-content/uploads/2025/01/Pan-and-Flame-Supper-Club-25.png
ORGANIZER;CN="ChurchStreet Family":MAILTO:hello@churchstreetfamily.com
END:VEVENT
BEGIN:VEVENT
DTSTART;TZID=America/Chicago:20251111T180000
DTEND;TZID=America/Chicago:20251111T200000
DTSTAMP:20260424T041559
CREATED:20251031T185144Z
LAST-MODIFIED:20251031T185144Z
UID:10001477-1762884000-1762891200@churchstreetfamily.com
SUMMARY:Tuesday Trivia at Pourhouse
DESCRIPTION:Come join us for a fun-filled night of weekly trivia and drinks on the lawn! \nIt’s something new every week so come test your knowledge while socializing with friends.
URL:https://churchstreetfamily.com/event/tuesday-trivia-at-pourhouse-59/
LOCATION:Pourhouse\, 3414 Governors Drive\, Huntsville\, AL\, 35805\, United States
ATTACH;FMTTYPE=image/png:https://churchstreetfamily.com/wp-content/uploads/2025/10/PH-TRIVIA-NOV-11-25.png
ORGANIZER;CN="ChurchStreet Family":MAILTO:hello@churchstreetfamily.com
END:VEVENT
BEGIN:VEVENT
DTSTART;TZID=America/Chicago:20251114T183000
DTEND;TZID=America/Chicago:20251114T213000
DTSTAMP:20260424T041559
CREATED:20251031T194954Z
LAST-MODIFIED:20251031T194954Z
UID:10001483-1763145000-1763155800@churchstreetfamily.com
SUMMARY:Piano Bar at the Shoppe
DESCRIPTION:Join us at the Downtown Wine Shoppe for an unforgettable evening of live piano music\, fine wine\, and great company. \n Sip your favorite vintages\, savor the ambiance\, and socialize with friends in a cozy and vibrant setting.  \nDon’t miss this perfect pairing of music and merriment!
URL:https://churchstreetfamily.com/event/piano-bar-at-the-shoppe-57/
LOCATION:ChurchStreet Wine Shoppe Downtown\, 501 Church Street NW\, Huntsville\, 35801\, United States
ATTACH;FMTTYPE=image/png:https://churchstreetfamily.com/wp-content/uploads/2025/10/PB-11.14.25.png
ORGANIZER;CN="ChurchStreet Family":MAILTO:hello@churchstreetfamily.com
END:VEVENT
BEGIN:VEVENT
DTSTART;TZID=America/Chicago:20251115T183000
DTEND;TZID=America/Chicago:20251115T213000
DTSTAMP:20260424T041559
CREATED:20251031T195110Z
LAST-MODIFIED:20251031T195110Z
UID:10001484-1763231400-1763242200@churchstreetfamily.com
SUMMARY:Piano Bar at the Shoppe
DESCRIPTION:Join us at the Downtown Wine Shoppe for an unforgettable evening of live piano music\, fine wine\, and great company. \n Sip your favorite vintages\, savor the ambiance\, and socialize with friends in a cozy and vibrant setting.  \nDon’t miss this perfect pairing of music and merriment!
URL:https://churchstreetfamily.com/event/piano-bar-at-the-shoppe-58/
LOCATION:ChurchStreet Wine Shoppe Downtown\, 501 Church Street NW\, Huntsville\, 35801\, United States
ATTACH;FMTTYPE=image/png:https://churchstreetfamily.com/wp-content/uploads/2025/10/PB-11.15.25.png
ORGANIZER;CN="ChurchStreet Family":MAILTO:hello@churchstreetfamily.com
END:VEVENT
BEGIN:VEVENT
DTSTART;TZID=America/Chicago:20251118T180000
DTEND;TZID=America/Chicago:20251118T200000
DTSTAMP:20260424T041559
CREATED:20251031T185312Z
LAST-MODIFIED:20251031T185312Z
UID:10001478-1763488800-1763496000@churchstreetfamily.com
SUMMARY:Tuesday Trivia at Pourhouse
DESCRIPTION:Come join us for a fun-filled night of weekly trivia and drinks on the lawn! \nIt’s something new every week so come test your knowledge while socializing with friends.
URL:https://churchstreetfamily.com/event/tuesday-trivia-at-pourhouse-60/
LOCATION:Pourhouse\, 3414 Governors Drive\, Huntsville\, AL\, 35805\, United States
ATTACH;FMTTYPE=image/png:https://churchstreetfamily.com/wp-content/uploads/2025/10/PH-TRIVIA-NOV-18-25.png
ORGANIZER;CN="ChurchStreet Family":MAILTO:hello@churchstreetfamily.com
END:VEVENT
BEGIN:VEVENT
DTSTART;TZID=America/Chicago:20251121T183000
DTEND;TZID=America/Chicago:20251121T213000
DTSTAMP:20260424T041559
CREATED:20251031T195224Z
LAST-MODIFIED:20251031T195224Z
UID:10001485-1763749800-1763760600@churchstreetfamily.com
SUMMARY:Piano Bar at the Shoppe
DESCRIPTION:Join us at the Downtown Wine Shoppe for an unforgettable evening of live piano music\, fine wine\, and great company. \n Sip your favorite vintages\, savor the ambiance\, and socialize with friends in a cozy and vibrant setting.  \nDon’t miss this perfect pairing of music and merriment!
URL:https://churchstreetfamily.com/event/piano-bar-at-the-shoppe-59/
LOCATION:ChurchStreet Wine Shoppe Downtown\, 501 Church Street NW\, Huntsville\, 35801\, United States
ATTACH;FMTTYPE=image/png:https://churchstreetfamily.com/wp-content/uploads/2025/10/PB-11.21.25.png
ORGANIZER;CN="ChurchStreet Family":MAILTO:hello@churchstreetfamily.com
END:VEVENT
BEGIN:VEVENT
DTSTART;TZID=America/Chicago:20251122T183000
DTEND;TZID=America/Chicago:20251122T213000
DTSTAMP:20260424T041559
CREATED:20251031T195345Z
LAST-MODIFIED:20251031T195345Z
UID:10001486-1763836200-1763847000@churchstreetfamily.com
SUMMARY:Piano Bar at the Shoppe
DESCRIPTION:Join us at the Downtown Wine Shoppe for an unforgettable evening of live piano music\, fine wine\, and great company. \n Sip your favorite vintages\, savor the ambiance\, and socialize with friends in a cozy and vibrant setting.  \nDon’t miss this perfect pairing of music and merriment!
URL:https://churchstreetfamily.com/event/piano-bar-at-the-shoppe-60/
LOCATION:ChurchStreet Wine Shoppe Downtown\, 501 Church Street NW\, Huntsville\, 35801\, United States
ATTACH;FMTTYPE=image/png:https://churchstreetfamily.com/wp-content/uploads/2025/10/PB-11.22.25.png
ORGANIZER;CN="ChurchStreet Family":MAILTO:hello@churchstreetfamily.com
END:VEVENT
BEGIN:VEVENT
DTSTART;TZID=America/Chicago:20251125T180000
DTEND;TZID=America/Chicago:20251125T200000
DTSTAMP:20260424T041559
CREATED:20251031T185427Z
LAST-MODIFIED:20251031T185427Z
UID:10001479-1764093600-1764100800@churchstreetfamily.com
SUMMARY:Tuesday Trivia at Pourhouse
DESCRIPTION:Come join us for a fun-filled night of weekly trivia and drinks on the lawn! \nIt’s something new every week so come test your knowledge while socializing with friends.
URL:https://churchstreetfamily.com/event/tuesday-trivia-at-pourhouse-61/
LOCATION:Pourhouse\, 3414 Governors Drive\, Huntsville\, AL\, 35805\, United States
ATTACH;FMTTYPE=image/png:https://churchstreetfamily.com/wp-content/uploads/2025/10/PH-TRIVIA-NOV-25-25.png
ORGANIZER;CN="ChurchStreet Family":MAILTO:hello@churchstreetfamily.com
END:VEVENT
BEGIN:VEVENT
DTSTART;TZID=America/Chicago:20251128T183000
DTEND;TZID=America/Chicago:20251128T213000
DTSTAMP:20260424T041559
CREATED:20251031T195509Z
LAST-MODIFIED:20251031T195509Z
UID:10001487-1764354600-1764365400@churchstreetfamily.com
SUMMARY:Piano Bar at the Shoppe
DESCRIPTION:Join us at the Downtown Wine Shoppe for an unforgettable evening of live piano music\, fine wine\, and great company. \n Sip your favorite vintages\, savor the ambiance\, and socialize with friends in a cozy and vibrant setting.  \nDon’t miss this perfect pairing of music and merriment!
URL:https://churchstreetfamily.com/event/piano-bar-at-the-shoppe-61/
LOCATION:ChurchStreet Wine Shoppe Downtown\, 501 Church Street NW\, Huntsville\, 35801\, United States
ATTACH;FMTTYPE=image/png:https://churchstreetfamily.com/wp-content/uploads/2025/10/PB-11.28.25.png
ORGANIZER;CN="ChurchStreet Family":MAILTO:hello@churchstreetfamily.com
END:VEVENT
BEGIN:VEVENT
DTSTART;TZID=America/Chicago:20251129T183000
DTEND;TZID=America/Chicago:20251129T213000
DTSTAMP:20260424T041559
CREATED:20251031T195623Z
LAST-MODIFIED:20251031T195623Z
UID:10001488-1764441000-1764451800@churchstreetfamily.com
SUMMARY:Piano Bar at the Shoppe
DESCRIPTION:Join us at the Downtown Wine Shoppe for an unforgettable evening of live piano music\, fine wine\, and great company. \n Sip your favorite vintages\, savor the ambiance\, and socialize with friends in a cozy and vibrant setting.  \nDon’t miss this perfect pairing of music and merriment!
URL:https://churchstreetfamily.com/event/piano-bar-at-the-shoppe-62/
LOCATION:ChurchStreet Wine Shoppe Downtown\, 501 Church Street NW\, Huntsville\, 35801\, United States
ATTACH;FMTTYPE=image/png:https://churchstreetfamily.com/wp-content/uploads/2025/10/PB-11.29.25.png
ORGANIZER;CN="ChurchStreet Family":MAILTO:hello@churchstreetfamily.com
END:VEVENT
END:VCALENDAR