BEGIN:VCALENDAR
VERSION:2.0
PRODID:-//Church Street Family - ECPv6.15.12.2//NONSGML v1.0//EN
CALSCALE:GREGORIAN
METHOD:PUBLISH
X-WR-CALNAME:Church Street Family
X-ORIGINAL-URL:https://churchstreetfamily.com
X-WR-CALDESC:Events for Church Street Family
REFRESH-INTERVAL;VALUE=DURATION:PT1H
X-Robots-Tag:noindex
X-PUBLISHED-TTL:PT1H
BEGIN:VTIMEZONE
TZID:America/Chicago
BEGIN:DAYLIGHT
TZOFFSETFROM:-0600
TZOFFSETTO:-0500
TZNAME:CDT
DTSTART:20240310T080000
END:DAYLIGHT
BEGIN:STANDARD
TZOFFSETFROM:-0500
TZOFFSETTO:-0600
TZNAME:CST
DTSTART:20241103T070000
END:STANDARD
BEGIN:DAYLIGHT
TZOFFSETFROM:-0600
TZOFFSETTO:-0500
TZNAME:CDT
DTSTART:20250309T080000
END:DAYLIGHT
BEGIN:STANDARD
TZOFFSETFROM:-0500
TZOFFSETTO:-0600
TZNAME:CST
DTSTART:20251102T070000
END:STANDARD
BEGIN:DAYLIGHT
TZOFFSETFROM:-0600
TZOFFSETTO:-0500
TZNAME:CDT
DTSTART:20260308T080000
END:DAYLIGHT
BEGIN:STANDARD
TZOFFSETFROM:-0500
TZOFFSETTO:-0600
TZNAME:CST
DTSTART:20261101T070000
END:STANDARD
END:VTIMEZONE
BEGIN:VEVENT
DTSTART;TZID=America/Chicago:20250805T180000
DTEND;TZID=America/Chicago:20250805T200000
DTSTAMP:20260424T135736
CREATED:20250715T153051Z
LAST-MODIFIED:20250715T153051Z
UID:10001405-1754416800-1754424000@churchstreetfamily.com
SUMMARY:The Shoppe Series
DESCRIPTION:Step into a night of refined indulgence at The Shoppe Series\, where flavor meets finesse. This exclusive three-course boutique wine and food experience is all about bold pairings\, unexpected twists\, and chef-crafted creations designed to thrill your palate. \nEach dish is thoughtfully paired with a unique wine that doesn’t just complement — it elevates. Think small-scale\, high-quality pours paired with imaginative plates that redefine what a tasting can be. \nSophisticated\, intimate\, and just a little indulgent — this is more than a tasting. It’s a vibe. \nWine not treat yourself? Save your seat HERE! \n*tickets are non-refundable
URL:https://churchstreetfamily.com/event/the-shoppe-series/
LOCATION:ChurchStreet Wine Shoppe Downtown\, 501 Church Street NW\, Huntsville\, 35801\, United States
ATTACH;FMTTYPE=image/png:https://churchstreetfamily.com/wp-content/uploads/2025/07/The-Shoppe-Series-Aug25-1.png
ORGANIZER;CN="ChurchStreet Family":MAILTO:hello@churchstreetfamily.com
END:VEVENT
BEGIN:VEVENT
DTSTART;TZID=America/Chicago:20250805T180000
DTEND;TZID=America/Chicago:20250805T200000
DTSTAMP:20260424T135736
CREATED:20250803T233742Z
LAST-MODIFIED:20250803T233742Z
UID:10001412-1754416800-1754424000@churchstreetfamily.com
SUMMARY:Tuesday Trivia at Pourhouse
DESCRIPTION:Come join us for a fun-filled night of weekly trivia and drinks on the lawn! \nIt’s something new every week so come test your knowledge while socializing with friends.
URL:https://churchstreetfamily.com/event/tuesday-trivia-at-pourhouse-48/
LOCATION:Pourhouse\, 3414 Governors Drive\, Huntsville\, AL\, 35805\, United States
ATTACH;FMTTYPE=image/png:https://churchstreetfamily.com/wp-content/uploads/2025/08/PH-TRIVIA-AUG-05-25.png
ORGANIZER;CN="ChurchStreet Family":MAILTO:hello@churchstreetfamily.com
END:VEVENT
BEGIN:VEVENT
DTSTART;TZID=America/Chicago:20250808T183000
DTEND;TZID=America/Chicago:20250808T213000
DTSTAMP:20260424T135736
CREATED:20250803T235648Z
LAST-MODIFIED:20250803T235648Z
UID:10001416-1754677800-1754688600@churchstreetfamily.com
SUMMARY:Piano Bar at the Shoppe
DESCRIPTION:Join us at the Downtown Wine Shoppe for an unforgettable evening of live piano music\, fine wine\, and great company.  \nSip your favorite vintages\, savor the ambiance\, and socialize with friends in a cozy and vibrant setting.  \nDon’t miss this perfect pairing of music and merriment!
URL:https://churchstreetfamily.com/event/piano-bar-at-the-shoppe-29/
LOCATION:ChurchStreet Wine Shoppe Downtown\, 501 Church Street NW\, Huntsville\, 35801\, United States
ATTACH;FMTTYPE=image/png:https://churchstreetfamily.com/wp-content/uploads/2025/08/PB-08.08.25.png
ORGANIZER;CN="ChurchStreet Family":MAILTO:hello@churchstreetfamily.com
END:VEVENT
BEGIN:VEVENT
DTSTART;TZID=America/Chicago:20250809T183000
DTEND;TZID=America/Chicago:20250809T213000
DTSTAMP:20260424T135736
CREATED:20250803T235802Z
LAST-MODIFIED:20250803T235802Z
UID:10001417-1754764200-1754775000@churchstreetfamily.com
SUMMARY:Piano Bar at the Shoppe
DESCRIPTION:Join us at the Downtown Wine Shoppe for an unforgettable evening of live piano music\, fine wine\, and great company.  \nSip your favorite vintages\, savor the ambiance\, and socialize with friends in a cozy and vibrant setting.  \nDon’t miss this perfect pairing of music and merriment!
URL:https://churchstreetfamily.com/event/piano-bar-at-the-shoppe-30/
LOCATION:ChurchStreet Wine Shoppe Downtown\, 501 Church Street NW\, Huntsville\, 35801\, United States
ATTACH;FMTTYPE=image/png:https://churchstreetfamily.com/wp-content/uploads/2025/08/PB-08.09.25.png
ORGANIZER;CN="ChurchStreet Family":MAILTO:hello@churchstreetfamily.com
END:VEVENT
BEGIN:VEVENT
DTSTART;TZID=America/Chicago:20250810T140000
DTEND;TZID=America/Chicago:20250810T170000
DTSTAMP:20260424T135736
CREATED:20250730T200636Z
LAST-MODIFIED:20250730T200636Z
UID:10001407-1754834400-1754845200@churchstreetfamily.com
SUMMARY:Sidewalk Series at SeaSalt
DESCRIPTION:Live music\, fresh seafood and a long afternoon sounds like the perfect way to end the weekend\, right? Make plans to come join us!⁣\n⁣\n⁣ \n.
URL:https://churchstreetfamily.com/event/sidewalk-series-at-seasalt-5/
LOCATION:Sea Salt\, 114 Clinton Ave E\, Huntsville\, AL\, 35801\, United States
ATTACH;FMTTYPE=image/png:https://churchstreetfamily.com/wp-content/uploads/2025/07/8.10.25.png
ORGANIZER;CN="ChurchStreet Family":MAILTO:hello@churchstreetfamily.com
END:VEVENT
BEGIN:VEVENT
DTSTART;TZID=America/Chicago:20250812T180000
DTEND;TZID=America/Chicago:20250812T200000
DTSTAMP:20260424T135736
CREATED:20250803T233849Z
LAST-MODIFIED:20250803T233952Z
UID:10001413-1755021600-1755028800@churchstreetfamily.com
SUMMARY:Tuesday Trivia at Pourhouse
DESCRIPTION:Come join us for a fun-filled night of weekly trivia and drinks on the lawn! \nIt’s something new every week so come test your knowledge while socializing with friends.
URL:https://churchstreetfamily.com/event/tuesday-trivia-at-pourhouse-49/
LOCATION:Pourhouse\, 3414 Governors Drive\, Huntsville\, AL\, 35805\, United States
ATTACH;FMTTYPE=image/png:https://churchstreetfamily.com/wp-content/uploads/2025/08/PH-TRIVIA-AUG-12-25.png
ORGANIZER;CN="ChurchStreet Family":MAILTO:hello@churchstreetfamily.com
END:VEVENT
BEGIN:VEVENT
DTSTART;TZID=America/Chicago:20250815T183000
DTEND;TZID=America/Chicago:20250815T213000
DTSTAMP:20260424T135736
CREATED:20250803T235914Z
LAST-MODIFIED:20250803T235914Z
UID:10001418-1755282600-1755293400@churchstreetfamily.com
SUMMARY:Piano Bar at the Shoppe
DESCRIPTION:Join us at the Downtown Wine Shoppe for an unforgettable evening of live piano music\, fine wine\, and great company.  \nSip your favorite vintages\, savor the ambiance\, and socialize with friends in a cozy and vibrant setting.  \nDon’t miss this perfect pairing of music and merriment!
URL:https://churchstreetfamily.com/event/piano-bar-at-the-shoppe-31/
LOCATION:ChurchStreet Wine Shoppe Downtown\, 501 Church Street NW\, Huntsville\, 35801\, United States
ATTACH;FMTTYPE=image/png:https://churchstreetfamily.com/wp-content/uploads/2025/08/PB-08.15.25.png
ORGANIZER;CN="ChurchStreet Family":MAILTO:hello@churchstreetfamily.com
END:VEVENT
BEGIN:VEVENT
DTSTART;TZID=America/Chicago:20250816T183000
DTEND;TZID=America/Chicago:20250816T213000
DTSTAMP:20260424T135736
CREATED:20250804T000033Z
LAST-MODIFIED:20250804T000033Z
UID:10001419-1755369000-1755379800@churchstreetfamily.com
SUMMARY:Piano Bar at the Shoppe
DESCRIPTION:Join us at the Downtown Wine Shoppe for an unforgettable evening of live piano music\, fine wine\, and great company.  \nSip your favorite vintages\, savor the ambiance\, and socialize with friends in a cozy and vibrant setting.  \nDon’t miss this perfect pairing of music and merriment!
URL:https://churchstreetfamily.com/event/piano-bar-at-the-shoppe-32/
LOCATION:ChurchStreet Wine Shoppe Downtown\, 501 Church Street NW\, Huntsville\, 35801\, United States
ATTACH;FMTTYPE=image/png:https://churchstreetfamily.com/wp-content/uploads/2025/08/PB-08.16.25.png
ORGANIZER;CN="ChurchStreet Family":MAILTO:hello@churchstreetfamily.com
END:VEVENT
BEGIN:VEVENT
DTSTART;TZID=America/Chicago:20250817T140000
DTEND;TZID=America/Chicago:20250817T170000
DTSTAMP:20260424T135736
CREATED:20250730T200754Z
LAST-MODIFIED:20250730T200754Z
UID:10001408-1755439200-1755450000@churchstreetfamily.com
SUMMARY:Sidewalk Series at SeaSalt
DESCRIPTION:Live music\, fresh seafood and a long afternoon sounds like the perfect way to end the weekend\, right? Make plans to come join us!⁣\n⁣\n⁣ \n⁣⁣⁣⁣⁣⁣\n.
URL:https://churchstreetfamily.com/event/sidewalk-series-at-seasalt-6/
LOCATION:Sea Salt\, 114 Clinton Ave E\, Huntsville\, AL\, 35801\, United States
ATTACH;FMTTYPE=image/png:https://churchstreetfamily.com/wp-content/uploads/2025/07/8.17.25.png
ORGANIZER;CN="ChurchStreet Family":MAILTO:hello@churchstreetfamily.com
END:VEVENT
BEGIN:VEVENT
DTSTART;TZID=America/Chicago:20250819T180000
DTEND;TZID=America/Chicago:20250819T200000
DTSTAMP:20260424T135736
CREATED:20250803T234146Z
LAST-MODIFIED:20250803T234146Z
UID:10001414-1755626400-1755633600@churchstreetfamily.com
SUMMARY:Tuesday Trivia at Pourhouse
DESCRIPTION:Come join us for a fun-filled night of weekly trivia and drinks on the lawn! \nIt’s something new every week so come test your knowledge while socializing with friends.
URL:https://churchstreetfamily.com/event/tuesday-trivia-at-pourhouse-50/
LOCATION:Pourhouse\, 3414 Governors Drive\, Huntsville\, AL\, 35805\, United States
ATTACH;FMTTYPE=image/png:https://churchstreetfamily.com/wp-content/uploads/2025/08/PH-TRIVIA-AUG-19-25.png
ORGANIZER;CN="ChurchStreet Family":MAILTO:hello@churchstreetfamily.com
END:VEVENT
BEGIN:VEVENT
DTSTART;TZID=America/Chicago:20250819T180000
DTEND;TZID=America/Chicago:20250819T200000
DTSTAMP:20260424T135736
CREATED:20250805T204404Z
LAST-MODIFIED:20250805T204404Z
UID:10001424-1755626400-1755633600@churchstreetfamily.com
SUMMARY:ChurchStreet Wine Club Experience
DESCRIPTION:🍷 ChurchStreet Wine Club Experience \nGet ready for an evening of bold flavors\, rich pours\, and unforgettable pairings. The ChurchStreet Wine Club Experience is back — and this round is all about discovery. Enjoy a handpicked flight of premium wines (1.25 oz pours)\, each expertly paired with a crafted small bite designed to elevate every sip. Whether you’re a seasoned wine lover or just starting your tasting journey\, this experience is the perfect way to swirl\, sip\, and savor something new. \nSpots are limited — reserve yours now! \n* tickets are non refundable
URL:https://churchstreetfamily.com/event/churchstreet-wine-club-experience/
LOCATION:Li’l Mazzara’s\, 102 Washington St E\, Athens\, AL\, 35611\, United States
ATTACH;FMTTYPE=image/png:https://churchstreetfamily.com/wp-content/uploads/2025/08/Experience-Wine-Club-1.png
ORGANIZER;CN="ChurchStreet Family":MAILTO:hello@churchstreetfamily.com
END:VEVENT
BEGIN:VEVENT
DTSTART;TZID=America/Chicago:20250821T180000
DTEND;TZID=America/Chicago:20250821T200000
DTSTAMP:20260424T135736
CREATED:20250805T205136Z
LAST-MODIFIED:20250805T205136Z
UID:10001425-1755799200-1755806400@churchstreetfamily.com
SUMMARY:Rum Tasting at Pourhouse
DESCRIPTION:We’re turning up the heat at Pourhouse on August 21st with a killer tasting of aged Guatemalan rums that’ll have your taste buds dancing. Bold\, smooth\, and full of flavor — just like the crew you roll in with. \nSo round up your rum-loving friends\, mark your calendar\, and tag your tasting crew — because we’re always pouring something new\, and this one’s straight 🔥.
URL:https://churchstreetfamily.com/event/rum-tasting-at-pourhouse/
LOCATION:Pourhouse\, 3414 Governors Drive\, Huntsville\, AL\, 35805\, United States
ATTACH;FMTTYPE=image/png:https://churchstreetfamily.com/wp-content/uploads/2025/08/Rum-Tasting-2.png
ORGANIZER;CN="ChurchStreet Family":MAILTO:hello@churchstreetfamily.com
END:VEVENT
BEGIN:VEVENT
DTSTART;TZID=America/Chicago:20250822T183000
DTEND;TZID=America/Chicago:20250822T213000
DTSTAMP:20260424T135736
CREATED:20250804T000151Z
LAST-MODIFIED:20250804T000151Z
UID:10001420-1755887400-1755898200@churchstreetfamily.com
SUMMARY:Piano Bar at the Shoppe
DESCRIPTION:Join us at the Downtown Wine Shoppe for an unforgettable evening of live piano music\, fine wine\, and great company.  \nSip your favorite vintages\, savor the ambiance\, and socialize with friends in a cozy and vibrant setting.  \nDon’t miss this perfect pairing of music and merriment!
URL:https://churchstreetfamily.com/event/piano-bar-at-the-shoppe-33/
LOCATION:ChurchStreet Wine Shoppe Downtown\, 501 Church Street NW\, Huntsville\, 35801\, United States
ATTACH;FMTTYPE=image/png:https://churchstreetfamily.com/wp-content/uploads/2025/08/PB-08.22.25.png
ORGANIZER;CN="ChurchStreet Family":MAILTO:hello@churchstreetfamily.com
END:VEVENT
BEGIN:VEVENT
DTSTART;TZID=America/Chicago:20250823T183000
DTEND;TZID=America/Chicago:20250823T213000
DTSTAMP:20260424T135736
CREATED:20250804T000313Z
LAST-MODIFIED:20250804T000313Z
UID:10001421-1755973800-1755984600@churchstreetfamily.com
SUMMARY:Piano Bar at the Shoppe
DESCRIPTION:Join us at the Downtown Wine Shoppe for an unforgettable evening of live piano music\, fine wine\, and great company.  \nSip your favorite vintages\, savor the ambiance\, and socialize with friends in a cozy and vibrant setting.  \nDon’t miss this perfect pairing of music and merriment!
URL:https://churchstreetfamily.com/event/piano-bar-at-the-shoppe-34/
LOCATION:ChurchStreet Wine Shoppe Downtown\, 501 Church Street NW\, Huntsville\, 35801\, United States
ATTACH;FMTTYPE=image/png:https://churchstreetfamily.com/wp-content/uploads/2025/08/PB-08.23.25.png
ORGANIZER;CN="ChurchStreet Family":MAILTO:hello@churchstreetfamily.com
END:VEVENT
BEGIN:VEVENT
DTSTART;TZID=America/Chicago:20250824T140000
DTEND;TZID=America/Chicago:20250824T170000
DTSTAMP:20260424T135736
CREATED:20250730T200916Z
LAST-MODIFIED:20250730T200916Z
UID:10001409-1756044000-1756054800@churchstreetfamily.com
SUMMARY:Sidewalk Series at SeaSalt
DESCRIPTION:Live music\, fresh seafood and a long afternoon sounds like the perfect way to end the weekend\, right? Make plans to come join us!⁣\n⁣\n⁣ \n⁣⁣⁣⁣⁣⁣\n.
URL:https://churchstreetfamily.com/event/sidewalk-series-at-seasalt-7/
LOCATION:Sea Salt\, 114 Clinton Ave E\, Huntsville\, AL\, 35801\, United States
ATTACH;FMTTYPE=image/png:https://churchstreetfamily.com/wp-content/uploads/2025/07/8.24.25.png
ORGANIZER;CN="ChurchStreet Family":MAILTO:hello@churchstreetfamily.com
END:VEVENT
BEGIN:VEVENT
DTSTART;TZID=America/Chicago:20250824T160000
DTEND;TZID=America/Chicago:20250824T180000
DTSTAMP:20260424T135736
CREATED:20250131T165704Z
LAST-MODIFIED:20250715T134337Z
UID:10001321-1756051200-1756058400@churchstreetfamily.com
SUMMARY:Purveyor Supper Club - The Art of Amuse Bouche
DESCRIPTION:Get ready for a night that’s bold\, playful\, and bursting with flavor. 🎉 \nCelebrate The Magnificent 7 at Purveyor Supper Club\, where our chefs are pulling out all the creative stops for a 7-course amuse bouche-style dinner like you’ve never experienced. \nEach bite-sized course is a one-of-a-kind culinary moment — think artfully plated\, wildly inventive\, and packed with personality. And to top it off? Every course is paired with a pour that complements\, enhances\, and elevates the experience. \nThis is where fine dining meets flavor adventure — a Supper Club night designed for the curious\, the bold\, and the hungry for something new. \nSeats are extremely limited. \nCome hungry. Leave inspired. Save your seat HERE! \n*all tickets non refundable
URL:https://churchstreetfamily.com/event/purveyor-supper-club-the-art-of-amuse-bouche/
LOCATION:Purveyor\, 201 Jefferson Street N\, Huntsville\, AL\, 35801\, United States
ATTACH;FMTTYPE=image/png:https://churchstreetfamily.com/wp-content/uploads/2022/09/Magnificent-7.png
ORGANIZER;CN="ChurchStreet Family":MAILTO:hello@churchstreetfamily.com
END:VEVENT
BEGIN:VEVENT
DTSTART;TZID=America/Chicago:20250826T180000
DTEND;TZID=America/Chicago:20250826T200000
DTSTAMP:20260424T135736
CREATED:20250803T234259Z
LAST-MODIFIED:20250803T234259Z
UID:10001415-1756231200-1756238400@churchstreetfamily.com
SUMMARY:Tuesday Trivia at Pourhouse
DESCRIPTION:Come join us for a fun-filled night of weekly trivia and drinks on the lawn! \nIt’s something new every week so come test your knowledge while socializing with friends.
URL:https://churchstreetfamily.com/event/tuesday-trivia-at-pourhouse-51/
LOCATION:Pourhouse\, 3414 Governors Drive\, Huntsville\, AL\, 35805\, United States
ATTACH;FMTTYPE=image/png:https://churchstreetfamily.com/wp-content/uploads/2025/08/PH-TRIVIA-AUG-26-25.png
ORGANIZER;CN="ChurchStreet Family":MAILTO:hello@churchstreetfamily.com
END:VEVENT
BEGIN:VEVENT
DTSTART;TZID=America/Chicago:20250829T183000
DTEND;TZID=America/Chicago:20250829T213000
DTSTAMP:20260424T135736
CREATED:20250804T000423Z
LAST-MODIFIED:20250804T000423Z
UID:10001422-1756492200-1756503000@churchstreetfamily.com
SUMMARY:Piano Bar at the Shoppe
DESCRIPTION:Join us at the Downtown Wine Shoppe for an unforgettable evening of live piano music\, fine wine\, and great company.  \nSip your favorite vintages\, savor the ambiance\, and socialize with friends in a cozy and vibrant setting.  \nDon’t miss this perfect pairing of music and merriment!
URL:https://churchstreetfamily.com/event/piano-bar-at-the-shoppe-35/
LOCATION:ChurchStreet Wine Shoppe Downtown\, 501 Church Street NW\, Huntsville\, 35801\, United States
ATTACH;FMTTYPE=image/png:https://churchstreetfamily.com/wp-content/uploads/2025/08/PB-08.29.25.png
END:VEVENT
BEGIN:VEVENT
DTSTART;TZID=America/Chicago:20250830T150000
DTEND;TZID=America/Chicago:20250830T190000
DTSTAMP:20260424T135736
CREATED:20250805T205438Z
LAST-MODIFIED:20250805T205438Z
UID:10001426-1756566000-1756580400@churchstreetfamily.com
SUMMARY:Summer Sippin at Li'l Mazzara's
DESCRIPTION:Summer Sippin’ is ON! \nJoin us August 30th from 3–7 PM as we shake\, stir\, and pour the taste of sunshine. We’re serving up bold cocktails and vibrant mocktails that scream summer. Bring the crew\, bring the vibes—this is your last splash of the season. \nLet’s sip\, socialize and send summer off in style.
URL:https://churchstreetfamily.com/event/summer-sippin-at-lil-mazzaras/
LOCATION:Li’l Mazzara’s\, 102 Washington St E\, Athens\, AL\, 35611\, United States
ATTACH;FMTTYPE=image/png:https://churchstreetfamily.com/wp-content/uploads/2025/08/Summer-Sippin-1.png
ORGANIZER;CN="ChurchStreet Family":MAILTO:hello@churchstreetfamily.com
END:VEVENT
BEGIN:VEVENT
DTSTART;TZID=America/Chicago:20250830T183000
DTEND;TZID=America/Chicago:20250830T213000
DTSTAMP:20260424T135736
CREATED:20250804T000528Z
LAST-MODIFIED:20250804T000528Z
UID:10001423-1756578600-1756589400@churchstreetfamily.com
SUMMARY:Piano Bar at the Shoppe
DESCRIPTION:Join us at the Downtown Wine Shoppe for an unforgettable evening of live piano music\, fine wine\, and great company.  \nSip your favorite vintages\, savor the ambiance\, and socialize with friends in a cozy and vibrant setting.  \nDon’t miss this perfect pairing of music and merriment!
URL:https://churchstreetfamily.com/event/piano-bar-at-the-shoppe-36/
LOCATION:ChurchStreet Wine Shoppe Downtown\, 501 Church Street NW\, Huntsville\, 35801\, United States
ATTACH;FMTTYPE=image/png:https://churchstreetfamily.com/wp-content/uploads/2025/08/PB-08.30.25.png
ORGANIZER;CN="ChurchStreet Family":MAILTO:hello@churchstreetfamily.com
END:VEVENT
END:VCALENDAR