BEGIN:VCALENDAR
VERSION:2.0
PRODID:-//Church Street Family - ECPv6.15.12.2//NONSGML v1.0//EN
CALSCALE:GREGORIAN
METHOD:PUBLISH
X-WR-CALNAME:Church Street Family
X-ORIGINAL-URL:https://churchstreetfamily.com
X-WR-CALDESC:Events for Church Street Family
REFRESH-INTERVAL;VALUE=DURATION:PT1H
X-Robots-Tag:noindex
X-PUBLISHED-TTL:PT1H
BEGIN:VTIMEZONE
TZID:America/Chicago
BEGIN:DAYLIGHT
TZOFFSETFROM:-0600
TZOFFSETTO:-0500
TZNAME:CDT
DTSTART:20250309T080000
END:DAYLIGHT
BEGIN:STANDARD
TZOFFSETFROM:-0500
TZOFFSETTO:-0600
TZNAME:CST
DTSTART:20251102T070000
END:STANDARD
BEGIN:DAYLIGHT
TZOFFSETFROM:-0600
TZOFFSETTO:-0500
TZNAME:CDT
DTSTART:20260308T080000
END:DAYLIGHT
BEGIN:STANDARD
TZOFFSETFROM:-0500
TZOFFSETTO:-0600
TZNAME:CST
DTSTART:20261101T070000
END:STANDARD
BEGIN:DAYLIGHT
TZOFFSETFROM:-0600
TZOFFSETTO:-0500
TZNAME:CDT
DTSTART:20270314T080000
END:DAYLIGHT
BEGIN:STANDARD
TZOFFSETFROM:-0500
TZOFFSETTO:-0600
TZNAME:CST
DTSTART:20271107T070000
END:STANDARD
END:VTIMEZONE
BEGIN:VEVENT
DTSTART;TZID=America/Chicago:20260115T180000
DTEND;TZID=America/Chicago:20260115T210000
DTSTAMP:20260423T202853
CREATED:20251031T190622Z
LAST-MODIFIED:20251202T141751Z
UID:10001480-1768500000-1768510800@churchstreetfamily.com
SUMMARY:Pop the Cork -  10th Annual Largest Bubbles Tasting in Town!
DESCRIPTION:Join us for the 10th Annual – POP THE CORK event – Largest Bubbles Tasting in Huntsville! \nHuntsville Museum of Art  for the 10th Annual Pop the Cork!! \nAn exquisite celebration of sparkling wines and champagnes perfectly paired with a array of delectable small bites. \nImmerse yourself in a night of effervescence as we curate an unforgettable tasting experience that tantalizes the senses. \nTaste 50 sparkling wines & champagnes just in time for the HOLIDAYS!!\n*as well as some port wines!! \nYour amazing selection of sparklings will also be paired with small bites from ChurchStreet Family!! \nENJOY – LIVE MUSIC while sipping! \nYes.. you can purchase the wines too – just in time for the holidays! \nAll featured wines are available for purchase\, allowing you to extend the celebration beyond the event and share these exceptional finds with friends and loved ones. \nPicked up your bottle(s) at Church Street Wine Bar & Bottle Shoppe in Downtown Huntsville! \nGet your ticket HERE! \n*all tickets non refundable
URL:https://churchstreetfamily.com/event/pop-the-cork-10th-annual-largest-bubbles-tasting-in-town/
LOCATION:Huntsville Museum of Art\, 300 Church Street\, Huntsville\, AL\, 35801\, United States
ATTACH;FMTTYPE=image/png:https://churchstreetfamily.com/wp-content/uploads/2022/09/Pop-the-Cork-25-Inst-10yr-7.png
ORGANIZER;CN="ChurchStreet Family":MAILTO:hello@churchstreetfamily.com
END:VEVENT
END:VCALENDAR