BEGIN:VCALENDAR
VERSION:2.0
PRODID:-//Church Street Family - ECPv6.15.12.2//NONSGML v1.0//EN
CALSCALE:GREGORIAN
METHOD:PUBLISH
X-ORIGINAL-URL:https://churchstreetfamily.com
X-WR-CALDESC:Events for Church Street Family
REFRESH-INTERVAL;VALUE=DURATION:PT1H
X-Robots-Tag:noindex
X-PUBLISHED-TTL:PT1H
BEGIN:VTIMEZONE
TZID:America/Chicago
BEGIN:DAYLIGHT
TZOFFSETFROM:-0600
TZOFFSETTO:-0500
TZNAME:CDT
DTSTART:20240310T080000
END:DAYLIGHT
BEGIN:STANDARD
TZOFFSETFROM:-0500
TZOFFSETTO:-0600
TZNAME:CST
DTSTART:20241103T070000
END:STANDARD
BEGIN:DAYLIGHT
TZOFFSETFROM:-0600
TZOFFSETTO:-0500
TZNAME:CDT
DTSTART:20250309T080000
END:DAYLIGHT
BEGIN:STANDARD
TZOFFSETFROM:-0500
TZOFFSETTO:-0600
TZNAME:CST
DTSTART:20251102T070000
END:STANDARD
BEGIN:DAYLIGHT
TZOFFSETFROM:-0600
TZOFFSETTO:-0500
TZNAME:CDT
DTSTART:20260308T080000
END:DAYLIGHT
BEGIN:STANDARD
TZOFFSETFROM:-0500
TZOFFSETTO:-0600
TZNAME:CST
DTSTART:20261101T070000
END:STANDARD
END:VTIMEZONE
BEGIN:VEVENT
DTSTART;TZID=America/Chicago:20251109T160000
DTEND;TZID=America/Chicago:20251109T180000
DTSTAMP:20260424T065410
CREATED:20250131T172026Z
LAST-MODIFIED:20251018T143940Z
UID:10001324-1762704000-1762711200@churchstreetfamily.com
SUMMARY:Purveyor Supper Club - A Study in Paella
DESCRIPTION:Pan & Flame: A Study in Paella | Supper Club Experience \nStep into the fire with Pan & Flame\, an immersive supper club exploring one of Spain’s most celebrated culinary traditions — paella. In this exclusive dining experience\, our chefs reimagine the classic dish four distinct ways: brimming with fresh seafood\, rich and savory chicken\, vibrant vegetarian\, and even a daringly sweet finale. \nEach course is thoughtfully paired with a curated pour\, perfectly selected to elevate the flavors and textures of the pan. From the saffron-scented steam to the irresistible golden crust\, this is more than dinner — it’s a study in craft\, culture\, and fire itself. \nSeats are limited. Join us for an evening where the flame meets the table. \nGet your tickets HERE! \n*all tickets non refundable
URL:https://churchstreetfamily.com/event/supper-club-at-purveyor-a-study-in-paella/
LOCATION:Purveyor\, 201 Jefferson Street N\, Huntsville\, AL\, 35801\, United States
ATTACH;FMTTYPE=image/png:https://churchstreetfamily.com/wp-content/uploads/2025/01/Pan-and-Flame-Supper-Club-25.png
ORGANIZER;CN="ChurchStreet Family":MAILTO:hello@churchstreetfamily.com
END:VEVENT
END:VCALENDAR