BEGIN:VCALENDAR
VERSION:2.0
PRODID:-//Church Street Family - ECPv6.15.12.2//NONSGML v1.0//EN
CALSCALE:GREGORIAN
METHOD:PUBLISH
X-ORIGINAL-URL:https://churchstreetfamily.com
X-WR-CALDESC:Events for Church Street Family
REFRESH-INTERVAL;VALUE=DURATION:PT1H
X-Robots-Tag:noindex
X-PUBLISHED-TTL:PT1H
BEGIN:VTIMEZONE
TZID:America/Chicago
BEGIN:DAYLIGHT
TZOFFSETFROM:-0600
TZOFFSETTO:-0500
TZNAME:CDT
DTSTART:20240310T080000
END:DAYLIGHT
BEGIN:STANDARD
TZOFFSETFROM:-0500
TZOFFSETTO:-0600
TZNAME:CST
DTSTART:20241103T070000
END:STANDARD
BEGIN:DAYLIGHT
TZOFFSETFROM:-0600
TZOFFSETTO:-0500
TZNAME:CDT
DTSTART:20250309T080000
END:DAYLIGHT
BEGIN:STANDARD
TZOFFSETFROM:-0500
TZOFFSETTO:-0600
TZNAME:CST
DTSTART:20251102T070000
END:STANDARD
BEGIN:DAYLIGHT
TZOFFSETFROM:-0600
TZOFFSETTO:-0500
TZNAME:CDT
DTSTART:20260308T080000
END:DAYLIGHT
BEGIN:STANDARD
TZOFFSETFROM:-0500
TZOFFSETTO:-0600
TZNAME:CST
DTSTART:20261101T070000
END:STANDARD
END:VTIMEZONE
BEGIN:VEVENT
DTSTART;TZID=America/Chicago:20251101T130000
DTEND;TZID=America/Chicago:20251101T160000
DTSTAMP:20260424T065711
CREATED:20250922T212812Z
LAST-MODIFIED:20250922T212812Z
UID:10001470-1762002000-1762012800@churchstreetfamily.com
SUMMARY:Athens Food and Wine Festival
DESCRIPTION:Sip\, Savor & Celebrate at the 2nd Annual Athens Food & Wine Festival! 🍷✨ \nJoin us at the vibrant Athens Farmers Market as ChurchStreet Family brings back the Athens Food and Wine Festival for its second year! \nSpend the day sipping exceptional wines\, sampling chef-curated small bites\, and soaking up the sounds of live music—all while mingling with fellow foodies\, wine lovers\, and friends. \nRub elbows with celebrity chefs and renowned wine experts as they share their craft\, their passion\, and their favorite flavors. From bold reds to crisp whites\, and from savory to sweet\, this festival is a feast for the senses. \n✨ Tasting. Toasting. Shopping. Socializing. ✨ \nCome raise a glass at the market—where flavor meets fun! Snag your ticket HERE!
URL:https://churchstreetfamily.com/event/athens-food-and-wine-festival/
LOCATION:Athens Farmers Market\, Athens\, AL
ATTACH;FMTTYPE=image/png:https://churchstreetfamily.com/wp-content/uploads/2025/09/big-NEWS-tomorrow-2-2.png
ORGANIZER;CN="ChurchStreet Family":MAILTO:hello@churchstreetfamily.com
END:VEVENT
BEGIN:VEVENT
DTSTART;TZID=America/Chicago:20251101T183000
DTEND;TZID=America/Chicago:20251101T213000
DTSTAMP:20260424T065711
CREATED:20250918T213101Z
LAST-MODIFIED:20250918T213101Z
UID:10001466-1762021800-1762032600@churchstreetfamily.com
SUMMARY:Piano Bar at the Shoppe
DESCRIPTION:Join us at the Downtown Wine Shoppe for an unforgettable evening of live piano music\, fine wine\, and great company. Sip your favorite vintages\, savor the ambiance\, and socialize with friends in a cozy and vibrant setting. \n Don’t miss this perfect pairing of music and merriment!
URL:https://churchstreetfamily.com/event/piano-bar-at-the-shoppe-54/
LOCATION:ChurchStreet Wine Shoppe Downtown\, 501 Church Street NW\, Huntsville\, 35801\, United States
ATTACH;FMTTYPE=image/png:https://churchstreetfamily.com/wp-content/uploads/2025/09/PB-11.01.25.png
ORGANIZER;CN="ChurchStreet Family":MAILTO:hello@churchstreetfamily.com
END:VEVENT
END:VCALENDAR