BEGIN:VCALENDAR
VERSION:2.0
PRODID:-//Church Street Family - ECPv6.15.12.2//NONSGML v1.0//EN
CALSCALE:GREGORIAN
METHOD:PUBLISH
X-ORIGINAL-URL:https://churchstreetfamily.com
X-WR-CALDESC:Events for Church Street Family
REFRESH-INTERVAL;VALUE=DURATION:PT1H
X-Robots-Tag:noindex
X-PUBLISHED-TTL:PT1H
BEGIN:VTIMEZONE
TZID:America/Chicago
BEGIN:DAYLIGHT
TZOFFSETFROM:-0600
TZOFFSETTO:-0500
TZNAME:CDT
DTSTART:20240310T080000
END:DAYLIGHT
BEGIN:STANDARD
TZOFFSETFROM:-0500
TZOFFSETTO:-0600
TZNAME:CST
DTSTART:20241103T070000
END:STANDARD
BEGIN:DAYLIGHT
TZOFFSETFROM:-0600
TZOFFSETTO:-0500
TZNAME:CDT
DTSTART:20250309T080000
END:DAYLIGHT
BEGIN:STANDARD
TZOFFSETFROM:-0500
TZOFFSETTO:-0600
TZNAME:CST
DTSTART:20251102T070000
END:STANDARD
BEGIN:DAYLIGHT
TZOFFSETFROM:-0600
TZOFFSETTO:-0500
TZNAME:CDT
DTSTART:20260308T080000
END:DAYLIGHT
BEGIN:STANDARD
TZOFFSETFROM:-0500
TZOFFSETTO:-0600
TZNAME:CST
DTSTART:20261101T070000
END:STANDARD
END:VTIMEZONE
BEGIN:VEVENT
DTSTART;TZID=America/Chicago:20250910T180000
DTEND;TZID=America/Chicago:20250910T200000
DTSTAMP:20260424T225903
CREATED:20250827T141637Z
LAST-MODIFIED:20250827T141637Z
UID:10001431-1757527200-1757534400@churchstreetfamily.com
SUMMARY:Wine Dinner - Rock the Vine
DESCRIPTION:Join us for Rock the Vine Wine Dinner! 🍷✨ \nWe’re thrilled to feature Blue Rock Wines\, with special guest Shelly Kelly\, National Sales & Marketing Manager. \nEnjoy an unforgettable evening as we explore distinctive vintages born from blue pebble and serpentine rock soils—wines that truly embody their terroir. Each pour will be perfectly paired with a curated multi-course dinner designed to showcase the depth\, character\, and elegance of Blue Rock’s portfolio. \nThis experience will rock your world—reserve your seat HERE! \n*all tickets non-refundable
URL:https://churchstreetfamily.com/event/wine-dinner-rock-the-vine/
LOCATION:Li’l Mazzara’s\, 102 Washington St E\, Athens\, AL\, 35611\, United States
ATTACH;FMTTYPE=image/png:https://churchstreetfamily.com/wp-content/uploads/2025/08/Rock-the-Vine-Graphic.png
ORGANIZER;CN="ChurchStreet Family":MAILTO:hello@churchstreetfamily.com
END:VEVENT
END:VCALENDAR