BEGIN:VCALENDAR
VERSION:2.0
PRODID:-//Church Street Family - ECPv6.15.12.2//NONSGML v1.0//EN
CALSCALE:GREGORIAN
METHOD:PUBLISH
X-WR-CALNAME:Church Street Family
X-ORIGINAL-URL:https://churchstreetfamily.com
X-WR-CALDESC:Events for Church Street Family
REFRESH-INTERVAL;VALUE=DURATION:PT1H
X-Robots-Tag:noindex
X-PUBLISHED-TTL:PT1H
BEGIN:VTIMEZONE
TZID:America/Chicago
BEGIN:DAYLIGHT
TZOFFSETFROM:-0600
TZOFFSETTO:-0500
TZNAME:CDT
DTSTART:20240310T080000
END:DAYLIGHT
BEGIN:STANDARD
TZOFFSETFROM:-0500
TZOFFSETTO:-0600
TZNAME:CST
DTSTART:20241103T070000
END:STANDARD
BEGIN:DAYLIGHT
TZOFFSETFROM:-0600
TZOFFSETTO:-0500
TZNAME:CDT
DTSTART:20250309T080000
END:DAYLIGHT
BEGIN:STANDARD
TZOFFSETFROM:-0500
TZOFFSETTO:-0600
TZNAME:CST
DTSTART:20251102T070000
END:STANDARD
BEGIN:DAYLIGHT
TZOFFSETFROM:-0600
TZOFFSETTO:-0500
TZNAME:CDT
DTSTART:20260308T080000
END:DAYLIGHT
BEGIN:STANDARD
TZOFFSETFROM:-0500
TZOFFSETTO:-0600
TZNAME:CST
DTSTART:20261101T070000
END:STANDARD
END:VTIMEZONE
BEGIN:VEVENT
DTSTART;TZID=America/Chicago:20250902T180000
DTEND;TZID=America/Chicago:20250902T200000
DTSTAMP:20260424T161736
CREATED:20250812T133753Z
LAST-MODIFIED:20250812T225157Z
UID:10001428-1756836000-1756843200@churchstreetfamily.com
SUMMARY:Winemaker Dinner with R Stuart at Purveyor
DESCRIPTION:Meet the Winemaker: Rob Stuart \nStep into an unforgettable evening of wine\, flavor\, and conversation as we welcome Rob Stuart to the heart of downtown. \nEnjoy a 4-course\, chef-curated dinner\, each plate perfectly paired with a signature R. Stuart pour. Between courses\, hear Rob share his stories\, passion\, and expertise\, giving you an inside look at the artistry and craft behind every bottle. \n✨ The Experience: An intimate\, limited-seat setting with the winemaker himself\, 4 exceptional courses\, thoughtfully paired with R. Stuart wines\, fascinating stories and insights from vine to glass\, a night of connection\, education\, and indulgence. \nSeats are limited—reserve yours now and join us for a night that celebrates the true art of wine.
URL:https://churchstreetfamily.com/event/winemaker-dinner-with-r-stuart-at-purveyor/
LOCATION:Purveyor\, 201 Jefferson Street N\, Huntsville\, AL\, 35801\, United States
ATTACH;FMTTYPE=image/png:https://churchstreetfamily.com/wp-content/uploads/2025/08/R-Stuart-25-PV-1.png
ORGANIZER;CN="ChurchStreet Family":MAILTO:hello@churchstreetfamily.com
END:VEVENT
END:VCALENDAR